BEGIN:VCALENDAR
VERSION:2.0
PRODID:-//Nevada Arts Council - ECPv6.15.17//NONSGML v1.0//EN
CALSCALE:GREGORIAN
METHOD:PUBLISH
X-ORIGINAL-URL:https://www.nvartscouncil.org
X-WR-CALDESC:Events for Nevada Arts Council
REFRESH-INTERVAL;VALUE=DURATION:PT1H
X-Robots-Tag:noindex
X-PUBLISHED-TTL:PT1H
BEGIN:VTIMEZONE
TZID:America/Los_Angeles
BEGIN:DAYLIGHT
TZOFFSETFROM:-0800
TZOFFSETTO:-0700
TZNAME:PDT
DTSTART:20200308T100000
END:DAYLIGHT
BEGIN:STANDARD
TZOFFSETFROM:-0700
TZOFFSETTO:-0800
TZNAME:PST
DTSTART:20201101T090000
END:STANDARD
BEGIN:DAYLIGHT
TZOFFSETFROM:-0800
TZOFFSETTO:-0700
TZNAME:PDT
DTSTART:20210314T100000
END:DAYLIGHT
BEGIN:STANDARD
TZOFFSETFROM:-0700
TZOFFSETTO:-0800
TZNAME:PST
DTSTART:20211107T090000
END:STANDARD
BEGIN:DAYLIGHT
TZOFFSETFROM:-0800
TZOFFSETTO:-0700
TZNAME:PDT
DTSTART:20220313T100000
END:DAYLIGHT
BEGIN:STANDARD
TZOFFSETFROM:-0700
TZOFFSETTO:-0800
TZNAME:PST
DTSTART:20221106T090000
END:STANDARD
END:VTIMEZONE
BEGIN:VEVENT
DTSTART;TZID=America/Los_Angeles:20211022T193000
DTEND;TZID=America/Los_Angeles:20211022T213000
DTSTAMP:20260422T064445
CREATED:20210930T163138Z
LAST-MODIFIED:20210930T163138Z
UID:28125-1634931000-1634938200@www.nvartscouncil.org
SUMMARY:Contemporary West Dance Theater Fall Concert 2021
DESCRIPTION:Contemporary West Dance Theater (CWDT)\, in collaboration with the city of Las Vegas\, is one of the first Artists in Residence at the Charleston Heights Arts Center. CWDT will rehearse\, perform and continue its mission to cultivate multicultural performing arts programming for the Las Vegas community. Over the last 15 years\, CWDT has aspired to increase its creative impact within the Las Vegas local arts community by raising the bar of artistic excellence. The collaboration between the city of Las Vegas and CWDT continues to elevate the company’s status as a creative force and permanent fixture in the city. Under the leadership of Ally Haynes- Hamblen (Director of Cultural Affairs)\, CWDT Founder and Artistic Director Bernard Gaddis\, CWDT will present its first in person concert October 22 – 23\, 2021 since covid-19. Masks and proof of Vaccinations are required to attend. Tickets go on sale August 24\, 2021. The Program will consist of two world-premieres\, “Liaison” by founder and artistic director Bernard H. Gaddis\, “Our Time” choreographed by the company’s Ballet master Don Bellamy\, the premiere of “Shards” by Donald Byrd and a remount of “Night Creature” created by famed choreographer Alvin Ailey. Tickets prices range from $10.00 – $25.00. Curtain Times are 7:30pm. Tickets can be purchased online or at the Charleston Heights Arts Center front desk.
URL:https://www.nvartscouncil.org/event/contemporary-west-dance-theater-fall-concert-2021/2021-10-22/
LOCATION:Charleston Heights Arts Center\, 800 Brush St.\, Las Vegas\, NV\, 89107\, United States
CATEGORIES:Performing
ATTACH;FMTTYPE=image/jpeg:https://www.nvartscouncil.org/wp-content/uploads/Picture1.jpg
ORGANIZER;CN="Contemporary West Dance Theater":MAILTO:info@lvdance.org
END:VEVENT
END:VCALENDAR