BEGIN:VCALENDAR
VERSION:2.0
PRODID:-//Nevada Arts Council - ECPv6.15.17//NONSGML v1.0//EN
CALSCALE:GREGORIAN
METHOD:PUBLISH
X-ORIGINAL-URL:https://www.nvartscouncil.org
X-WR-CALDESC:Events for Nevada Arts Council
REFRESH-INTERVAL;VALUE=DURATION:PT1H
X-Robots-Tag:noindex
X-PUBLISHED-TTL:PT1H
BEGIN:VTIMEZONE
TZID:America/Los_Angeles
BEGIN:DAYLIGHT
TZOFFSETFROM:-0800
TZOFFSETTO:-0700
TZNAME:PDT
DTSTART:20240310T100000
END:DAYLIGHT
BEGIN:STANDARD
TZOFFSETFROM:-0700
TZOFFSETTO:-0800
TZNAME:PST
DTSTART:20241103T090000
END:STANDARD
BEGIN:DAYLIGHT
TZOFFSETFROM:-0800
TZOFFSETTO:-0700
TZNAME:PDT
DTSTART:20250309T100000
END:DAYLIGHT
BEGIN:STANDARD
TZOFFSETFROM:-0700
TZOFFSETTO:-0800
TZNAME:PST
DTSTART:20251102T090000
END:STANDARD
BEGIN:DAYLIGHT
TZOFFSETFROM:-0800
TZOFFSETTO:-0700
TZNAME:PDT
DTSTART:20260308T100000
END:DAYLIGHT
BEGIN:STANDARD
TZOFFSETFROM:-0700
TZOFFSETTO:-0800
TZNAME:PST
DTSTART:20261101T090000
END:STANDARD
END:VTIMEZONE
BEGIN:VEVENT
DTSTART;TZID=America/Los_Angeles:20251228T140000
DTEND;TZID=America/Los_Angeles:20251228T160000
DTSTAMP:20260422T140450
CREATED:20250926T205122Z
LAST-MODIFIED:20250926T205122Z
UID:74140-1766930400-1766937600@www.nvartscouncil.org
SUMMARY:Nevada Ballet Theatre Presents George Balanchine's "The Nutcracker®"
DESCRIPTION:A local holiday tradition meets an iconic American classic! Witness history unfold as the brilliance of Balanchine’s time-honored version descends upon Las Vegas\, ushering in a magnificent new era of holiday magic. NBT’s premiere of George Balanchine’s The Nutcracker® features his renowned choreography with spectacular scenic and costume design reflective of the art deco spirit of the 1930s. Revered characters including Dewdrop\, The Sugarplum Fairy\, Mother Ginger and her Polichinelles\, and Divertissements like Coffee\, Tea\, and Hot Chocolate\, lead young Marie Stahlbaum and her Nutcracker Prince through The Land of the Sweets for a journey of pure imagination and childlike wonder. State-of-the-art technology illuminates Tchaikovsky’s sweeping score to create a holiday spectacle for the decades that is both innovative and timeless.
URL:https://www.nvartscouncil.org/event/nevada-ballet-theatre-presents-george-balanchines-the-nutcracker/2025-12-28/
LOCATION:Reynolds Hall at The Smith Center\, 361 Symphony Park Ave.\, Las Vegas\, NV\, 89106\, United States
CATEGORIES:Performing
ATTACH;FMTTYPE=image/jpeg:https://www.nvartscouncil.org/wp-content/uploads/nut-press-release-social-assets_1080-1350-package-scaled.jpg
END:VEVENT
BEGIN:VEVENT
DTSTART;TZID=America/Los_Angeles:20251227T193000
DTEND;TZID=America/Los_Angeles:20251227T213000
DTSTAMP:20260422T140450
CREATED:20250926T205121Z
LAST-MODIFIED:20250926T205121Z
UID:74139-1766863800-1766871000@www.nvartscouncil.org
SUMMARY:Nevada Ballet Theatre Presents George Balanchine's "The Nutcracker®"
DESCRIPTION:A local holiday tradition meets an iconic American classic! Witness history unfold as the brilliance of Balanchine’s time-honored version descends upon Las Vegas\, ushering in a magnificent new era of holiday magic. NBT’s premiere of George Balanchine’s The Nutcracker® features his renowned choreography with spectacular scenic and costume design reflective of the art deco spirit of the 1930s. Revered characters including Dewdrop\, The Sugarplum Fairy\, Mother Ginger and her Polichinelles\, and Divertissements like Coffee\, Tea\, and Hot Chocolate\, lead young Marie Stahlbaum and her Nutcracker Prince through The Land of the Sweets for a journey of pure imagination and childlike wonder. State-of-the-art technology illuminates Tchaikovsky’s sweeping score to create a holiday spectacle for the decades that is both innovative and timeless.
URL:https://www.nvartscouncil.org/event/nevada-ballet-theatre-presents-george-balanchines-the-nutcracker/2025-12-27/6/
LOCATION:Reynolds Hall at The Smith Center\, 361 Symphony Park Ave.\, Las Vegas\, NV\, 89106\, United States
CATEGORIES:Performing
ATTACH;FMTTYPE=image/jpeg:https://www.nvartscouncil.org/wp-content/uploads/nut-press-release-social-assets_1080-1350-package-scaled.jpg
END:VEVENT
BEGIN:VEVENT
DTSTART;TZID=America/Los_Angeles:20251227T140000
DTEND;TZID=America/Los_Angeles:20251227T160000
DTSTAMP:20260422T140450
CREATED:20250926T205121Z
LAST-MODIFIED:20250926T205121Z
UID:74138-1766844000-1766851200@www.nvartscouncil.org
SUMMARY:Nevada Ballet Theatre Presents George Balanchine's "The Nutcracker®"
DESCRIPTION:A local holiday tradition meets an iconic American classic! Witness history unfold as the brilliance of Balanchine’s time-honored version descends upon Las Vegas\, ushering in a magnificent new era of holiday magic. NBT’s premiere of George Balanchine’s The Nutcracker® features his renowned choreography with spectacular scenic and costume design reflective of the art deco spirit of the 1930s. Revered characters including Dewdrop\, The Sugarplum Fairy\, Mother Ginger and her Polichinelles\, and Divertissements like Coffee\, Tea\, and Hot Chocolate\, lead young Marie Stahlbaum and her Nutcracker Prince through The Land of the Sweets for a journey of pure imagination and childlike wonder. State-of-the-art technology illuminates Tchaikovsky’s sweeping score to create a holiday spectacle for the decades that is both innovative and timeless.
URL:https://www.nvartscouncil.org/event/nevada-ballet-theatre-presents-george-balanchines-the-nutcracker/2025-12-27/
LOCATION:Reynolds Hall at The Smith Center\, 361 Symphony Park Ave.\, Las Vegas\, NV\, 89106\, United States
CATEGORIES:Performing
ATTACH;FMTTYPE=image/jpeg:https://www.nvartscouncil.org/wp-content/uploads/nut-press-release-social-assets_1080-1350-package-scaled.jpg
END:VEVENT
BEGIN:VEVENT
DTSTART;TZID=America/Los_Angeles:20251226T193000
DTEND;TZID=America/Los_Angeles:20251226T213000
DTSTAMP:20260422T140450
CREATED:20250926T205121Z
LAST-MODIFIED:20250926T205121Z
UID:74137-1766777400-1766784600@www.nvartscouncil.org
SUMMARY:Nevada Ballet Theatre Presents George Balanchine's "The Nutcracker®"
DESCRIPTION:A local holiday tradition meets an iconic American classic! Witness history unfold as the brilliance of Balanchine’s time-honored version descends upon Las Vegas\, ushering in a magnificent new era of holiday magic. NBT’s premiere of George Balanchine’s The Nutcracker® features his renowned choreography with spectacular scenic and costume design reflective of the art deco spirit of the 1930s. Revered characters including Dewdrop\, The Sugarplum Fairy\, Mother Ginger and her Polichinelles\, and Divertissements like Coffee\, Tea\, and Hot Chocolate\, lead young Marie Stahlbaum and her Nutcracker Prince through The Land of the Sweets for a journey of pure imagination and childlike wonder. State-of-the-art technology illuminates Tchaikovsky’s sweeping score to create a holiday spectacle for the decades that is both innovative and timeless.
URL:https://www.nvartscouncil.org/event/nevada-ballet-theatre-presents-george-balanchines-the-nutcracker/2025-12-26/5/
LOCATION:Reynolds Hall at The Smith Center\, 361 Symphony Park Ave.\, Las Vegas\, NV\, 89106\, United States
CATEGORIES:Performing
ATTACH;FMTTYPE=image/jpeg:https://www.nvartscouncil.org/wp-content/uploads/nut-press-release-social-assets_1080-1350-package-scaled.jpg
END:VEVENT
BEGIN:VEVENT
DTSTART;TZID=America/Los_Angeles:20251226T140000
DTEND;TZID=America/Los_Angeles:20251226T160000
DTSTAMP:20260422T140450
CREATED:20250926T205120Z
LAST-MODIFIED:20250926T205120Z
UID:74136-1766757600-1766764800@www.nvartscouncil.org
SUMMARY:Nevada Ballet Theatre Presents George Balanchine's "The Nutcracker®"
DESCRIPTION:A local holiday tradition meets an iconic American classic! Witness history unfold as the brilliance of Balanchine’s time-honored version descends upon Las Vegas\, ushering in a magnificent new era of holiday magic. NBT’s premiere of George Balanchine’s The Nutcracker® features his renowned choreography with spectacular scenic and costume design reflective of the art deco spirit of the 1930s. Revered characters including Dewdrop\, The Sugarplum Fairy\, Mother Ginger and her Polichinelles\, and Divertissements like Coffee\, Tea\, and Hot Chocolate\, lead young Marie Stahlbaum and her Nutcracker Prince through The Land of the Sweets for a journey of pure imagination and childlike wonder. State-of-the-art technology illuminates Tchaikovsky’s sweeping score to create a holiday spectacle for the decades that is both innovative and timeless.
URL:https://www.nvartscouncil.org/event/nevada-ballet-theatre-presents-george-balanchines-the-nutcracker/2025-12-26/
LOCATION:Reynolds Hall at The Smith Center\, 361 Symphony Park Ave.\, Las Vegas\, NV\, 89106\, United States
CATEGORIES:Performing
ATTACH;FMTTYPE=image/jpeg:https://www.nvartscouncil.org/wp-content/uploads/nut-press-release-social-assets_1080-1350-package-scaled.jpg
END:VEVENT
BEGIN:VEVENT
DTSTART;TZID=America/Los_Angeles:20251224T140000
DTEND;TZID=America/Los_Angeles:20251224T160000
DTSTAMP:20260422T140450
CREATED:20250926T205120Z
LAST-MODIFIED:20250926T205120Z
UID:74135-1766584800-1766592000@www.nvartscouncil.org
SUMMARY:Nevada Ballet Theatre Presents George Balanchine's "The Nutcracker®"
DESCRIPTION:A local holiday tradition meets an iconic American classic! Witness history unfold as the brilliance of Balanchine’s time-honored version descends upon Las Vegas\, ushering in a magnificent new era of holiday magic. NBT’s premiere of George Balanchine’s The Nutcracker® features his renowned choreography with spectacular scenic and costume design reflective of the art deco spirit of the 1930s. Revered characters including Dewdrop\, The Sugarplum Fairy\, Mother Ginger and her Polichinelles\, and Divertissements like Coffee\, Tea\, and Hot Chocolate\, lead young Marie Stahlbaum and her Nutcracker Prince through The Land of the Sweets for a journey of pure imagination and childlike wonder. State-of-the-art technology illuminates Tchaikovsky’s sweeping score to create a holiday spectacle for the decades that is both innovative and timeless.
URL:https://www.nvartscouncil.org/event/nevada-ballet-theatre-presents-george-balanchines-the-nutcracker/2025-12-24/
LOCATION:Reynolds Hall at The Smith Center\, 361 Symphony Park Ave.\, Las Vegas\, NV\, 89106\, United States
CATEGORIES:Performing
ATTACH;FMTTYPE=image/jpeg:https://www.nvartscouncil.org/wp-content/uploads/nut-press-release-social-assets_1080-1350-package-scaled.jpg
END:VEVENT
BEGIN:VEVENT
DTSTART;TZID=America/Los_Angeles:20251223T193000
DTEND;TZID=America/Los_Angeles:20251223T213000
DTSTAMP:20260422T140450
CREATED:20250926T205115Z
LAST-MODIFIED:20250926T205115Z
UID:74053-1766518200-1766525400@www.nvartscouncil.org
SUMMARY:Nevada Ballet Theatre Presents George Balanchine's "The Nutcracker®"
DESCRIPTION:A local holiday tradition meets an iconic American classic! Witness history unfold as the brilliance of Balanchine’s time-honored version descends upon Las Vegas\, ushering in a magnificent new era of holiday magic. NBT’s premiere of George Balanchine’s The Nutcracker® features his renowned choreography with spectacular scenic and costume design reflective of the art deco spirit of the 1930s. Revered characters including Dewdrop\, The Sugarplum Fairy\, Mother Ginger and her Polichinelles\, and Divertissements like Coffee\, Tea\, and Hot Chocolate\, lead young Marie Stahlbaum and her Nutcracker Prince through The Land of the Sweets for a journey of pure imagination and childlike wonder. State-of-the-art technology illuminates Tchaikovsky’s sweeping score to create a holiday spectacle for the decades that is both innovative and timeless.
URL:https://www.nvartscouncil.org/event/nevada-ballet-theatre-presents-george-balanchines-the-nutcracker/2025-12-23/4/
LOCATION:Reynolds Hall at The Smith Center\, 361 Symphony Park Ave.\, Las Vegas\, NV\, 89106\, United States
CATEGORIES:Performing
ATTACH;FMTTYPE=image/jpeg:https://www.nvartscouncil.org/wp-content/uploads/nut-press-release-social-assets_1080-1350-package-scaled.jpg
END:VEVENT
BEGIN:VEVENT
DTSTART;TZID=America/Los_Angeles:20251223T140000
DTEND;TZID=America/Los_Angeles:20251223T160000
DTSTAMP:20260422T140450
CREATED:20250926T205115Z
LAST-MODIFIED:20250926T205115Z
UID:74052-1766498400-1766505600@www.nvartscouncil.org
SUMMARY:Nevada Ballet Theatre Presents George Balanchine's "The Nutcracker®"
DESCRIPTION:A local holiday tradition meets an iconic American classic! Witness history unfold as the brilliance of Balanchine’s time-honored version descends upon Las Vegas\, ushering in a magnificent new era of holiday magic. NBT’s premiere of George Balanchine’s The Nutcracker® features his renowned choreography with spectacular scenic and costume design reflective of the art deco spirit of the 1930s. Revered characters including Dewdrop\, The Sugarplum Fairy\, Mother Ginger and her Polichinelles\, and Divertissements like Coffee\, Tea\, and Hot Chocolate\, lead young Marie Stahlbaum and her Nutcracker Prince through The Land of the Sweets for a journey of pure imagination and childlike wonder. State-of-the-art technology illuminates Tchaikovsky’s sweeping score to create a holiday spectacle for the decades that is both innovative and timeless.
URL:https://www.nvartscouncil.org/event/nevada-ballet-theatre-presents-george-balanchines-the-nutcracker/2025-12-23/
LOCATION:Reynolds Hall at The Smith Center\, 361 Symphony Park Ave.\, Las Vegas\, NV\, 89106\, United States
CATEGORIES:Performing
ATTACH;FMTTYPE=image/jpeg:https://www.nvartscouncil.org/wp-content/uploads/nut-press-release-social-assets_1080-1350-package-scaled.jpg
END:VEVENT
BEGIN:VEVENT
DTSTART;TZID=America/Los_Angeles:20251221T140000
DTEND;TZID=America/Los_Angeles:20251221T160000
DTSTAMP:20260422T140450
CREATED:20250926T205114Z
LAST-MODIFIED:20250926T205114Z
UID:74051-1766325600-1766332800@www.nvartscouncil.org
SUMMARY:Nevada Ballet Theatre Presents George Balanchine's "The Nutcracker®"
DESCRIPTION:A local holiday tradition meets an iconic American classic! Witness history unfold as the brilliance of Balanchine’s time-honored version descends upon Las Vegas\, ushering in a magnificent new era of holiday magic. NBT’s premiere of George Balanchine’s The Nutcracker® features his renowned choreography with spectacular scenic and costume design reflective of the art deco spirit of the 1930s. Revered characters including Dewdrop\, The Sugarplum Fairy\, Mother Ginger and her Polichinelles\, and Divertissements like Coffee\, Tea\, and Hot Chocolate\, lead young Marie Stahlbaum and her Nutcracker Prince through The Land of the Sweets for a journey of pure imagination and childlike wonder. State-of-the-art technology illuminates Tchaikovsky’s sweeping score to create a holiday spectacle for the decades that is both innovative and timeless.
URL:https://www.nvartscouncil.org/event/nevada-ballet-theatre-presents-george-balanchines-the-nutcracker/2025-12-21/
LOCATION:Reynolds Hall at The Smith Center\, 361 Symphony Park Ave.\, Las Vegas\, NV\, 89106\, United States
CATEGORIES:Performing
ATTACH;FMTTYPE=image/jpeg:https://www.nvartscouncil.org/wp-content/uploads/nut-press-release-social-assets_1080-1350-package-scaled.jpg
END:VEVENT
BEGIN:VEVENT
DTSTART;TZID=America/Los_Angeles:20251220T193000
DTEND;TZID=America/Los_Angeles:20251220T213000
DTSTAMP:20260422T140450
CREATED:20250926T205114Z
LAST-MODIFIED:20250926T205114Z
UID:74050-1766259000-1766266200@www.nvartscouncil.org
SUMMARY:Nevada Ballet Theatre Presents George Balanchine's "The Nutcracker®"
DESCRIPTION:A local holiday tradition meets an iconic American classic! Witness history unfold as the brilliance of Balanchine’s time-honored version descends upon Las Vegas\, ushering in a magnificent new era of holiday magic. NBT’s premiere of George Balanchine’s The Nutcracker® features his renowned choreography with spectacular scenic and costume design reflective of the art deco spirit of the 1930s. Revered characters including Dewdrop\, The Sugarplum Fairy\, Mother Ginger and her Polichinelles\, and Divertissements like Coffee\, Tea\, and Hot Chocolate\, lead young Marie Stahlbaum and her Nutcracker Prince through The Land of the Sweets for a journey of pure imagination and childlike wonder. State-of-the-art technology illuminates Tchaikovsky’s sweeping score to create a holiday spectacle for the decades that is both innovative and timeless.
URL:https://www.nvartscouncil.org/event/nevada-ballet-theatre-presents-george-balanchines-the-nutcracker/2025-12-20/3/
LOCATION:Reynolds Hall at The Smith Center\, 361 Symphony Park Ave.\, Las Vegas\, NV\, 89106\, United States
CATEGORIES:Performing
ATTACH;FMTTYPE=image/jpeg:https://www.nvartscouncil.org/wp-content/uploads/nut-press-release-social-assets_1080-1350-package-scaled.jpg
END:VEVENT
BEGIN:VEVENT
DTSTART;TZID=America/Los_Angeles:20251220T140000
DTEND;TZID=America/Los_Angeles:20251220T160000
DTSTAMP:20260422T140450
CREATED:20250926T205114Z
LAST-MODIFIED:20250926T205114Z
UID:74049-1766239200-1766246400@www.nvartscouncil.org
SUMMARY:Nevada Ballet Theatre Presents George Balanchine's "The Nutcracker®"
DESCRIPTION:A local holiday tradition meets an iconic American classic! Witness history unfold as the brilliance of Balanchine’s time-honored version descends upon Las Vegas\, ushering in a magnificent new era of holiday magic. NBT’s premiere of George Balanchine’s The Nutcracker® features his renowned choreography with spectacular scenic and costume design reflective of the art deco spirit of the 1930s. Revered characters including Dewdrop\, The Sugarplum Fairy\, Mother Ginger and her Polichinelles\, and Divertissements like Coffee\, Tea\, and Hot Chocolate\, lead young Marie Stahlbaum and her Nutcracker Prince through The Land of the Sweets for a journey of pure imagination and childlike wonder. State-of-the-art technology illuminates Tchaikovsky’s sweeping score to create a holiday spectacle for the decades that is both innovative and timeless.
URL:https://www.nvartscouncil.org/event/nevada-ballet-theatre-presents-george-balanchines-the-nutcracker/2025-12-20/
LOCATION:Reynolds Hall at The Smith Center\, 361 Symphony Park Ave.\, Las Vegas\, NV\, 89106\, United States
CATEGORIES:Performing
ATTACH;FMTTYPE=image/jpeg:https://www.nvartscouncil.org/wp-content/uploads/nut-press-release-social-assets_1080-1350-package-scaled.jpg
END:VEVENT
BEGIN:VEVENT
DTSTART;TZID=America/Los_Angeles:20251219T193000
DTEND;TZID=America/Los_Angeles:20251219T213000
DTSTAMP:20260422T140450
CREATED:20250926T205113Z
LAST-MODIFIED:20250926T205113Z
UID:74048-1766172600-1766179800@www.nvartscouncil.org
SUMMARY:Nevada Ballet Theatre Presents George Balanchine's "The Nutcracker®"
DESCRIPTION:A local holiday tradition meets an iconic American classic! Witness history unfold as the brilliance of Balanchine’s time-honored version descends upon Las Vegas\, ushering in a magnificent new era of holiday magic. NBT’s premiere of George Balanchine’s The Nutcracker® features his renowned choreography with spectacular scenic and costume design reflective of the art deco spirit of the 1930s. Revered characters including Dewdrop\, The Sugarplum Fairy\, Mother Ginger and her Polichinelles\, and Divertissements like Coffee\, Tea\, and Hot Chocolate\, lead young Marie Stahlbaum and her Nutcracker Prince through The Land of the Sweets for a journey of pure imagination and childlike wonder. State-of-the-art technology illuminates Tchaikovsky’s sweeping score to create a holiday spectacle for the decades that is both innovative and timeless.
URL:https://www.nvartscouncil.org/event/nevada-ballet-theatre-presents-george-balanchines-the-nutcracker/2025-12-19/
LOCATION:Reynolds Hall at The Smith Center\, 361 Symphony Park Ave.\, Las Vegas\, NV\, 89106\, United States
CATEGORIES:Performing
ATTACH;FMTTYPE=image/jpeg:https://www.nvartscouncil.org/wp-content/uploads/nut-press-release-social-assets_1080-1350-package-scaled.jpg
END:VEVENT
BEGIN:VEVENT
DTSTART;TZID=America/Los_Angeles:20251218T193000
DTEND;TZID=America/Los_Angeles:20251218T213000
DTSTAMP:20260422T140450
CREATED:20250926T205113Z
LAST-MODIFIED:20250926T205113Z
UID:74047-1766086200-1766093400@www.nvartscouncil.org
SUMMARY:Nevada Ballet Theatre Presents George Balanchine's "The Nutcracker®"
DESCRIPTION:A local holiday tradition meets an iconic American classic! Witness history unfold as the brilliance of Balanchine’s time-honored version descends upon Las Vegas\, ushering in a magnificent new era of holiday magic. NBT’s premiere of George Balanchine’s The Nutcracker® features his renowned choreography with spectacular scenic and costume design reflective of the art deco spirit of the 1930s. Revered characters including Dewdrop\, The Sugarplum Fairy\, Mother Ginger and her Polichinelles\, and Divertissements like Coffee\, Tea\, and Hot Chocolate\, lead young Marie Stahlbaum and her Nutcracker Prince through The Land of the Sweets for a journey of pure imagination and childlike wonder. State-of-the-art technology illuminates Tchaikovsky’s sweeping score to create a holiday spectacle for the decades that is both innovative and timeless.
URL:https://www.nvartscouncil.org/event/nevada-ballet-theatre-presents-george-balanchines-the-nutcracker/2025-12-18/
LOCATION:Reynolds Hall at The Smith Center\, 361 Symphony Park Ave.\, Las Vegas\, NV\, 89106\, United States
CATEGORIES:Performing
ATTACH;FMTTYPE=image/jpeg:https://www.nvartscouncil.org/wp-content/uploads/nut-press-release-social-assets_1080-1350-package-scaled.jpg
END:VEVENT
BEGIN:VEVENT
DTSTART;TZID=America/Los_Angeles:20251217T193000
DTEND;TZID=America/Los_Angeles:20251217T213000
DTSTAMP:20260422T140450
CREATED:20250926T205113Z
LAST-MODIFIED:20250926T205113Z
UID:74046-1765999800-1766007000@www.nvartscouncil.org
SUMMARY:Nevada Ballet Theatre Presents George Balanchine's "The Nutcracker®"
DESCRIPTION:A local holiday tradition meets an iconic American classic! Witness history unfold as the brilliance of Balanchine’s time-honored version descends upon Las Vegas\, ushering in a magnificent new era of holiday magic. NBT’s premiere of George Balanchine’s The Nutcracker® features his renowned choreography with spectacular scenic and costume design reflective of the art deco spirit of the 1930s. Revered characters including Dewdrop\, The Sugarplum Fairy\, Mother Ginger and her Polichinelles\, and Divertissements like Coffee\, Tea\, and Hot Chocolate\, lead young Marie Stahlbaum and her Nutcracker Prince through The Land of the Sweets for a journey of pure imagination and childlike wonder. State-of-the-art technology illuminates Tchaikovsky’s sweeping score to create a holiday spectacle for the decades that is both innovative and timeless.
URL:https://www.nvartscouncil.org/event/nevada-ballet-theatre-presents-george-balanchines-the-nutcracker/2025-12-17/
LOCATION:Reynolds Hall at The Smith Center\, 361 Symphony Park Ave.\, Las Vegas\, NV\, 89106\, United States
CATEGORIES:Performing
ATTACH;FMTTYPE=image/jpeg:https://www.nvartscouncil.org/wp-content/uploads/nut-press-release-social-assets_1080-1350-package-scaled.jpg
END:VEVENT
BEGIN:VEVENT
DTSTART;TZID=America/Los_Angeles:20251214T190000
DTEND;TZID=America/Los_Angeles:20251214T210000
DTSTAMP:20260422T140450
CREATED:20250926T205112Z
LAST-MODIFIED:20250926T205112Z
UID:74045-1765738800-1765746000@www.nvartscouncil.org
SUMMARY:Nevada Ballet Theatre Presents George Balanchine's "The Nutcracker®"
DESCRIPTION:A local holiday tradition meets an iconic American classic! Witness history unfold as the brilliance of Balanchine’s time-honored version descends upon Las Vegas\, ushering in a magnificent new era of holiday magic. NBT’s premiere of George Balanchine’s The Nutcracker® features his renowned choreography with spectacular scenic and costume design reflective of the art deco spirit of the 1930s. Revered characters including Dewdrop\, The Sugarplum Fairy\, Mother Ginger and her Polichinelles\, and Divertissements like Coffee\, Tea\, and Hot Chocolate\, lead young Marie Stahlbaum and her Nutcracker Prince through The Land of the Sweets for a journey of pure imagination and childlike wonder. State-of-the-art technology illuminates Tchaikovsky’s sweeping score to create a holiday spectacle for the decades that is both innovative and timeless.
URL:https://www.nvartscouncil.org/event/nevada-ballet-theatre-presents-george-balanchines-the-nutcracker/2025-12-14/2/
LOCATION:Reynolds Hall at The Smith Center\, 361 Symphony Park Ave.\, Las Vegas\, NV\, 89106\, United States
CATEGORIES:Performing
ATTACH;FMTTYPE=image/jpeg:https://www.nvartscouncil.org/wp-content/uploads/nut-press-release-social-assets_1080-1350-package-scaled.jpg
END:VEVENT
BEGIN:VEVENT
DTSTART;TZID=America/Los_Angeles:20251214T140000
DTEND;TZID=America/Los_Angeles:20251214T160000
DTSTAMP:20260422T140450
CREATED:20250926T205112Z
LAST-MODIFIED:20250926T205112Z
UID:74044-1765720800-1765728000@www.nvartscouncil.org
SUMMARY:Nevada Ballet Theatre Presents George Balanchine's "The Nutcracker®"
DESCRIPTION:A local holiday tradition meets an iconic American classic! Witness history unfold as the brilliance of Balanchine’s time-honored version descends upon Las Vegas\, ushering in a magnificent new era of holiday magic. NBT’s premiere of George Balanchine’s The Nutcracker® features his renowned choreography with spectacular scenic and costume design reflective of the art deco spirit of the 1930s. Revered characters including Dewdrop\, The Sugarplum Fairy\, Mother Ginger and her Polichinelles\, and Divertissements like Coffee\, Tea\, and Hot Chocolate\, lead young Marie Stahlbaum and her Nutcracker Prince through The Land of the Sweets for a journey of pure imagination and childlike wonder. State-of-the-art technology illuminates Tchaikovsky’s sweeping score to create a holiday spectacle for the decades that is both innovative and timeless.
URL:https://www.nvartscouncil.org/event/nevada-ballet-theatre-presents-george-balanchines-the-nutcracker/2025-12-14/
LOCATION:Reynolds Hall at The Smith Center\, 361 Symphony Park Ave.\, Las Vegas\, NV\, 89106\, United States
CATEGORIES:Performing
ATTACH;FMTTYPE=image/jpeg:https://www.nvartscouncil.org/wp-content/uploads/nut-press-release-social-assets_1080-1350-package-scaled.jpg
END:VEVENT
BEGIN:VEVENT
DTSTART;TZID=America/Los_Angeles:20251213T140000
DTEND;TZID=America/Los_Angeles:20251213T160000
DTSTAMP:20260422T140450
CREATED:20250926T205112Z
LAST-MODIFIED:20250926T205112Z
UID:74031-1765634400-1765641600@www.nvartscouncil.org
SUMMARY:Nevada Ballet Theatre Presents George Balanchine's "The Nutcracker®"
DESCRIPTION:A local holiday tradition meets an iconic American classic! Witness history unfold as the brilliance of Balanchine’s time-honored version descends upon Las Vegas\, ushering in a magnificent new era of holiday magic. NBT’s premiere of George Balanchine’s The Nutcracker® features his renowned choreography with spectacular scenic and costume design reflective of the art deco spirit of the 1930s. Revered characters including Dewdrop\, The Sugarplum Fairy\, Mother Ginger and her Polichinelles\, and Divertissements like Coffee\, Tea\, and Hot Chocolate\, lead young Marie Stahlbaum and her Nutcracker Prince through The Land of the Sweets for a journey of pure imagination and childlike wonder. State-of-the-art technology illuminates Tchaikovsky’s sweeping score to create a holiday spectacle for the decades that is both innovative and timeless.
URL:https://www.nvartscouncil.org/event/nevada-ballet-theatre-presents-george-balanchines-the-nutcracker/2025-12-13/
LOCATION:Reynolds Hall at The Smith Center\, 361 Symphony Park Ave.\, Las Vegas\, NV\, 89106\, United States
CATEGORIES:Performing
ATTACH;FMTTYPE=image/jpeg:https://www.nvartscouncil.org/wp-content/uploads/nut-press-release-social-assets_1080-1350-package-scaled.jpg
END:VEVENT
END:VCALENDAR