BEGIN:VCALENDAR
VERSION:2.0
PRODID:-//Nevada Arts Council - ECPv6.15.17//NONSGML v1.0//EN
CALSCALE:GREGORIAN
METHOD:PUBLISH
X-ORIGINAL-URL:https://www.nvartscouncil.org
X-WR-CALDESC:Events for Nevada Arts Council
REFRESH-INTERVAL;VALUE=DURATION:PT1H
X-Robots-Tag:noindex
X-PUBLISHED-TTL:PT1H
BEGIN:VTIMEZONE
TZID:America/Los_Angeles
BEGIN:DAYLIGHT
TZOFFSETFROM:-0800
TZOFFSETTO:-0700
TZNAME:PDT
DTSTART:20200308T100000
END:DAYLIGHT
BEGIN:STANDARD
TZOFFSETFROM:-0700
TZOFFSETTO:-0800
TZNAME:PST
DTSTART:20201101T090000
END:STANDARD
BEGIN:DAYLIGHT
TZOFFSETFROM:-0800
TZOFFSETTO:-0700
TZNAME:PDT
DTSTART:20210314T100000
END:DAYLIGHT
BEGIN:STANDARD
TZOFFSETFROM:-0700
TZOFFSETTO:-0800
TZNAME:PST
DTSTART:20211107T090000
END:STANDARD
BEGIN:DAYLIGHT
TZOFFSETFROM:-0800
TZOFFSETTO:-0700
TZNAME:PDT
DTSTART:20220313T100000
END:DAYLIGHT
BEGIN:STANDARD
TZOFFSETFROM:-0700
TZOFFSETTO:-0800
TZNAME:PST
DTSTART:20221106T090000
END:STANDARD
END:VTIMEZONE
BEGIN:VEVENT
DTSTART;VALUE=DATE:20211228
DTEND;VALUE=DATE:20211229
DTSTAMP:20260419T103554
CREATED:20211230T010219Z
LAST-MODIFIED:20211230T010219Z
UID:28468-1640649600-1640735999@www.nvartscouncil.org
SUMMARY:Nevada Basin to Range Exchange (BRX) Application Open
DESCRIPTION:Please fill out the application to attend the Nevada Basin to Range Exchange (BRX) happening April 18th to 20th\, 2022 in Tonopah\, NV. Applications do not guarantee acceptance and spots are limited. Apply before the January 31st\, 2022 deadline at Nevada Arts Council Application Manager – FY22 BASIN TO RANGE EXCHANGE PROGRAM (submittable.com) \nMore about BRX: \nThe Nevada Basin to Range Exchange (BRX) supports\, promotes and celebrates rural-urban collaboration through arts and culture. The BRX program is a one-year program that includes in person gatherings\, intercommunity arts-based exchange activities\, and peer to peer collaboration opportunities. BRX aims to: \n\nFoster relationships between Nevada’s rural and urban communities.\nConnect resources\, assets\, traditions\, and histories between rural and urban communities.\nIdentify and encourage new funding streams\, cross-sector partnerships\, and collaborative approaches for arts and culture programming.\nEngage intercommunity arts initiatives to enrich the lives of all residents\, enhance the quality of life throughout the state and strengthen local economies.\nCelebrate Nevada’s rural and urban assets.\n\nThe program will take place between April 18\, 2022 – June 30\, 2023\, and include: \n\nOne in-Person Gathering: Program participants will attend a three-day gathering in Tonopah\, NV from Monday April 18th to Wednesday April 20th 2022.\nCollaborative Opportunities: Networking will be highly encouraged to develop extensions of peer support\, mentorship\, and cultural exchange between rural and urban communities. Partnerships will also be encouraged to comprise a representation at least two different communities.\nCommunity Exchange and Engagement Activities: Participants will develop and implement pilot arts and cultural programs that facilitate rural-urban exchange and community engagement. Projects will be designed and implemented between April 2022-June 2023. If additional funding is secured\, participants will have the opportunity to apply for and receive additional funding sources for these projects.\nIf selected for the FY23 BRX Target of Opportunity Grant: \n\nQuarterly Team Meetings\, Project Reviews and Conference Calls will be required. \nSelected Projects invited to Present at the 2023 Nevada Basin to Range Exchange. \n  \nIMPORTANT DATES \n\nApplication opens: December 27\, 2021\nApplication deadline: January 31\, 2022\nParticipants notified of acceptance into program: February 21\, 2022 \nOpening gathering in Tonopah: April 18-20\, 2022 \nDevelopment and implementation of intercommunity arts projects: April 18\, 2022 – June 30\, 2023  \nBRX Project Due:  June 2023\n\n  \nPROGRAM REGISTRATION FEE (due upon acceptance): $75 \nThis covers daily and evening activities at the BRX gathering\, opening dinner (Monday)\, lunch (Tuesday)\, and breakfasts (Tuesday and Wednesday) during the April 18-20\, 2022\, opening convening. Participants are responsible for securing their own transportation to Tonopah and dinner on Tuesday evening.  \n  \nAPPLICATION SCORING CRITERIA \nSpace is limited to 60 participants. In the event that we receive more than 60 applications\, the following criteria will be used to score applications and make participant selections. All criteria will be equally weighted. \n\nApplicant demonstrates a connection to the program through their artistic practice and/or professional career.\nApplicant demonstrates the ability to uniquely contribute to the program.\nApplicant’s participation will help ensure that there is appropriate representation from multiple communities statewide. (e.geographic\, industry\, profession\, arts discipline)
URL:https://www.nvartscouncil.org/event/nevada-basin-to-range-exchange-brx-application-open/2021-12-28/
LOCATION:Tonopah Convention Center\, 301 Brougher Ave.\, Tonopah\, NV\, 89049\, United States
CATEGORIES:Workshops and Webinars
ATTACH;FMTTYPE=image/jpeg:https://www.nvartscouncil.org/wp-content/uploads/BRX-App-Open-Swoosh-2-2.jpg
END:VEVENT
END:VCALENDAR