BEGIN:VCALENDAR
VERSION:2.0
PRODID:-//Nevada Arts Council - ECPv6.15.17//NONSGML v1.0//EN
CALSCALE:GREGORIAN
METHOD:PUBLISH
X-ORIGINAL-URL:https://www.nvartscouncil.org
X-WR-CALDESC:Events for Nevada Arts Council
REFRESH-INTERVAL;VALUE=DURATION:PT1H
X-Robots-Tag:noindex
X-PUBLISHED-TTL:PT1H
BEGIN:VTIMEZONE
TZID:America/Los_Angeles
BEGIN:DAYLIGHT
TZOFFSETFROM:-0800
TZOFFSETTO:-0700
TZNAME:PDT
DTSTART:20210314T100000
END:DAYLIGHT
BEGIN:STANDARD
TZOFFSETFROM:-0700
TZOFFSETTO:-0800
TZNAME:PST
DTSTART:20211107T090000
END:STANDARD
BEGIN:DAYLIGHT
TZOFFSETFROM:-0800
TZOFFSETTO:-0700
TZNAME:PDT
DTSTART:20220313T100000
END:DAYLIGHT
BEGIN:STANDARD
TZOFFSETFROM:-0700
TZOFFSETTO:-0800
TZNAME:PST
DTSTART:20221106T090000
END:STANDARD
BEGIN:DAYLIGHT
TZOFFSETFROM:-0800
TZOFFSETTO:-0700
TZNAME:PDT
DTSTART:20230312T100000
END:DAYLIGHT
BEGIN:STANDARD
TZOFFSETFROM:-0700
TZOFFSETTO:-0800
TZNAME:PST
DTSTART:20231105T090000
END:STANDARD
END:VTIMEZONE
BEGIN:VEVENT
DTSTART;TZID=America/Los_Angeles:20221017T080000
DTEND;TZID=America/Los_Angeles:20221017T170000
DTSTAMP:20260421T073825
CREATED:20221024T160445Z
LAST-MODIFIED:20221024T160445Z
UID:33254-1665993600-1666026000@www.nvartscouncil.org
SUMMARY:Something About Comfort
DESCRIPTION:Something about Comfort: A “home” themed show curated by UNRtists \n\n\nMcKinley Gallery East in the McKinley Arts & Culture Center is proud to host the UNRtists Student Art Club in their exhibition “Something about Comfort.” \nUNRtists Student Art Club at the University of Nevada\, Reno aims to help students engage with art\, regardless of major. The club helps facilitate a space where students can come practice art\, as well as engage in various artistic media that they may not have had access to before. The club also endeavors to help students connect with the Reno art community and gives students a chance to broaden their horizons outside of the space of their personal art practice. \n“Something about Comfort” is about the ubiquitous and disparate ways we think about the word “home.” For many\, home can be a physical place. However\, for others\, it can be a person\, feeling\, or concept; it can signify loss\, memory\, and nostalgia. These works aim to unpack the various ways we think about the concept of “home” as something that is a given\, in order to go beyond the malleability of a word. \nMcKinley Arts & Culture Center\, Gallery East \nExhibition: October 17 – December 9\, 2022\nReception: October 20\, 5:00 – 7:00 p.m.
URL:https://www.nvartscouncil.org/event/something-about-comfort/2022-10-17/
LOCATION:McKinley Arts  and Cultural Center\, 925 Riverside Dr.\, Reno\, NV\, 89503\, United States
CATEGORIES:Family Friendly,Reception,Visual
ATTACH;FMTTYPE=image/jpeg:https://www.nvartscouncil.org/wp-content/uploads/638003898265130000.jpeg
END:VEVENT
END:VCALENDAR