BEGIN:VCALENDAR
VERSION:2.0
PRODID:-//Nevada Arts Council - ECPv6.15.20//NONSGML v1.0//EN
CALSCALE:GREGORIAN
METHOD:PUBLISH
X-WR-CALNAME:Nevada Arts Council
X-ORIGINAL-URL:https://www.nvartscouncil.org
X-WR-CALDESC:Events for Nevada Arts Council
REFRESH-INTERVAL;VALUE=DURATION:PT1H
X-Robots-Tag:noindex
X-PUBLISHED-TTL:PT1H
BEGIN:VTIMEZONE
TZID:America/Los_Angeles
BEGIN:DAYLIGHT
TZOFFSETFROM:-0800
TZOFFSETTO:-0700
TZNAME:PDT
DTSTART:20210314T100000
END:DAYLIGHT
BEGIN:STANDARD
TZOFFSETFROM:-0700
TZOFFSETTO:-0800
TZNAME:PST
DTSTART:20211107T090000
END:STANDARD
BEGIN:DAYLIGHT
TZOFFSETFROM:-0800
TZOFFSETTO:-0700
TZNAME:PDT
DTSTART:20220313T100000
END:DAYLIGHT
BEGIN:STANDARD
TZOFFSETFROM:-0700
TZOFFSETTO:-0800
TZNAME:PST
DTSTART:20221106T090000
END:STANDARD
BEGIN:DAYLIGHT
TZOFFSETFROM:-0800
TZOFFSETTO:-0700
TZNAME:PDT
DTSTART:20230312T100000
END:DAYLIGHT
BEGIN:STANDARD
TZOFFSETFROM:-0700
TZOFFSETTO:-0800
TZNAME:PST
DTSTART:20231105T090000
END:STANDARD
END:VTIMEZONE
BEGIN:VEVENT
DTSTART;TZID=America/Los_Angeles:20220211T160000
DTEND;TZID=America/Los_Angeles:20220211T190000
DTSTAMP:20260424T034810
CREATED:20220207T174541Z
LAST-MODIFIED:20220207T174541Z
UID:29135-1644595200-1644606000@www.nvartscouncil.org
SUMMARY:The Neon Museum Artist in Residence Gabriel Barcia-Colombo’s Exhibition “Simulations of the Sacred”
DESCRIPTION:The Neon Museum announced its Artist in Residence\, Gabriel Barcia-Colombo\, will debut his exhibition “Simulations of the Sacred” to the public on Friday\, Feb. 11. Located at Juhl Las Vegas\, the exhibition will bring together digital technology\, neon\, and Mexican folk art to explore themes of reality\, technology\, and memorialization\, creating a series of sculptures inspired by the signs in the Neon Museum’s collection.\nThe exhibition’s opening day on Feb. 11 will include a public reception with Barcia-Colombo from 4 to 7 p.m. The exhibit will then be open for free public viewing at Juhl Las Vegas (353 E. Bonneville Ave #181\, Las Vegas\, Nev.\, 89101) Thursday through Saturday\, Feb. 12 – 26\, noon to 6 p.m. or by appointment.
URL:https://www.nvartscouncil.org/event/the-neon-museum-artist-in-residence-gabriel-barcia-colombos-exhibition-simulations-of-the-sacred/2022-02-11/
CATEGORIES:Visual
ATTACH;FMTTYPE=image/jpeg:https://www.nvartscouncil.org/wp-content/uploads/Simulations-of-the-Sacred-exhibition-image.jpg
END:VEVENT
END:VCALENDAR