BEGIN:VCALENDAR
VERSION:2.0
PRODID:-//Nevada Arts Council - ECPv6.15.17//NONSGML v1.0//EN
CALSCALE:GREGORIAN
METHOD:PUBLISH
X-ORIGINAL-URL:https://www.nvartscouncil.org
X-WR-CALDESC:Events for Nevada Arts Council
REFRESH-INTERVAL;VALUE=DURATION:PT1H
X-Robots-Tag:noindex
X-PUBLISHED-TTL:PT1H
BEGIN:VTIMEZONE
TZID:America/Los_Angeles
BEGIN:DAYLIGHT
TZOFFSETFROM:-0800
TZOFFSETTO:-0700
TZNAME:PDT
DTSTART:20240310T100000
END:DAYLIGHT
BEGIN:STANDARD
TZOFFSETFROM:-0700
TZOFFSETTO:-0800
TZNAME:PST
DTSTART:20241103T090000
END:STANDARD
BEGIN:DAYLIGHT
TZOFFSETFROM:-0800
TZOFFSETTO:-0700
TZNAME:PDT
DTSTART:20250309T100000
END:DAYLIGHT
BEGIN:STANDARD
TZOFFSETFROM:-0700
TZOFFSETTO:-0800
TZNAME:PST
DTSTART:20251102T090000
END:STANDARD
BEGIN:DAYLIGHT
TZOFFSETFROM:-0800
TZOFFSETTO:-0700
TZNAME:PDT
DTSTART:20260308T100000
END:DAYLIGHT
BEGIN:STANDARD
TZOFFSETFROM:-0700
TZOFFSETTO:-0800
TZNAME:PST
DTSTART:20261101T090000
END:STANDARD
END:VTIMEZONE
BEGIN:VEVENT
DTSTART;TZID=America/Los_Angeles:20250731T110000
DTEND;TZID=America/Los_Angeles:20250731T130000
DTSTAMP:20260422T064232
CREATED:20250623T193816Z
LAST-MODIFIED:20250623T193816Z
UID:65610-1753959600-1753966800@www.nvartscouncil.org
SUMMARY:"The Traveler" Creative Aging Writing & Storytelling Session
DESCRIPTION:“The Traveler” Creative Aging Writing & Storytelling Workshops\n\n\n\nTravel is wherever your mind takes you and memories await you!\n\n\n\nThe best way to memorialize your travels through life is to write about them and/or talk about them. In this fun\, interactive writing and storytelling workshop for older adults\, you’ll have the opportunity to do both.\n\n\n\nJoin Nevada Arts Council and Lifetime Arts teaching artist\, Joylynn M. Ross\, and your fellow Nevadans or drop-in visitors for 90 minutes of reliving and retelling a moment worth writing and talking about.\n\nThe focus and theme is a moment from one of your past travels. If you need help unearthing one of those experiences\, don’t worry. There will be plenty of hands-on assistance and engaging prompts provided to you by your instructor and your peers … because in this workshop\, each participant is both the student and the teacher. No one will have to travel this writing and storytelling journey alone!\n\n\n\nAnd keep in mind that traveling doesn’t have to be in a plane\, train\, boat\, or automobile across the map. It can be a mind traveling experience to a make-believe world\, or traveling from one side of town to another\, to a local event or one far\, far away. Again\, travel is wherever your mind takes you . . . even if it’s simply traveling back in time to recall a moment from your past.\n\n\nRoss will be presenting four Creative Aging older adult writing and storytelling sessions at various Las-Vegas Clark County Library District branches throughout the summer for the 55+ community. If in the Las Vegas\, Nevada area\, feel free to drop in for any or all of the following sessions that are FREE for you to attend:\n\n\n\n“The Traveler” Writing & Storytelling Workshop for the 55+ Community\n\n\n\n\nJuly 11 (Friday)\nCentennial Hills Library\n6711 N. Buffalo Drive\nLas Vegas\, NV 89131\n11 a.m. – 12:30 p.m.\n\n\n\nJuly 17 (Thursday)\nWest Charleston Library Conference Room\n6301 W. Charleston Blvd.\, Las Vegas\, NV 89146\n5–7 p.m.\n\n\n\nJuly 31 (Thursday)\nClark County Library\n1401 E. Flamingo Road\, Las Vegas\, NV 89119\n11 a.m.–1 p.m.
URL:https://www.nvartscouncil.org/event/the-traveler-creative-aging-writing-storytelling-session/2025-07-31/
LOCATION:Las Vegas-Clark County Library District\, 7060 W. Windmill Lane\, Las Vegas\, NV\, 89113\, United States
CATEGORIES:Creative Aging,Literary
ATTACH;FMTTYPE=image/png:https://www.nvartscouncil.org/wp-content/uploads/Creative-Aging-Workshop-Collage.png
END:VEVENT
BEGIN:VEVENT
DTSTART;TZID=America/Los_Angeles:20250717T170000
DTEND;TZID=America/Los_Angeles:20250717T190000
DTSTAMP:20260422T064232
CREATED:20250623T193815Z
LAST-MODIFIED:20250623T193815Z
UID:65609-1752771600-1752778800@www.nvartscouncil.org
SUMMARY:"The Traveler" Creative Aging Writing & Storytelling Session
DESCRIPTION:“The Traveler” Creative Aging Writing & Storytelling Workshops\n\n\n\nTravel is wherever your mind takes you and memories await you!\n\n\n\nThe best way to memorialize your travels through life is to write about them and/or talk about them. In this fun\, interactive writing and storytelling workshop for older adults\, you’ll have the opportunity to do both.\n\n\n\nJoin Nevada Arts Council and Lifetime Arts teaching artist\, Joylynn M. Ross\, and your fellow Nevadans or drop-in visitors for 90 minutes of reliving and retelling a moment worth writing and talking about.\n\nThe focus and theme is a moment from one of your past travels. If you need help unearthing one of those experiences\, don’t worry. There will be plenty of hands-on assistance and engaging prompts provided to you by your instructor and your peers … because in this workshop\, each participant is both the student and the teacher. No one will have to travel this writing and storytelling journey alone!\n\n\n\nAnd keep in mind that traveling doesn’t have to be in a plane\, train\, boat\, or automobile across the map. It can be a mind traveling experience to a make-believe world\, or traveling from one side of town to another\, to a local event or one far\, far away. Again\, travel is wherever your mind takes you . . . even if it’s simply traveling back in time to recall a moment from your past.\n\n\nRoss will be presenting four Creative Aging older adult writing and storytelling sessions at various Las-Vegas Clark County Library District branches throughout the summer for the 55+ community. If in the Las Vegas\, Nevada area\, feel free to drop in for any or all of the following sessions that are FREE for you to attend:\n\n\n\n“The Traveler” Writing & Storytelling Workshop for the 55+ Community\n\n\n\n\nJuly 11 (Friday)\nCentennial Hills Library\n6711 N. Buffalo Drive\nLas Vegas\, NV 89131\n11 a.m. – 12:30 p.m.\n\n\n\nJuly 17 (Thursday)\nWest Charleston Library Conference Room\n6301 W. Charleston Blvd.\, Las Vegas\, NV 89146\n5–7 p.m.\n\n\n\nJuly 31 (Thursday)\nClark County Library\n1401 E. Flamingo Road\, Las Vegas\, NV 89119\n11 a.m.–1 p.m.
URL:https://www.nvartscouncil.org/event/the-traveler-creative-aging-writing-storytelling-session/2025-07-17/
LOCATION:Las Vegas-Clark County Library District\, 7060 W. Windmill Lane\, Las Vegas\, NV\, 89113\, United States
CATEGORIES:Creative Aging,Literary
ATTACH;FMTTYPE=image/png:https://www.nvartscouncil.org/wp-content/uploads/Creative-Aging-Workshop-Collage.png
END:VEVENT
BEGIN:VEVENT
DTSTART;TZID=America/Los_Angeles:20250711T110000
DTEND;TZID=America/Los_Angeles:20250711T123000
DTSTAMP:20260422T064232
CREATED:20250623T193815Z
LAST-MODIFIED:20250623T193815Z
UID:65608-1752231600-1752237000@www.nvartscouncil.org
SUMMARY:"The Traveler" Creative Aging Writing & Storytelling Session
DESCRIPTION:“The Traveler” Creative Aging Writing & Storytelling Workshops\n\n\n\nTravel is wherever your mind takes you and memories await you!\n\n\n\nThe best way to memorialize your travels through life is to write about them and/or talk about them. In this fun\, interactive writing and storytelling workshop for older adults\, you’ll have the opportunity to do both.\n\n\n\nJoin Nevada Arts Council and Lifetime Arts teaching artist\, Joylynn M. Ross\, and your fellow Nevadans or drop-in visitors for 90 minutes of reliving and retelling a moment worth writing and talking about.\n\nThe focus and theme is a moment from one of your past travels. If you need help unearthing one of those experiences\, don’t worry. There will be plenty of hands-on assistance and engaging prompts provided to you by your instructor and your peers … because in this workshop\, each participant is both the student and the teacher. No one will have to travel this writing and storytelling journey alone!\n\n\n\nAnd keep in mind that traveling doesn’t have to be in a plane\, train\, boat\, or automobile across the map. It can be a mind traveling experience to a make-believe world\, or traveling from one side of town to another\, to a local event or one far\, far away. Again\, travel is wherever your mind takes you . . . even if it’s simply traveling back in time to recall a moment from your past.\n\n\nRoss will be presenting four Creative Aging older adult writing and storytelling sessions at various Las-Vegas Clark County Library District branches throughout the summer for the 55+ community. If in the Las Vegas\, Nevada area\, feel free to drop in for any or all of the following sessions that are FREE for you to attend:\n\n\n\n“The Traveler” Writing & Storytelling Workshop for the 55+ Community\n\n\n\n\nJuly 11 (Friday)\nCentennial Hills Library\n6711 N. Buffalo Drive\nLas Vegas\, NV 89131\n11 a.m. – 12:30 p.m.\n\n\n\nJuly 17 (Thursday)\nWest Charleston Library Conference Room\n6301 W. Charleston Blvd.\, Las Vegas\, NV 89146\n5–7 p.m.\n\n\n\nJuly 31 (Thursday)\nClark County Library\n1401 E. Flamingo Road\, Las Vegas\, NV 89119\n11 a.m.–1 p.m.
URL:https://www.nvartscouncil.org/event/the-traveler-creative-aging-writing-storytelling-session/2025-07-11/
LOCATION:Las Vegas-Clark County Library District\, 7060 W. Windmill Lane\, Las Vegas\, NV\, 89113\, United States
CATEGORIES:Creative Aging,Literary
ATTACH;FMTTYPE=image/png:https://www.nvartscouncil.org/wp-content/uploads/Creative-Aging-Workshop-Collage.png
END:VEVENT
BEGIN:VEVENT
DTSTART;TZID=America/Los_Angeles:20250622T140000
DTEND;TZID=America/Los_Angeles:20250622T153000
DTSTAMP:20260422T064232
CREATED:20250623T193814Z
LAST-MODIFIED:20250623T193814Z
UID:65603-1750600800-1750606200@www.nvartscouncil.org
SUMMARY:"The Traveler" Creative Aging Writing & Storytelling Session
DESCRIPTION:“The Traveler” Creative Aging Writing & Storytelling Workshops\n\n\n\nTravel is wherever your mind takes you and memories await you!\n\n\n\nThe best way to memorialize your travels through life is to write about them and/or talk about them. In this fun\, interactive writing and storytelling workshop for older adults\, you’ll have the opportunity to do both.\n\n\n\nJoin Nevada Arts Council and Lifetime Arts teaching artist\, Joylynn M. Ross\, and your fellow Nevadans or drop-in visitors for 90 minutes of reliving and retelling a moment worth writing and talking about.\n\nThe focus and theme is a moment from one of your past travels. If you need help unearthing one of those experiences\, don’t worry. There will be plenty of hands-on assistance and engaging prompts provided to you by your instructor and your peers … because in this workshop\, each participant is both the student and the teacher. No one will have to travel this writing and storytelling journey alone!\n\n\n\nAnd keep in mind that traveling doesn’t have to be in a plane\, train\, boat\, or automobile across the map. It can be a mind traveling experience to a make-believe world\, or traveling from one side of town to another\, to a local event or one far\, far away. Again\, travel is wherever your mind takes you . . . even if it’s simply traveling back in time to recall a moment from your past.\n\n\nRoss will be presenting four Creative Aging older adult writing and storytelling sessions at various Las-Vegas Clark County Library District branches throughout the summer for the 55+ community. If in the Las Vegas\, Nevada area\, feel free to drop in for any or all of the following sessions that are FREE for you to attend:\n\n\n\n“The Traveler” Writing & Storytelling Workshop for the 55+ Community\n\n\n\n\nJuly 11 (Friday)\nCentennial Hills Library\n6711 N. Buffalo Drive\nLas Vegas\, NV 89131\n11 a.m. – 12:30 p.m.\n\n\n\nJuly 17 (Thursday)\nWest Charleston Library Conference Room\n6301 W. Charleston Blvd.\, Las Vegas\, NV 89146\n5–7 p.m.\n\n\n\nJuly 31 (Thursday)\nClark County Library\n1401 E. Flamingo Road\, Las Vegas\, NV 89119\n11 a.m.–1 p.m.
URL:https://www.nvartscouncil.org/event/the-traveler-creative-aging-writing-storytelling-session/2025-06-22/
LOCATION:Las Vegas-Clark County Library District\, 7060 W. Windmill Lane\, Las Vegas\, NV\, 89113\, United States
CATEGORIES:Creative Aging,Literary
ATTACH;FMTTYPE=image/png:https://www.nvartscouncil.org/wp-content/uploads/Creative-Aging-Workshop-Collage.png
END:VEVENT
END:VCALENDAR