BEGIN:VCALENDAR
VERSION:2.0
PRODID:-//Nevada Arts Council - ECPv6.15.17//NONSGML v1.0//EN
CALSCALE:GREGORIAN
METHOD:PUBLISH
X-ORIGINAL-URL:https://www.nvartscouncil.org
X-WR-CALDESC:Events for Nevada Arts Council
REFRESH-INTERVAL;VALUE=DURATION:PT1H
X-Robots-Tag:noindex
X-PUBLISHED-TTL:PT1H
BEGIN:VTIMEZONE
TZID:America/Los_Angeles
BEGIN:DAYLIGHT
TZOFFSETFROM:-0800
TZOFFSETTO:-0700
TZNAME:PDT
DTSTART:20220313T100000
END:DAYLIGHT
BEGIN:STANDARD
TZOFFSETFROM:-0700
TZOFFSETTO:-0800
TZNAME:PST
DTSTART:20221106T090000
END:STANDARD
BEGIN:DAYLIGHT
TZOFFSETFROM:-0800
TZOFFSETTO:-0700
TZNAME:PDT
DTSTART:20230312T100000
END:DAYLIGHT
BEGIN:STANDARD
TZOFFSETFROM:-0700
TZOFFSETTO:-0800
TZNAME:PST
DTSTART:20231105T090000
END:STANDARD
BEGIN:DAYLIGHT
TZOFFSETFROM:-0800
TZOFFSETTO:-0700
TZNAME:PDT
DTSTART:20240310T100000
END:DAYLIGHT
BEGIN:STANDARD
TZOFFSETFROM:-0700
TZOFFSETTO:-0800
TZNAME:PST
DTSTART:20241103T090000
END:STANDARD
END:VTIMEZONE
BEGIN:VEVENT
DTSTART;TZID=America/Los_Angeles:20231113T080000
DTEND;TZID=America/Los_Angeles:20231113T170000
DTSTAMP:20260422T195359
CREATED:20231024T222258Z
LAST-MODIFIED:20231024T222409Z
UID:41739-1699862400-1699894800@www.nvartscouncil.org
SUMMARY:TMCC FALL EXHIBITIONS & Reception
DESCRIPTION:FALL 2023 \nNovember 13th – December 7th \nOpening reception and Artist talk by Robert Post Wednesday\, November 15th from 5:00 to 7:00 PM \nArtist talk @5:30 \nLocated in front of the Main Gallery and 3rd Floor Red Mountain Gallery\, Dandini Campus \n 
URL:https://www.nvartscouncil.org/event/tmcc-fall-exhibitions-reception/2023-11-13/
LOCATION:TMCC Meadowood Center\, 5270 Neil Road\, Reno\, NV\, NV\, 89502\, United States
CATEGORIES:Exhibit,Reception
ATTACH;FMTTYPE=image/jpeg:https://www.nvartscouncil.org/wp-content/uploads/Nov_Dec-Poster-scaled.jpg
END:VEVENT
END:VCALENDAR