BEGIN:VCALENDAR
VERSION:2.0
PRODID:-//Nevada Arts Council - ECPv6.15.17//NONSGML v1.0//EN
CALSCALE:GREGORIAN
METHOD:PUBLISH
X-ORIGINAL-URL:https://www.nvartscouncil.org
X-WR-CALDESC:Events for Nevada Arts Council
REFRESH-INTERVAL;VALUE=DURATION:PT1H
X-Robots-Tag:noindex
X-PUBLISHED-TTL:PT1H
BEGIN:VTIMEZONE
TZID:America/Los_Angeles
BEGIN:DAYLIGHT
TZOFFSETFROM:-0800
TZOFFSETTO:-0700
TZNAME:PDT
DTSTART:20220313T100000
END:DAYLIGHT
BEGIN:STANDARD
TZOFFSETFROM:-0700
TZOFFSETTO:-0800
TZNAME:PST
DTSTART:20221106T090000
END:STANDARD
BEGIN:DAYLIGHT
TZOFFSETFROM:-0800
TZOFFSETTO:-0700
TZNAME:PDT
DTSTART:20230312T100000
END:DAYLIGHT
BEGIN:STANDARD
TZOFFSETFROM:-0700
TZOFFSETTO:-0800
TZNAME:PST
DTSTART:20231105T090000
END:STANDARD
BEGIN:DAYLIGHT
TZOFFSETFROM:-0800
TZOFFSETTO:-0700
TZNAME:PDT
DTSTART:20240310T100000
END:DAYLIGHT
BEGIN:STANDARD
TZOFFSETFROM:-0700
TZOFFSETTO:-0800
TZNAME:PST
DTSTART:20241103T090000
END:STANDARD
END:VTIMEZONE
BEGIN:VEVENT
DTSTART;TZID=America/Los_Angeles:20231010T190000
DTEND;TZID=America/Los_Angeles:20231010T220000
DTSTAMP:20260422T103235
CREATED:20231010T210855Z
LAST-MODIFIED:20231010T210855Z
UID:41469-1696964400-1696975200@www.nvartscouncil.org
SUMMARY:Tuesday Night DJ Trivia
DESCRIPTION:Join us every Tuesday night at the Nashville Social Club in Carson City for the ultimate trivia showdown! From 7pm to 9pm\, rally your squad for an electrifying DJ Trivia Night experience that’ll have you on the edge of your seats. Our fantastic DJ Host will keep the energy high as you battle it out for fantastic prizes\, all while enjoying great music and delicious drinks.
URL:https://www.nvartscouncil.org/event/tuesday-night-dj-trivia-2/2023-10-10/
LOCATION:Nashville Social Club\, 1105 S Carson St\, Carson City\, NV\, 89701\, United States
CATEGORIES:Family Friendly
ATTACH;FMTTYPE=image/png:https://www.nvartscouncil.org/wp-content/uploads/Screen-Shot-2023-10-10-at-12.17.24-PM.png
END:VEVENT
END:VCALENDAR