BEGIN:VCALENDAR
VERSION:2.0
PRODID:-//Nevada Arts Council - ECPv6.15.17//NONSGML v1.0//EN
CALSCALE:GREGORIAN
METHOD:PUBLISH
X-ORIGINAL-URL:https://www.nvartscouncil.org
X-WR-CALDESC:Events for Nevada Arts Council
REFRESH-INTERVAL;VALUE=DURATION:PT1H
X-Robots-Tag:noindex
X-PUBLISHED-TTL:PT1H
BEGIN:VTIMEZONE
TZID:America/Los_Angeles
BEGIN:DAYLIGHT
TZOFFSETFROM:-0800
TZOFFSETTO:-0700
TZNAME:PDT
DTSTART:20250309T100000
END:DAYLIGHT
BEGIN:STANDARD
TZOFFSETFROM:-0700
TZOFFSETTO:-0800
TZNAME:PST
DTSTART:20251102T090000
END:STANDARD
BEGIN:DAYLIGHT
TZOFFSETFROM:-0800
TZOFFSETTO:-0700
TZNAME:PDT
DTSTART:20260308T100000
END:DAYLIGHT
BEGIN:STANDARD
TZOFFSETFROM:-0700
TZOFFSETTO:-0800
TZNAME:PST
DTSTART:20261101T090000
END:STANDARD
BEGIN:DAYLIGHT
TZOFFSETFROM:-0800
TZOFFSETTO:-0700
TZNAME:PDT
DTSTART:20270314T100000
END:DAYLIGHT
BEGIN:STANDARD
TZOFFSETFROM:-0700
TZOFFSETTO:-0800
TZNAME:PST
DTSTART:20271107T090000
END:STANDARD
END:VTIMEZONE
BEGIN:VEVENT
DTSTART;TZID=America/Los_Angeles:20260308T120000
DTEND;TZID=America/Los_Angeles:20260308T160000
DTSTAMP:20260423T162708
CREATED:20260223T215330Z
LAST-MODIFIED:20260223T235423Z
UID:83721-1772971200-1772985600@www.nvartscouncil.org
SUMMARY:20th Annual Photo Fandango Reception
DESCRIPTION:Join us at the Artist Co-op for the 20th Annual Photo Fandango: “Shoot Your Best Shot”\n\nReception: Sunday\, March 8\, from 12-4 p.m.627 Mill St.\, Reno\, NV 89502\n\nGuest Artist: Alice Kreider\n\nExhibit open March 1-31\, 2026\n\nOver two-dozen local photographers will showcase their best work\, much of which has never been exhibited in any gallery until now. In March\, you will see Landscapes\, Abstracts\, Portraits\, Wildlife\, and more at the Artists Co-op.
URL:https://www.nvartscouncil.org/event/20th-annual-photo-fandango-reception/
LOCATION:Artist Co-op Gallery of Reno\, 627 Mill St.\, Reno\, NV\, 89505\, United States
CATEGORIES:Exhibit,Family Friendly,Reception,Visual
ATTACH;FMTTYPE=image/jpeg:https://www.nvartscouncil.org/wp-content/uploads/Photo-Fandango-2026-Web-Version-002.jpg
END:VEVENT
BEGIN:VEVENT
DTSTART;TZID=America/Los_Angeles:20260308T133000
DTEND;TZID=America/Los_Angeles:20260308T153000
DTSTAMP:20260423T162708
CREATED:20260223T202108Z
LAST-MODIFIED:20260223T202108Z
UID:83245-1772976600-1772983800@www.nvartscouncil.org
SUMMARY:Bat Boy: The Musical
DESCRIPTION:Story and book by Keythe Farley and Brian Flemming\nMusic and lyrics by Laurence O’Keefe\nDirected by Susanna Vaughan\nMusic Direction by Aren Long\nChoreography by Nate Hodges   \n\n\nReserved Seating: Adults: $25; University of Nevada\, Reno Faculty & Staff\, Seniors (65+)\, Non-UNR Students: $20; UNR Students: $5 (Additional transaction fees may apply). Tickets and information at unr.edu/theatre-dance
URL:https://www.nvartscouncil.org/event/bat-boy-the-musical-4/
LOCATION:Redfield Proscenium Theatre\, Church Fine Arts\, University of Nevada\, Reno\, 1335 N. Virginia St.\, Reno\, NV\, 89512\, United States
CATEGORIES:Performing
ATTACH;FMTTYPE=image/jpeg:https://www.nvartscouncil.org/wp-content/uploads/UNRDTD-250149-Bat-Boy-Musical-Poster-F-5-scaled.jpg
ORGANIZER;CN="Department of Theatre and Dance - University of Nevada%2C Reno":MAILTO:theatreanddance@unr.edu
END:VEVENT
BEGIN:VEVENT
DTSTART;TZID=America/Los_Angeles:20260308T140000
DTEND;TZID=America/Los_Angeles:20260308T160000
DTSTAMP:20260423T162708
CREATED:20260223T202948Z
LAST-MODIFIED:20260223T202948Z
UID:83154-1772978400-1772985600@www.nvartscouncil.org
SUMMARY:Honoring the Women Who've Shaped Us: A Writing Workshop with Jillian Makoutz
DESCRIPTION:Join local poet Jillian Makoutz from Grass and Sky Press for a poetry workshop that encourages you to honor a special woman in your life. We’re delighted to welcome Makoutz for this special celebration of International Women’s Day. \nWe’ll begin with a discussion about the process of honoring a woman in your life\, different ways you can approach that concept\, and some writing prompts to get your creativity flowing. Makoutz will also share a few of her own poems on the subject as she teaches. \nThen\, we’ll move into writing time as you create an original poem or written piece that honors a woman in your life that has shaped who you are. You may find it meaningful to bring a photo or some sort of memorabilia of the woman you are honoring to inspire you. This isn’t a requirement! \nAfter writing\, we’ll take time at the end of the class for those who would like to read their pieces aloud. \nAll materials are provided\, including a journal and blackwing pencil for all your writing needs\, so just plan to bring yourself\, a memento (if you’d like!)\, and maybe some Kleenex. You’ll also receive a signed copy of Jillian Makoutz’s book\, Four Seasons in the Sierra. \nYoung guests junior high age and above are welcome to attend!
URL:https://www.nvartscouncil.org/event/honoring-the-women-whove-shaped-us-a-writing-workshop-with-jillian-makoutz/
LOCATION:Wyld Market Collective\, 1640 S Wells Ave\, Reno\, NV\, 89502\, United States
CATEGORIES:Class,Literary
ORGANIZER;CN="Wandering Wyld":MAILTO:hello@wanderingwyld.com
END:VEVENT
BEGIN:VEVENT
DTSTART;TZID=America/Los_Angeles:20260308T160000
DTEND;TZID=America/Los_Angeles:20260308T180000
DTSTAMP:20260423T162708
CREATED:20260203T232406Z
LAST-MODIFIED:20260203T232406Z
UID:82321-1772985600-1772992800@www.nvartscouncil.org
SUMMARY:THE ART OF BIG BAND MUSIC BY THE RENO JAZZ ORCHESTRA
DESCRIPTION:Reno Jazz Orchestra (RJO) transforms the stage into a time machine\, presenting a performance of 100 years of the boldest\, brightest\, and most swinging big band jazz music on March 8\, 2026\, at the University of Nevada\, Reno. \nReno Jazz Orchestra’s Music Director\, Greg Johnson\, Ph.D.; and four-time Grammy-nominated and internationally renowned trumpeter\, Mike Rocha\, join the powerhouse music of the 17-piece jazz orchestra for an unforgettable adventure through jazz history as they present “Thee Art of Big Band” concert. \n“Guest performer Mike Rocha is a talented and charismatic force in this age of musical enterprise\,” Johnson said. “Whether performing in formal orchestral settings\, high-profile cinema appearances\, in a jazz orchestra\, or in costume singing and dancing\, he is noted for his professional excellence and integrity.” \nWhile Rocha plays with countless ensembles\, he is most noted for his work with the Lappitt-Rocha Septet\, who recently recorded their first album\, “First Take.” Other artists’ groups include Christina Aguilera\, Bob Dylan\, Lorde\, Panic! at the Disco\, Trisha Yearwood\, Idina Menzel\, Alfie Boe and Gordon Goodwin’s Big Phat Band & Little Phat Band\, among many others. \nPrices range from $10 for students with I.D. and pre-reserved seats priced at $40 and $50 through the nonprofit organization’s website RenoJazzOrchestra.org. The concerts are part of the Reno Jazz Orchestra’s “Quintessence Music Series\,” which offers special reduced rates for those who purchase tickets for this concert and “An Afternoon of Romance ~ The Al Jarreau Project\,” May 10\, 2026\, on Mother’s Day.
URL:https://www.nvartscouncil.org/event/the-art-of-big-band-music-by-the-reno-jazz-orchestra/
LOCATION:Nightingale Concert Hall\, Church Fine Arts Building\, University of Nevada\, Reno\, 1335 N Virginia St\, Reno\, NV\, 89512\, United States
CATEGORIES:Family Friendly,Performing
ATTACH;FMTTYPE=image/jpeg:https://www.nvartscouncil.org/wp-content/uploads/The-Art-of-Big-Band-Music-with-the-Reno-Jazz-Orchestra.jpg
ORGANIZER;CN="Reno Jazz Orchestra":MAILTO:info@renojazzorchestra.org
END:VEVENT
END:VCALENDAR