BEGIN:VCALENDAR
VERSION:2.0
PRODID:-//Nevada Arts Council - ECPv6.15.17//NONSGML v1.0//EN
CALSCALE:GREGORIAN
METHOD:PUBLISH
X-ORIGINAL-URL:https://www.nvartscouncil.org
X-WR-CALDESC:Events for Nevada Arts Council
REFRESH-INTERVAL;VALUE=DURATION:PT1H
X-Robots-Tag:noindex
X-PUBLISHED-TTL:PT1H
BEGIN:VTIMEZONE
TZID:America/Los_Angeles
BEGIN:DAYLIGHT
TZOFFSETFROM:-0800
TZOFFSETTO:-0700
TZNAME:PDT
DTSTART:20250309T100000
END:DAYLIGHT
BEGIN:STANDARD
TZOFFSETFROM:-0700
TZOFFSETTO:-0800
TZNAME:PST
DTSTART:20251102T090000
END:STANDARD
BEGIN:DAYLIGHT
TZOFFSETFROM:-0800
TZOFFSETTO:-0700
TZNAME:PDT
DTSTART:20260308T100000
END:DAYLIGHT
BEGIN:STANDARD
TZOFFSETFROM:-0700
TZOFFSETTO:-0800
TZNAME:PST
DTSTART:20261101T090000
END:STANDARD
BEGIN:DAYLIGHT
TZOFFSETFROM:-0800
TZOFFSETTO:-0700
TZNAME:PDT
DTSTART:20270314T100000
END:DAYLIGHT
BEGIN:STANDARD
TZOFFSETFROM:-0700
TZOFFSETTO:-0800
TZNAME:PST
DTSTART:20271107T090000
END:STANDARD
END:VTIMEZONE
BEGIN:VEVENT
DTSTART;TZID=America/Los_Angeles:20260314T190000
DTEND;TZID=America/Los_Angeles:20260314T210000
DTSTAMP:20260421T030753
CREATED:20250721T171607Z
LAST-MODIFIED:20250721T171607Z
UID:67164-1773514800-1773522000@www.nvartscouncil.org
SUMMARY:Paul West in Concert
DESCRIPTION:Paul West is more than a musician—he’s a modern-day troubadour. With roots in Texas and a childhood raised in the beauty of California’s Central Coast\, West brings a lived-in honesty to every performance. His journey has taken him from the shores of Maui to the heart of Las Vegas\, where he’s now making waves on stages like Jason Aldean’s and Blake Shelton’s Ole Red. His songs reflect the landscapes that have shaped him and his live shows—backed by some of Las Vegas’ best local country players—are a mix of heartfelt storytelling and are a testament to the power of following one’s passion against all odds. Classic country roots. A dash of vintage rock. And a performance you won’t want to miss. 
URL:https://www.nvartscouncil.org/event/paul-west-in-concert/
LOCATION:Carolyn G. Goodman Plaza\, 525 S. Main St.\, Las Vegas\, NV\, 89101\, United States
CATEGORIES:Performing
END:VEVENT
BEGIN:VEVENT
DTSTART;TZID=America/Los_Angeles:20260314T190000
DTEND;TZID=America/Los_Angeles:20260314T210000
DTSTAMP:20260421T030753
CREATED:20260116T193426Z
LAST-MODIFIED:20260116T193426Z
UID:81696-1773514800-1773522000@www.nvartscouncil.org
SUMMARY:The Redeemer Tour
DESCRIPTION:Celebrate Easter by experiencing “The Redeemer: Music on the Life of Jesus the Christ.” This profoundly spiritual and stirring show is centered around the life and redemptive mission of The Redeemer Jesus Christ. \nGrammy-nominated violinist Jenny Oaks Baker\, Emmy Award-winning composer and conductor Kurt Bestor\, acclaimed narrator and tenor Dallyn Vail Bayles\, Tony Award-winning soprano Lisa Hopkins Seegmiller\, baritone soloist Preston Yates\, and cellist Nicole Pinnell join to present this glorious multi-media musical journey. Audiences will be thrilled and inspired by beloved hymns\, soul-filling original compositions\, and magnificent selections from Handel’s Messiah. \nThe Redeemer 2026 Tour is presented by SoulFill Music Foundation and proud to support #GreaterLove.
URL:https://www.nvartscouncil.org/event/the-redeemer-tour/
LOCATION:Artemus W. Ham Concert Hall\, 4505 S. Maryland Pkwy\, Las Vegas\, NV\, 89154\, United States
CATEGORIES:Family Friendly,Performing
ATTACH;FMTTYPE=image/png:https://www.nvartscouncil.org/wp-content/uploads/Rede26_FB-Banner_851x330_LasVegas.png
END:VEVENT
BEGIN:VEVENT
DTSTART;TZID=America/Los_Angeles:20260314T193000
DTEND;TZID=America/Los_Angeles:20260314T213000
DTSTAMP:20260421T030753
CREATED:20260223T202134Z
LAST-MODIFIED:20260223T202134Z
UID:83252-1773516600-1773523800@www.nvartscouncil.org
SUMMARY:Bat Boy: The Musical
DESCRIPTION:Story and book by Keythe Farley and Brian Flemming\nMusic and lyrics by Laurence O’Keefe\nDirected by Susanna Vaughan\nMusic Direction by Aren Long\nChoreography by Nate Hodges   \n\n\nReserved Seating: Adults: $25; University of Nevada\, Reno Faculty & Staff\, Seniors (65+)\, Non-UNR Students: $20; UNR Students: $5 (Additional transaction fees may apply). Tickets and information at unr.edu/theatre-dance
URL:https://www.nvartscouncil.org/event/bat-boy-the-musical-5/
LOCATION:Redfield Proscenium Theatre\, Church Fine Arts\, University of Nevada\, Reno\, 1335 N. Virginia St.\, Reno\, NV\, 89512\, United States
CATEGORIES:Performing
ATTACH;FMTTYPE=image/jpeg:https://www.nvartscouncil.org/wp-content/uploads/UNRDTD-250149-Bat-Boy-Musical-Poster-F-5-scaled.jpg
ORGANIZER;CN="Department of Theatre and Dance - University of Nevada%2C Reno":MAILTO:theatreanddance@unr.edu
END:VEVENT
END:VCALENDAR