BEGIN:VCALENDAR
VERSION:2.0
PRODID:-//Nevada Arts Council - ECPv6.15.17//NONSGML v1.0//EN
CALSCALE:GREGORIAN
METHOD:PUBLISH
X-WR-CALNAME:Nevada Arts Council
X-ORIGINAL-URL:https://www.nvartscouncil.org
X-WR-CALDESC:Events for Nevada Arts Council
REFRESH-INTERVAL;VALUE=DURATION:PT1H
X-Robots-Tag:noindex
X-PUBLISHED-TTL:PT1H
BEGIN:VTIMEZONE
TZID:America/Los_Angeles
BEGIN:DAYLIGHT
TZOFFSETFROM:-0800
TZOFFSETTO:-0700
TZNAME:PDT
DTSTART:20250309T100000
END:DAYLIGHT
BEGIN:STANDARD
TZOFFSETFROM:-0700
TZOFFSETTO:-0800
TZNAME:PST
DTSTART:20251102T090000
END:STANDARD
BEGIN:DAYLIGHT
TZOFFSETFROM:-0800
TZOFFSETTO:-0700
TZNAME:PDT
DTSTART:20260308T100000
END:DAYLIGHT
BEGIN:STANDARD
TZOFFSETFROM:-0700
TZOFFSETTO:-0800
TZNAME:PST
DTSTART:20261101T090000
END:STANDARD
BEGIN:DAYLIGHT
TZOFFSETFROM:-0800
TZOFFSETTO:-0700
TZNAME:PDT
DTSTART:20270314T100000
END:DAYLIGHT
BEGIN:STANDARD
TZOFFSETFROM:-0700
TZOFFSETTO:-0800
TZNAME:PST
DTSTART:20271107T090000
END:STANDARD
END:VTIMEZONE
BEGIN:VEVENT
DTSTART;TZID=America/Los_Angeles:20260413T090000
DTEND;TZID=America/Los_Angeles:20260413T160000
DTSTAMP:20260422T173406
CREATED:20260311T203042Z
LAST-MODIFIED:20260319T233601Z
UID:85993-1776070800-1776096000@www.nvartscouncil.org
SUMMARY:Annual “Senior Art Show” 2026   City of Reno McKinley Galleries
DESCRIPTION:McKinley Arts & Culture Center  \nGallery East/West  \nApril 13 – May 21\, 2026  \nArtist Reception: Tuesday\, May 5\, 2026\, 5-7 p.m.   \nReno\, Nevada – Gallery East & West in the McKinley Arts & Culture Center is proud to host the “Senior Artists Exhibit & Show\,” organized by the City of Reno Senior Citizens Advisory Committee. The exhibition will run from April 13 – May 21\, 2026 at the McKinley Arts and Culture Center\, Gallery East and West. The public is invited to attend the artists’ reception on Tuesday\, May 5\, 2026\, from 5–7 p.m.  \nIn honor of Older Americans Month this May\, the exhibit celebrates seniors’ creativity. This is the fourth annual senior artist exhibit that showcases work by Reno residents aged 60 or older. The show includes a variety of mediums including painting\, photography\, macramé\, needlepoint\, crochet\, sculpture\, pottery\, jewelry\, glass art\, and more.  \nThe McKinley Gallery is one of three galleries operated by the City of Reno and open to the public\, free of charge\, Monday-Friday\, 9 a.m.-4 p.m. To learn more\, please visit: McKinley Gallery East and West | City of Reno Metro Gallery 
URL:https://www.nvartscouncil.org/event/annual-senior-art-show-2026-city-of-reno-mckinley-galleries/2026-04-13/
LOCATION:McKinley Arts  and Cultural Center\, 925 Riverside Dr.\, Reno\, NV\, 89503\, United States
CATEGORIES:Exhibit,Reception
ATTACH;FMTTYPE=image/jpeg:https://www.nvartscouncil.org/wp-content/uploads/Senior-Art-Show-2026-Facebook-jpg-scaled.jpg
ORGANIZER;CN="City of Reno":MAILTO:publicart@reno.gov
END:VEVENT
END:VCALENDAR