BEGIN:VCALENDAR
VERSION:2.0
PRODID:-//Nevada Arts Council - ECPv6.15.17//NONSGML v1.0//EN
CALSCALE:GREGORIAN
METHOD:PUBLISH
X-WR-CALNAME:Nevada Arts Council
X-ORIGINAL-URL:https://www.nvartscouncil.org
X-WR-CALDESC:Events for Nevada Arts Council
REFRESH-INTERVAL;VALUE=DURATION:PT1H
X-Robots-Tag:noindex
X-PUBLISHED-TTL:PT1H
BEGIN:VTIMEZONE
TZID:America/Los_Angeles
BEGIN:DAYLIGHT
TZOFFSETFROM:-0800
TZOFFSETTO:-0700
TZNAME:PDT
DTSTART:20250309T100000
END:DAYLIGHT
BEGIN:STANDARD
TZOFFSETFROM:-0700
TZOFFSETTO:-0800
TZNAME:PST
DTSTART:20251102T090000
END:STANDARD
BEGIN:DAYLIGHT
TZOFFSETFROM:-0800
TZOFFSETTO:-0700
TZNAME:PDT
DTSTART:20260308T100000
END:DAYLIGHT
BEGIN:STANDARD
TZOFFSETFROM:-0700
TZOFFSETTO:-0800
TZNAME:PST
DTSTART:20261101T090000
END:STANDARD
BEGIN:DAYLIGHT
TZOFFSETFROM:-0800
TZOFFSETTO:-0700
TZNAME:PDT
DTSTART:20270314T100000
END:DAYLIGHT
BEGIN:STANDARD
TZOFFSETFROM:-0700
TZOFFSETTO:-0800
TZNAME:PST
DTSTART:20271107T090000
END:STANDARD
END:VTIMEZONE
BEGIN:VEVENT
DTSTART;TZID=America/Los_Angeles:20260306T160000
DTEND;TZID=America/Los_Angeles:20260306T190000
DTSTAMP:20260423T082906
CREATED:20260226T192549Z
LAST-MODIFIED:20260226T192549Z
UID:84448-1772812800-1772823600@www.nvartscouncil.org
SUMMARY:FIRST FRIDAY Art Walk
DESCRIPTION:First Friday Art Walk in March is right around the corner. Dealt A Straight Band will be ROCK’n the pavilion at Mesquite Fine Arts Center. Bring family and friends to this community event to explore local art vendors\, galleries inside the Mesquite Fine Arts Center\, and MUSIC.    \nFor bookings and inquires\, contact Ronnie Austin 386-846-3443.
URL:https://www.nvartscouncil.org/event/first-friday-art-walk/
LOCATION:Mesquite Fine Arts Center\, 15 W. Mesquite Blvd.\, Mesquite\, NV\, 89027\, United States
CATEGORIES:Family Friendly,Festival,Performing
END:VEVENT
END:VCALENDAR