BEGIN:VCALENDAR
VERSION:2.0
PRODID:-//Nevada Arts Council - ECPv6.15.17//NONSGML v1.0//EN
CALSCALE:GREGORIAN
METHOD:PUBLISH
X-ORIGINAL-URL:https://www.nvartscouncil.org
X-WR-CALDESC:Events for Nevada Arts Council
REFRESH-INTERVAL;VALUE=DURATION:PT1H
X-Robots-Tag:noindex
X-PUBLISHED-TTL:PT1H
BEGIN:VTIMEZONE
TZID:America/Los_Angeles
BEGIN:DAYLIGHT
TZOFFSETFROM:-0800
TZOFFSETTO:-0700
TZNAME:PDT
DTSTART:20240310T100000
END:DAYLIGHT
BEGIN:STANDARD
TZOFFSETFROM:-0700
TZOFFSETTO:-0800
TZNAME:PST
DTSTART:20241103T090000
END:STANDARD
BEGIN:DAYLIGHT
TZOFFSETFROM:-0800
TZOFFSETTO:-0700
TZNAME:PDT
DTSTART:20250309T100000
END:DAYLIGHT
BEGIN:STANDARD
TZOFFSETFROM:-0700
TZOFFSETTO:-0800
TZNAME:PST
DTSTART:20251102T090000
END:STANDARD
BEGIN:DAYLIGHT
TZOFFSETFROM:-0800
TZOFFSETTO:-0700
TZNAME:PDT
DTSTART:20260308T100000
END:DAYLIGHT
BEGIN:STANDARD
TZOFFSETFROM:-0700
TZOFFSETTO:-0800
TZNAME:PST
DTSTART:20261101T090000
END:STANDARD
END:VTIMEZONE
BEGIN:VEVENT
DTSTART;TZID=America/Los_Angeles:20250205T130000
DTEND;TZID=America/Los_Angeles:20250205T143000
DTSTAMP:20260421T132135
CREATED:20250114T000133Z
LAST-MODIFIED:20250114T000133Z
UID:59239-1738760400-1738765800@www.nvartscouncil.org
SUMMARY:How to Apply for Folklife Artist Grant\, Folklife Community Grant\, Nevada Heritage Fellowship 
DESCRIPTION:Are you wanting to learn more about grants that support Nevada folklife organizations and artists? Attend this session to help you prepare your grant application. \nThe Folklife Artist Grant (FLA) supports traditional arts projects by folk artists and culture bearers. Eligible projects focus on the transmission of folk arts or traditions that are practiced\, valued\, and shared within culturally specific communities in Nevada. \nThe Nevada Heritage Fellowship from the Nevada Arts Council recognizes tradition bearers living in Nevada whose body of work has contributed to Nevada’s traditional arts heritage. The Nevada Heritage Fellowship is awarded as an honorarium and does not need to be used for any specific expenses or projects (applications for specific projects should be submitted to the Folklife Artist Grant and/or the Project Grant for Artists). \nREGISTER HERE:  Webinar Registration – Zoom
URL:https://www.nvartscouncil.org/event/how-to-apply-for-folklife-artist-grant-folklife-community-grant-nevada-heritage-fellowship/
LOCATION:Zoom\, NV\, United States
CATEGORIES:Folklife,Professional Development,Virtual,Workshops and Webinars
ATTACH;FMTTYPE=image/png:https://www.nvartscouncil.org/wp-content/uploads/cropped-NAC_Favicon_512x512px-4.png
END:VEVENT
BEGIN:VEVENT
DTSTART;TZID=America/Los_Angeles:20250214T190000
DTEND;TZID=America/Los_Angeles:20250214T210000
DTSTAMP:20260421T132135
CREATED:20241205T223624Z
LAST-MODIFIED:20241205T223624Z
UID:57833-1739559600-1739566800@www.nvartscouncil.org
SUMMARY:The Corner Presents Love's Canvas
DESCRIPTION:Willie “Saucey Downs” Williams III will host a forum for artists\, spectators\, and open mic participants. Come celebrate the love of arts & culture through poetry\, music\, and spoken word. The night will feature an array of literary\, visual\, and musical artistry offering an opportunity for everyday people to gather\, to hear\, and to be heard. Won’t you come?
URL:https://www.nvartscouncil.org/event/the-corner-presents-loves-canvas/
LOCATION:West Las Vegas Arts Center\, 947 W. Lake Mead Blvd\, Las Vegas\, NV\, 89106\, United States
CATEGORIES:Folklife,Literary,Performing
END:VEVENT
BEGIN:VEVENT
DTSTART;TZID=America/Los_Angeles:20250221T190000
DTEND;TZID=America/Los_Angeles:20250221T210000
DTSTAMP:20260421T132135
CREATED:20241205T223337Z
LAST-MODIFIED:20241205T223337Z
UID:57820-1740164400-1740171600@www.nvartscouncil.org
SUMMARY:Black Weekend 2025: Kemet In The Desert Series
DESCRIPTION:The 12th annual Black Weekend 2025: Kemet in the Desert Lecture Series in recognition of Black History Month is a cultural celebration of the African diaspora inclusive of dancing\, music\, spoken word and affirmations in afro-ritualistic traditions.  KITD enlightens and awakens the community by presenting world-renowned master teachers of African & Egyptian history\, culture and religion.  Co-presented with the Las Vegas-Clark County Library District and Platinum Productions.  Executive Director Oscar Robinson will host this series.  The event is held in honor of KITD founder Franklyn G. Verley III. \n\nFriday – Documentary “Global Assignment\,” The Life and Times of Dr. Runoko Rashidi\nSaturday – Lecture by Dr. Anthony “Tony” Browder\, “Why Kemet Matters.”\n\nFor more information\, please call the West Las Vegas Arts Center at 702-229-4800.
URL:https://www.nvartscouncil.org/event/black-weekend-2025-kemet-in-the-desert-series/2025-02-21/
LOCATION:West Las Vegas Library\, 951 W. Lake Mead\, Las Vegas\, NV\, 89106\, United States
CATEGORIES:Family Friendly,Folklife,Performing,Visual
ATTACH;FMTTYPE=image/png:https://www.nvartscouncil.org/wp-content/uploads/KEMET.png
END:VEVENT
BEGIN:VEVENT
DTSTART;TZID=America/Los_Angeles:20250222T190000
DTEND;TZID=America/Los_Angeles:20250222T210000
DTSTAMP:20260421T132135
CREATED:20241205T223338Z
LAST-MODIFIED:20241205T223338Z
UID:57836-1740250800-1740258000@www.nvartscouncil.org
SUMMARY:Black Weekend 2025: Kemet In The Desert Series
DESCRIPTION:The 12th annual Black Weekend 2025: Kemet in the Desert Lecture Series in recognition of Black History Month is a cultural celebration of the African diaspora inclusive of dancing\, music\, spoken word and affirmations in afro-ritualistic traditions.  KITD enlightens and awakens the community by presenting world-renowned master teachers of African & Egyptian history\, culture and religion.  Co-presented with the Las Vegas-Clark County Library District and Platinum Productions.  Executive Director Oscar Robinson will host this series.  The event is held in honor of KITD founder Franklyn G. Verley III. \n\nFriday – Documentary “Global Assignment\,” The Life and Times of Dr. Runoko Rashidi\nSaturday – Lecture by Dr. Anthony “Tony” Browder\, “Why Kemet Matters.”\n\nFor more information\, please call the West Las Vegas Arts Center at 702-229-4800.
URL:https://www.nvartscouncil.org/event/black-weekend-2025-kemet-in-the-desert-series/2025-02-22/
LOCATION:West Las Vegas Library\, 951 W. Lake Mead\, Las Vegas\, NV\, 89106\, United States
CATEGORIES:Family Friendly,Folklife,Performing,Visual
ATTACH;FMTTYPE=image/png:https://www.nvartscouncil.org/wp-content/uploads/KEMET.png
END:VEVENT
END:VCALENDAR