BEGIN:VCALENDAR
VERSION:2.0
PRODID:-//Nevada Arts Council - ECPv6.15.20//NONSGML v1.0//EN
CALSCALE:GREGORIAN
METHOD:PUBLISH
X-WR-CALNAME:Nevada Arts Council
X-ORIGINAL-URL:https://www.nvartscouncil.org
X-WR-CALDESC:Events for Nevada Arts Council
REFRESH-INTERVAL;VALUE=DURATION:PT1H
X-Robots-Tag:noindex
X-PUBLISHED-TTL:PT1H
BEGIN:VTIMEZONE
TZID:America/Los_Angeles
BEGIN:DAYLIGHT
TZOFFSETFROM:-0800
TZOFFSETTO:-0700
TZNAME:PDT
DTSTART:20250309T100000
END:DAYLIGHT
BEGIN:STANDARD
TZOFFSETFROM:-0700
TZOFFSETTO:-0800
TZNAME:PST
DTSTART:20251102T090000
END:STANDARD
BEGIN:DAYLIGHT
TZOFFSETFROM:-0800
TZOFFSETTO:-0700
TZNAME:PDT
DTSTART:20260308T100000
END:DAYLIGHT
BEGIN:STANDARD
TZOFFSETFROM:-0700
TZOFFSETTO:-0800
TZNAME:PST
DTSTART:20261101T090000
END:STANDARD
BEGIN:DAYLIGHT
TZOFFSETFROM:-0800
TZOFFSETTO:-0700
TZNAME:PDT
DTSTART:20270314T100000
END:DAYLIGHT
BEGIN:STANDARD
TZOFFSETFROM:-0700
TZOFFSETTO:-0800
TZNAME:PST
DTSTART:20271107T090000
END:STANDARD
END:VTIMEZONE
BEGIN:VEVENT
DTSTART;TZID=America/Los_Angeles:20260130T060000
DTEND;TZID=America/Los_Angeles:20260130T190000
DTSTAMP:20260424T013354
CREATED:20260121T011107Z
LAST-MODIFIED:20260416T132803Z
UID:82537-1769752800-1769799600@www.nvartscouncil.org
SUMMARY:BMI Live: The Art of Retelling the Truth featuring Melissa Febos\, Jamie Hood\, and Isle McElroy
DESCRIPTION:Melissa Febos and Jamie Hood are two of the most astute essayists working today on the subject of trauma and embodiment. For Febos\, this has taken the form of memoirs like Abandon Me and The Dry Season\, where she interrogates her life with the rigor and wit of a scholar. For Febos\, no statement\, no feeling\, no memory goes unexamined. Hood engages with a similar practice in her critical essays and books. In How to Be a Good Girl\, Hood explored notions of ideal womanhood and its threats through lyric essays and poems; in her latest\, Trauma Plot\, she charts the intersections between her personal traumas and the social responses to trauma narratives following the advent of MeToo. Both writers are esteemed\, relentless surveyors of the self. In this conversation moderated by 2025-26 Shearing Fellow Isle McElroy\, Febos and Hood will discuss queerness\, embodiment\, trauma\, and the narratives we create to make sense of ourselves.
URL:https://www.nvartscouncil.org/event/bmi-live-the-art-of-retelling-the-truth-featuring-melissa-febos-jamie-hood-and-isle-mcelroy/
LOCATION:University of Nevada\, Las Vegas Dr. Arturo Rando-Grillot Hall\, 4327-4371 S Maryland Pkwy\, Las Vegas\, NV\, 89119\, United States
CATEGORIES:Literary
ORGANIZER;CN="Black Mountain Institute":MAILTO:blackmountaininstitute@unlv.edu
GEO:39°32'40.4"N;119°48'57.9"W
X-APPLE-STRUCTURED-LOCATION;VALUE=URI;X-ADDRESS=University of Nevada Las Vegas Dr. Arturo Rando-Grillot Hall 4327-4371 S Maryland Pkwy Las Vegas NV 89119 United States;X-APPLE-RADIUS=500;X-TITLE=4327-4371 S Maryland Pkwy:geo:119°48'57.9"W,39°32'40.4"N
END:VEVENT
BEGIN:VEVENT
DTSTART;TZID=America/Los_Angeles:20260131T130000
DTEND;TZID=America/Los_Angeles:20260131T160000
DTSTAMP:20260424T013354
CREATED:20251219T185121Z
LAST-MODIFIED:20251219T185121Z
UID:79882-1769864400-1769875200@www.nvartscouncil.org
SUMMARY:Astrology at Work Book Signing
DESCRIPTION:Meet certified astrologer and HR professional Nicole Calix Coy and celebrate her book “Astrology at Work\,” a practical guide to understanding workplace dynamics through astrology. Learn how astrology can help improve communication\, collaboration\, and team performance. Books will be available for purchase and signing.
URL:https://www.nvartscouncil.org/event/astrology-at-work-book-signing/
LOCATION:Mad Red Books\, 9480 S. Eastern Ave.\, Unit 105\, Las Vegas\, NV\, 89123\, United States
CATEGORIES:Family Friendly,Literary,Professional Development
ATTACH;FMTTYPE=image/jpeg:https://www.nvartscouncil.org/wp-content/uploads/IMG_3423.jpeg
ORGANIZER;CN="Live to Give Group":MAILTO:Leticia@livetogivegroup.com
END:VEVENT
END:VCALENDAR