BEGIN:VCALENDAR
VERSION:2.0
PRODID:-//Nevada Arts Council - ECPv6.15.17//NONSGML v1.0//EN
CALSCALE:GREGORIAN
METHOD:PUBLISH
X-ORIGINAL-URL:https://www.nvartscouncil.org
X-WR-CALDESC:Events for Nevada Arts Council
REFRESH-INTERVAL;VALUE=DURATION:PT1H
X-Robots-Tag:noindex
X-PUBLISHED-TTL:PT1H
BEGIN:VTIMEZONE
TZID:America/Los_Angeles
BEGIN:DAYLIGHT
TZOFFSETFROM:-0800
TZOFFSETTO:-0700
TZNAME:PDT
DTSTART:20250309T100000
END:DAYLIGHT
BEGIN:STANDARD
TZOFFSETFROM:-0700
TZOFFSETTO:-0800
TZNAME:PST
DTSTART:20251102T090000
END:STANDARD
BEGIN:DAYLIGHT
TZOFFSETFROM:-0800
TZOFFSETTO:-0700
TZNAME:PDT
DTSTART:20260308T100000
END:DAYLIGHT
BEGIN:STANDARD
TZOFFSETFROM:-0700
TZOFFSETTO:-0800
TZNAME:PST
DTSTART:20261101T090000
END:STANDARD
BEGIN:DAYLIGHT
TZOFFSETFROM:-0800
TZOFFSETTO:-0700
TZNAME:PDT
DTSTART:20270314T100000
END:DAYLIGHT
BEGIN:STANDARD
TZOFFSETFROM:-0700
TZOFFSETTO:-0800
TZNAME:PST
DTSTART:20271107T090000
END:STANDARD
END:VTIMEZONE
BEGIN:VEVENT
DTSTART;TZID=America/Los_Angeles:20260606T100000
DTEND;TZID=America/Los_Angeles:20260606T180000
DTSTAMP:20260421T150035
CREATED:20260319T173615Z
LAST-MODIFIED:20260319T173615Z
UID:86700-1780740000-1780768800@www.nvartscouncil.org
SUMMARY:Reno Art Book Fair
DESCRIPTION:On June 6th\, 2026\, at the Reno Public Market\, we’re bringing it all under one roof: records\, artist books\, zines\, comics\, photo books\, prints\, and sculptural work. It’s a full celebration of independent publishing and creative freedom. Join us for a day of independent art\, live DJ sets\, and special musical guests—an event built by creators\, for creators\, and for everyone who wants to be part of something real.
URL:https://www.nvartscouncil.org/event/reno-art-book-fair/
LOCATION:Reno Public Market\, 299 E. Plumb Lane\, Reno\, NV\, 89502\, United States
CATEGORIES:Literary,Meeting,Visual
ATTACH;FMTTYPE=image/png:https://www.nvartscouncil.org/wp-content/uploads/RABF-Logo-og-cell-1.png
ORGANIZER;CN="Reno Art Book Fair":MAILTO:renoartbookfair@proton.me
END:VEVENT
BEGIN:VEVENT
DTSTART;TZID=America/Los_Angeles:20260613T110000
DTEND;TZID=America/Los_Angeles:20260613T120000
DTSTAMP:20260421T150035
CREATED:20260319T200632Z
LAST-MODIFIED:20260319T200632Z
UID:86292-1781348400-1781352000@www.nvartscouncil.org
SUMMARY:Footsteps into Story: How Travel and Hiking Inspire Writing
DESCRIPTION:Join Nevada Humanities and author Laura Newman for an outdoor walk and talk about how she incorporates her travels and long-distance hikes into her fiction writing. Come wend through the woods at Galena Creek Regional Park and get inspiration on using the globe as your personal muse. \nDuring this Sagebrush to Sandstone program\, participants will have the opportunity to ask questions and glean writing tips from Newman about gathering inspiration from the outdoors and how movement awakens creativity. \nSpace for this event is limited and registration in advance is required.  \nThis program is supported with funding by the Charles Redd Center for Western Studies at Brigham Young University.
URL:https://www.nvartscouncil.org/event/footsteps-into-story-how-travel-and-hiking-inspire-writing/
LOCATION:Galena Creek Regional Park\, 18250 Mount Rose Highway\, Reno\, 89511\, United States
CATEGORIES:Literary,Workshops and Webinars
ATTACH;FMTTYPE=image/png:https://www.nvartscouncil.org/wp-content/uploads/Screenshot-2026-03-13-at-1.20.54-PM.png
END:VEVENT
END:VCALENDAR