BEGIN:VCALENDAR
VERSION:2.0
PRODID:-//Nevada Arts Council - ECPv6.15.20//NONSGML v1.0//EN
CALSCALE:GREGORIAN
METHOD:PUBLISH
X-WR-CALNAME:Nevada Arts Council
X-ORIGINAL-URL:https://www.nvartscouncil.org
X-WR-CALDESC:Events for Nevada Arts Council
REFRESH-INTERVAL;VALUE=DURATION:PT1H
X-Robots-Tag:noindex
X-PUBLISHED-TTL:PT1H
BEGIN:VTIMEZONE
TZID:America/Los_Angeles
BEGIN:DAYLIGHT
TZOFFSETFROM:-0800
TZOFFSETTO:-0700
TZNAME:PDT
DTSTART:20230312T100000
END:DAYLIGHT
BEGIN:STANDARD
TZOFFSETFROM:-0700
TZOFFSETTO:-0800
TZNAME:PST
DTSTART:20231105T090000
END:STANDARD
BEGIN:DAYLIGHT
TZOFFSETFROM:-0800
TZOFFSETTO:-0700
TZNAME:PDT
DTSTART:20240310T100000
END:DAYLIGHT
BEGIN:STANDARD
TZOFFSETFROM:-0700
TZOFFSETTO:-0800
TZNAME:PST
DTSTART:20241103T090000
END:STANDARD
BEGIN:DAYLIGHT
TZOFFSETFROM:-0800
TZOFFSETTO:-0700
TZNAME:PDT
DTSTART:20250309T100000
END:DAYLIGHT
BEGIN:STANDARD
TZOFFSETFROM:-0700
TZOFFSETTO:-0800
TZNAME:PST
DTSTART:20251102T090000
END:STANDARD
END:VTIMEZONE
BEGIN:VEVENT
DTSTART;TZID=America/Los_Angeles:20240913T183000
DTEND;TZID=America/Los_Angeles:20240913T203000
DTSTAMP:20260424T051821
CREATED:20240817T000107Z
LAST-MODIFIED:20240817T000108Z
UID:50756-1726252200-1726259400@www.nvartscouncil.org
SUMMARY:No Charity in the Wilderness - Reading by Shaun Griffin
DESCRIPTION:Join us for a reading by Shaun Griffin\, Nevada’s Poet Laureate\, from his new book of poems\, No Charity in the Wilderness. \nNo Charity in the Wilderness is a long journey into the new American West. From the southern border to the isolating two-lane highways in the desert\, this collection is a prayer of reconciliation with so much that troubles us … \n“No Charity in the Wilderness should loft Griffin’s literary reputation into company with William Stafford\, Gary Snyder\, and Annie Dillard\, as he is clearly one of the most powerful and spiritual voices of the new American West and beyond. These new poems are a conscience for our world.”\n—Douglas Unger\, author of Leaving the Land and Voices from Silence
URL:https://www.nvartscouncil.org/event/no-charity-in-the-wilderness-reading-by-shaun-griffin/
LOCATION:The Writer’s Block\, 519 S 6th Street #100\, Las Vegas\, NV\, 89101\, United States
CATEGORIES:Literary
ATTACH;FMTTYPE=image/jpeg:https://www.nvartscouncil.org/wp-content/uploads/Shaun-Griffin.jpg
END:VEVENT
END:VCALENDAR