BEGIN:VCALENDAR
VERSION:2.0
PRODID:-//Nevada Arts Council - ECPv6.15.17//NONSGML v1.0//EN
CALSCALE:GREGORIAN
METHOD:PUBLISH
X-WR-CALNAME:Nevada Arts Council
X-ORIGINAL-URL:https://www.nvartscouncil.org
X-WR-CALDESC:Events for Nevada Arts Council
REFRESH-INTERVAL;VALUE=DURATION:PT1H
X-Robots-Tag:noindex
X-PUBLISHED-TTL:PT1H
BEGIN:VTIMEZONE
TZID:America/Los_Angeles
BEGIN:DAYLIGHT
TZOFFSETFROM:-0800
TZOFFSETTO:-0700
TZNAME:PDT
DTSTART:20250309T100000
END:DAYLIGHT
BEGIN:STANDARD
TZOFFSETFROM:-0700
TZOFFSETTO:-0800
TZNAME:PST
DTSTART:20251102T090000
END:STANDARD
BEGIN:DAYLIGHT
TZOFFSETFROM:-0800
TZOFFSETTO:-0700
TZNAME:PDT
DTSTART:20260308T100000
END:DAYLIGHT
BEGIN:STANDARD
TZOFFSETFROM:-0700
TZOFFSETTO:-0800
TZNAME:PST
DTSTART:20261101T090000
END:STANDARD
BEGIN:DAYLIGHT
TZOFFSETFROM:-0800
TZOFFSETTO:-0700
TZNAME:PDT
DTSTART:20270314T100000
END:DAYLIGHT
BEGIN:STANDARD
TZOFFSETFROM:-0700
TZOFFSETTO:-0800
TZNAME:PST
DTSTART:20271107T090000
END:STANDARD
END:VTIMEZONE
BEGIN:VEVENT
DTSTART;TZID=America/Los_Angeles:20260203T153000
DTEND;TZID=America/Los_Angeles:20260203T173000
DTSTAMP:20260419T212056
CREATED:20260129T195250Z
LAST-MODIFIED:20260129T195251Z
UID:82270-1770132600-1770139800@www.nvartscouncil.org
SUMMARY:Clark County Poetry Out Loud Semi-Finals
DESCRIPTION:Clark County high school students\, who advanced to this county-level Poetry Out Loud recitation competition\, will share prepared readings of selected fine poetry. Winners of this gathering will advance to State Finals held in Reno\, Nevada\, in May 7\, 2026\, at the University of Nevada\, Reno campus.
URL:https://www.nvartscouncil.org/event/clark-county-poetry-out-loud-semi-finals/
LOCATION:West Charleston Library\, 6301 W. Charleston Blvd.\, Las Vegas\, NV\, 89146\, United States
CATEGORIES:Family Friendly,Literary,Performing
ATTACH;FMTTYPE=image/png:https://www.nvartscouncil.org/wp-content/uploads/NDTCA-240114-052-POL25-Web-Banner-v1.0-1440x480-F.png
END:VEVENT
END:VCALENDAR