BEGIN:VCALENDAR
VERSION:2.0
PRODID:-//Nevada Arts Council - ECPv6.15.17//NONSGML v1.0//EN
CALSCALE:GREGORIAN
METHOD:PUBLISH
X-WR-CALNAME:Nevada Arts Council
X-ORIGINAL-URL:https://www.nvartscouncil.org
X-WR-CALDESC:Events for Nevada Arts Council
REFRESH-INTERVAL;VALUE=DURATION:PT1H
X-Robots-Tag:noindex
X-PUBLISHED-TTL:PT1H
BEGIN:VTIMEZONE
TZID:America/Los_Angeles
BEGIN:DAYLIGHT
TZOFFSETFROM:-0800
TZOFFSETTO:-0700
TZNAME:PDT
DTSTART:20250309T100000
END:DAYLIGHT
BEGIN:STANDARD
TZOFFSETFROM:-0700
TZOFFSETTO:-0800
TZNAME:PST
DTSTART:20251102T090000
END:STANDARD
BEGIN:DAYLIGHT
TZOFFSETFROM:-0800
TZOFFSETTO:-0700
TZNAME:PDT
DTSTART:20260308T100000
END:DAYLIGHT
BEGIN:STANDARD
TZOFFSETFROM:-0700
TZOFFSETTO:-0800
TZNAME:PST
DTSTART:20261101T090000
END:STANDARD
BEGIN:DAYLIGHT
TZOFFSETFROM:-0800
TZOFFSETTO:-0700
TZNAME:PDT
DTSTART:20270314T100000
END:DAYLIGHT
BEGIN:STANDARD
TZOFFSETFROM:-0700
TZOFFSETTO:-0800
TZNAME:PST
DTSTART:20271107T090000
END:STANDARD
END:VTIMEZONE
BEGIN:VEVENT
DTSTART;TZID=America/Los_Angeles:20260308T140000
DTEND;TZID=America/Los_Angeles:20260308T160000
DTSTAMP:20260419T212157
CREATED:20260223T202948Z
LAST-MODIFIED:20260223T202948Z
UID:83154-1772978400-1772985600@www.nvartscouncil.org
SUMMARY:Honoring the Women Who've Shaped Us: A Writing Workshop with Jillian Makoutz
DESCRIPTION:Join local poet Jillian Makoutz from Grass and Sky Press for a poetry workshop that encourages you to honor a special woman in your life. We’re delighted to welcome Makoutz for this special celebration of International Women’s Day. \nWe’ll begin with a discussion about the process of honoring a woman in your life\, different ways you can approach that concept\, and some writing prompts to get your creativity flowing. Makoutz will also share a few of her own poems on the subject as she teaches. \nThen\, we’ll move into writing time as you create an original poem or written piece that honors a woman in your life that has shaped who you are. You may find it meaningful to bring a photo or some sort of memorabilia of the woman you are honoring to inspire you. This isn’t a requirement! \nAfter writing\, we’ll take time at the end of the class for those who would like to read their pieces aloud. \nAll materials are provided\, including a journal and blackwing pencil for all your writing needs\, so just plan to bring yourself\, a memento (if you’d like!)\, and maybe some Kleenex. You’ll also receive a signed copy of Jillian Makoutz’s book\, Four Seasons in the Sierra. \nYoung guests junior high age and above are welcome to attend!
URL:https://www.nvartscouncil.org/event/honoring-the-women-whove-shaped-us-a-writing-workshop-with-jillian-makoutz/
LOCATION:Wyld Market Collective\, 1640 S Wells Ave\, Reno\, NV\, 89502\, United States
CATEGORIES:Class,Literary
ORGANIZER;CN="Wandering Wyld":MAILTO:hello@wanderingwyld.com
END:VEVENT
END:VCALENDAR