BEGIN:VCALENDAR
VERSION:2.0
PRODID:-//Nevada Arts Council - ECPv6.15.17//NONSGML v1.0//EN
CALSCALE:GREGORIAN
METHOD:PUBLISH
X-ORIGINAL-URL:https://www.nvartscouncil.org
X-WR-CALDESC:Events for Nevada Arts Council
REFRESH-INTERVAL;VALUE=DURATION:PT1H
X-Robots-Tag:noindex
X-PUBLISHED-TTL:PT1H
BEGIN:VTIMEZONE
TZID:America/Los_Angeles
BEGIN:DAYLIGHT
TZOFFSETFROM:-0800
TZOFFSETTO:-0700
TZNAME:PDT
DTSTART:20250309T100000
END:DAYLIGHT
BEGIN:STANDARD
TZOFFSETFROM:-0700
TZOFFSETTO:-0800
TZNAME:PST
DTSTART:20251102T090000
END:STANDARD
BEGIN:DAYLIGHT
TZOFFSETFROM:-0800
TZOFFSETTO:-0700
TZNAME:PDT
DTSTART:20260308T100000
END:DAYLIGHT
BEGIN:STANDARD
TZOFFSETFROM:-0700
TZOFFSETTO:-0800
TZNAME:PST
DTSTART:20261101T090000
END:STANDARD
BEGIN:DAYLIGHT
TZOFFSETFROM:-0800
TZOFFSETTO:-0700
TZNAME:PDT
DTSTART:20270314T100000
END:DAYLIGHT
BEGIN:STANDARD
TZOFFSETFROM:-0700
TZOFFSETTO:-0800
TZNAME:PST
DTSTART:20271107T090000
END:STANDARD
END:VTIMEZONE
BEGIN:VEVENT
DTSTART;TZID=America/Los_Angeles:20260327T190000
DTEND;TZID=America/Los_Angeles:20260327T200000
DTSTAMP:20260419T193359
CREATED:20260127T005929Z
LAST-MODIFIED:20260127T005929Z
UID:82099-1774638000-1774641600@www.nvartscouncil.org
SUMMARY:BMI Live: Nature is What We Come To in the Practice of Remembering featuring Saretta Morgan with Lazarus Letcher\, Erica Vital-Lazare\, and Claytee D. White
DESCRIPTION:This conversation opens a space to celebrate the rich perspectives of Black artists\, social change makers\, and everyday folks who’ve deepened our capacities to feel\, observe\, and be present to natural worlds that are often weaponized against us as Black people shaped in various ways by the U.S. South (east/west).  \nComing from a range of disciplines and movements—music\, poetry\, oral history\, birding\, land stewardship\, water protection\, sobriety\, demilitarization\, and more—guests Lazarus Letcher\, Erica Vital-Lazare\, Claytee D. White\, and host Saretta Morgan will reflect on their personal eco-histories and share literature\, songs\, photos\, and ephemera that speak to how they’ve come to understand their sense of place and possibility in ever-shifting and contested geographies. \nThis event is co-presented with The Library District.
URL:https://www.nvartscouncil.org/event/bmi-live-nature-is-what-we-come-to-in-the-practice-of-remembering-featuring-saretta-morgan-with-lazarus-letcher-erica-vital-lazare-and-claytee-d-white/
LOCATION:West Las Vegas Library\, 951 W. Lake Mead\, Las Vegas\, NV\, 89106\, United States
CATEGORIES:Literary
ORGANIZER;CN="Black Mountain Institute":MAILTO:blackmountaininstitute@unlv.edu
END:VEVENT
END:VCALENDAR