BEGIN:VCALENDAR
VERSION:2.0
PRODID:-//Nevada Arts Council - ECPv6.15.17//NONSGML v1.0//EN
CALSCALE:GREGORIAN
METHOD:PUBLISH
X-ORIGINAL-URL:https://www.nvartscouncil.org
X-WR-CALDESC:Events for Nevada Arts Council
REFRESH-INTERVAL;VALUE=DURATION:PT1H
X-Robots-Tag:noindex
X-PUBLISHED-TTL:PT1H
BEGIN:VTIMEZONE
TZID:America/Los_Angeles
BEGIN:DAYLIGHT
TZOFFSETFROM:-0800
TZOFFSETTO:-0700
TZNAME:PDT
DTSTART:20250309T100000
END:DAYLIGHT
BEGIN:STANDARD
TZOFFSETFROM:-0700
TZOFFSETTO:-0800
TZNAME:PST
DTSTART:20251102T090000
END:STANDARD
BEGIN:DAYLIGHT
TZOFFSETFROM:-0800
TZOFFSETTO:-0700
TZNAME:PDT
DTSTART:20260308T100000
END:DAYLIGHT
BEGIN:STANDARD
TZOFFSETFROM:-0700
TZOFFSETTO:-0800
TZNAME:PST
DTSTART:20261101T090000
END:STANDARD
BEGIN:DAYLIGHT
TZOFFSETFROM:-0800
TZOFFSETTO:-0700
TZNAME:PDT
DTSTART:20270314T100000
END:DAYLIGHT
BEGIN:STANDARD
TZOFFSETFROM:-0700
TZOFFSETTO:-0800
TZNAME:PST
DTSTART:20271107T090000
END:STANDARD
END:VTIMEZONE
BEGIN:VEVENT
DTSTART;TZID=America/Los_Angeles:20260416T183000
DTEND;TZID=America/Los_Angeles:20260416T193000
DTSTAMP:20260423T150737
CREATED:20260305T194653Z
LAST-MODIFIED:20260316T220451Z
UID:85162-1776364200-1776367800@www.nvartscouncil.org
SUMMARY:April Reading Series at Mountain Music Parlor\, April 16
DESCRIPTION:The first four weeks of April\, Mountain Music Parlor is hosting a three-poet reading on Thursday nights for National Poetry Month at 6:30 p.m. The third night\, April 16\, will feature readings by this year’s Nevada Writers’ Hall of Fame Silver Pen awardee\, Arian Katsimbras\, UNR English professor\, Ann Keniston\, and Nevada State Poet Laureate\, Shaun Griffin.  \n 
URL:https://www.nvartscouncil.org/event/3-poet-reading-at-mountain-music-parlor-april-16/
LOCATION:Mountain Music Parlor\, 735 S Center St\, Reno\, NV\, 89501
CATEGORIES:Literary,Performing,Poet Laureate
ATTACH;FMTTYPE=image/jpeg:https://www.nvartscouncil.org/wp-content/uploads/Griffin_Shaun-1.jpg
ORGANIZER;CN="Mountain Music Parlor":MAILTO:mountainmusicparlorreno@gmail.com
END:VEVENT
END:VCALENDAR