BEGIN:VCALENDAR
VERSION:2.0
PRODID:-//Nevada Arts Council - ECPv6.15.17//NONSGML v1.0//EN
CALSCALE:GREGORIAN
METHOD:PUBLISH
X-ORIGINAL-URL:https://www.nvartscouncil.org
X-WR-CALDESC:Events for Nevada Arts Council
REFRESH-INTERVAL;VALUE=DURATION:PT1H
X-Robots-Tag:noindex
X-PUBLISHED-TTL:PT1H
BEGIN:VTIMEZONE
TZID:America/New_York
BEGIN:DAYLIGHT
TZOFFSETFROM:-0500
TZOFFSETTO:-0400
TZNAME:EDT
DTSTART:20250309T070000
END:DAYLIGHT
BEGIN:STANDARD
TZOFFSETFROM:-0400
TZOFFSETTO:-0500
TZNAME:EST
DTSTART:20251102T060000
END:STANDARD
BEGIN:DAYLIGHT
TZOFFSETFROM:-0500
TZOFFSETTO:-0400
TZNAME:EDT
DTSTART:20260308T070000
END:DAYLIGHT
BEGIN:STANDARD
TZOFFSETFROM:-0400
TZOFFSETTO:-0500
TZNAME:EST
DTSTART:20261101T060000
END:STANDARD
BEGIN:DAYLIGHT
TZOFFSETFROM:-0500
TZOFFSETTO:-0400
TZNAME:EDT
DTSTART:20270314T070000
END:DAYLIGHT
BEGIN:STANDARD
TZOFFSETFROM:-0400
TZOFFSETTO:-0500
TZNAME:EST
DTSTART:20271107T060000
END:STANDARD
END:VTIMEZONE
BEGIN:VEVENT
DTSTART;TZID=America/New_York:20260427T080000
DTEND;TZID=America/New_York:20260429T190000
DTSTAMP:20260419T162401
CREATED:20260129T213934Z
LAST-MODIFIED:20260129T213934Z
UID:82476-1777276800-1777489200@www.nvartscouncil.org
SUMMARY:Poetry Out Loud National Finals
DESCRIPTION:High school Poetry Out Loud State Champions will share prepared readings of selected poetry and represent their state in the 2026 National Poetry Out Loud Finals. Students from all U.S. territories will gather in Washington\, D.C.\, and compete over a span of two days while sharing prepared readings of selected poetry. Venue details to be confirmed. \nThe Poetry Out Loud National Finals will be held in Washington\, D.C.\, from April 27-29\, 2026. The National Semifinals will be held on Tuesday\, April 28\, 2026\, from 9 a.m.–8 p.m. ET. Champions from each state will perform in one of three semifinal groups\, and the top three students from each semifinal group will move on to the Poetry Out Loud National Finals on Wednesday\, April 29\, 2026\, at 7 p.m. ET. \n9 a.m. ET— Champions from Connecticut\, Delaware\, District of Columbia\, Maine\, Maryland\, Massachusetts\, New Hampshire\, New Jersey\, North Carolina\, Ohio\, Pennsylvania\, Rhode Island\, South Carolina\, U.S. Virgin Islands\, Vermont\, Virginia\, and West Virginia. \n1 p.m. ET— Champions from Alabama\, Arkansas\, Florida\, Georgia\, Illinois\, Indiana\, Iowa\, Kansas\, Kentucky\, Louisiana\, Michigan\, Mississippi\, Missouri\, Nebraska\, Oklahoma\, Puerto Rico\, Tennessee\, and Wisconsin. \n5 p.m. ET— Champions from Alaska\, American Samoa\, Arizona\, California\, Colorado\, Guam\, Hawaii\, Idaho\, Minnesota\, Montana\, Nevada\, New Mexico\, North Dakota\, Oregon\, South Dakota\, Texas\, Utah\, Washington\, and Wyoming.
URL:https://www.nvartscouncil.org/event/poetry-out-loud-national-finals/
LOCATION:Washington\, DC\, Venue TBC\, TBC\, Washington\, DC\, United States
CATEGORIES:Family Friendly,Literary,Performing
ATTACH;FMTTYPE=image/png:https://www.nvartscouncil.org/wp-content/uploads/Freedom250Lockups-final_POL_Horizontal.png
END:VEVENT
END:VCALENDAR