BEGIN:VCALENDAR
VERSION:2.0
PRODID:-//Nevada Arts Council - ECPv6.15.17//NONSGML v1.0//EN
CALSCALE:GREGORIAN
METHOD:PUBLISH
X-WR-CALNAME:Nevada Arts Council
X-ORIGINAL-URL:https://www.nvartscouncil.org
X-WR-CALDESC:Events for Nevada Arts Council
REFRESH-INTERVAL;VALUE=DURATION:PT1H
X-Robots-Tag:noindex
X-PUBLISHED-TTL:PT1H
BEGIN:VTIMEZONE
TZID:America/Los_Angeles
BEGIN:DAYLIGHT
TZOFFSETFROM:-0800
TZOFFSETTO:-0700
TZNAME:PDT
DTSTART:20250309T100000
END:DAYLIGHT
BEGIN:STANDARD
TZOFFSETFROM:-0700
TZOFFSETTO:-0800
TZNAME:PST
DTSTART:20251102T090000
END:STANDARD
BEGIN:DAYLIGHT
TZOFFSETFROM:-0800
TZOFFSETTO:-0700
TZNAME:PDT
DTSTART:20260308T100000
END:DAYLIGHT
BEGIN:STANDARD
TZOFFSETFROM:-0700
TZOFFSETTO:-0800
TZNAME:PST
DTSTART:20261101T090000
END:STANDARD
BEGIN:DAYLIGHT
TZOFFSETFROM:-0800
TZOFFSETTO:-0700
TZNAME:PDT
DTSTART:20270314T100000
END:DAYLIGHT
BEGIN:STANDARD
TZOFFSETFROM:-0700
TZOFFSETTO:-0800
TZNAME:PST
DTSTART:20271107T090000
END:STANDARD
END:VTIMEZONE
BEGIN:VEVENT
DTSTART;TZID=America/Los_Angeles:20260427T090000
DTEND;TZID=America/Los_Angeles:20260427T160000
DTSTAMP:20260422T161321
CREATED:20260407T222152Z
LAST-MODIFIED:20260407T222152Z
UID:87307-1777280400-1777305600@www.nvartscouncil.org
SUMMARY:“Notions of Erasure: United By Territory”  Nevada Arts Council
DESCRIPTION:City of Reno City Hall\nMetro Gallery\nApril 27 – June 18\, 2026\nReception: Thursday\, May 12\, 2026 5–7 p.m. \nReno\, Nevada – Metro Gallery presents Notions of Erasure: United By Territory\, an exhibit that provides an opportunity for the residents and visitors of Reno to view selected works\nfrom the 2023 Nevada Arts Council Visual Arts Fellows. \nThis traveling exhibition\, curated by the Nevada Arts Council’s Artist Services Program\, features 2023 fellows: Jeffrey Burden of Las Vegas\, Glynn Cartledge of Reno\, Gig Depio\nof Las Vegas\, Miya Hannan of Reno\, Brent Holmes of Las Vegas\, and Bobbie Ann Howell of Las Vegas. Each artist created work independently of one another and with no\nintention of ever appearing together; yet\, when shown alongside one another\, the exhibit reveals how an artist’s place\, time and environment can create unexpected\nand unintended connections that share human experiences. This exhibit brings together an extraordinary collection of unique artworks that span multiple media—from intimate\ndrawings and bold paintings to intricate textiles\, delicate cut paper compositions\, and innovative digital creations. \nThe prestigious Nevada Arts Council Fellowship Award provides meaningful financial support and enhanced public recognition to exceptional Nevada artists\, fostering their\ncontinued pursuit of artistic excellence and creativity. \nThe exhibit is part of the Nevada Touring Initiative (NTI) Traveling Exhibition Program\, which delivers high-quality visual arts exhibits to communities throughout the state. It is\nfunded by the State of Nevada and the National Endowment for the Arts. The Nevada Arts Council is a division of the Department of Tourism and Cultural Affairs. The Nevada Arts Council\, a division of the Nevada Department of Tourism and Cultural Affairs\, was created as a state agency in 1967. With offices in Reno and Las Vegas\, Nevada Arts Council programs serve as a catalyst to stimulate artistic\, creative\, cultural\, and economic activity across the state\, enliven its breadth of communities\, ensure lifelong learning in the arts for all Nevadans\, and to encourage public and private support for the arts. \nTo learn more about the exhibition\, visit: https://www.reno.gov/community/arts-culture/city-art-galleries/metro-gallery or www.nevadaartscouncil.com.
URL:https://www.nvartscouncil.org/event/notions-of-erasure-united-by-territory-nevada-arts-council/2026-04-27/
LOCATION:City Hall Metro Gallery\, 1 E. First St.\, Reno\, NV\, 89501\, United States
CATEGORIES:Exhibit,Nevada Touring Initiative,Visual
ATTACH;FMTTYPE=image/jpeg:https://www.nvartscouncil.org/wp-content/uploads/NTINotionsofErasureFlyer2026JPG-1-scaled.jpg
ORGANIZER;CN="City of Reno":MAILTO:publicart@reno.gov
END:VEVENT
END:VCALENDAR