BEGIN:VCALENDAR
VERSION:2.0
PRODID:-//Nevada Arts Council - ECPv6.15.17//NONSGML v1.0//EN
CALSCALE:GREGORIAN
METHOD:PUBLISH
X-WR-CALNAME:Nevada Arts Council
X-ORIGINAL-URL:https://www.nvartscouncil.org
X-WR-CALDESC:Events for Nevada Arts Council
REFRESH-INTERVAL;VALUE=DURATION:PT1H
X-Robots-Tag:noindex
X-PUBLISHED-TTL:PT1H
BEGIN:VTIMEZONE
TZID:America/Los_Angeles
BEGIN:DAYLIGHT
TZOFFSETFROM:-0800
TZOFFSETTO:-0700
TZNAME:PDT
DTSTART:20210314T100000
END:DAYLIGHT
BEGIN:STANDARD
TZOFFSETFROM:-0700
TZOFFSETTO:-0800
TZNAME:PST
DTSTART:20211107T090000
END:STANDARD
BEGIN:DAYLIGHT
TZOFFSETFROM:-0800
TZOFFSETTO:-0700
TZNAME:PDT
DTSTART:20220313T100000
END:DAYLIGHT
BEGIN:STANDARD
TZOFFSETFROM:-0700
TZOFFSETTO:-0800
TZNAME:PST
DTSTART:20221106T090000
END:STANDARD
BEGIN:DAYLIGHT
TZOFFSETFROM:-0800
TZOFFSETTO:-0700
TZNAME:PDT
DTSTART:20230312T100000
END:DAYLIGHT
BEGIN:STANDARD
TZOFFSETFROM:-0700
TZOFFSETTO:-0800
TZNAME:PST
DTSTART:20231105T090000
END:STANDARD
END:VTIMEZONE
BEGIN:VEVENT
DTSTART;TZID=America/Los_Angeles:20221209T190000
DTEND;TZID=America/Los_Angeles:20221209T203000
DTSTAMP:20260423T051348
CREATED:20221117T174430Z
LAST-MODIFIED:20221117T174430Z
UID:33621-1670612400-1670617800@www.nvartscouncil.org
SUMMARY:Peter Pan Jr.
DESCRIPTION:Ring in the holidays with this classic story of the boy who won’t grow up. Peter Pan has it all: music\, comedy\, adventure\, magic . . . and fairies\, a ticking crocodile and the villainous Captain Hook! It’s the perfect show for the whole family\, so bring your kids\, your grandkids\, and your friends! \nThe show features favorite songs like I’m Flying\, I’ve Gotta Crow\, and I Won’t Grow Up.  This unforgettable score is by Morris “Moose” Charlap and Jule Styne with lyrics by Carolyn Leigh\, Betty Comden and Adolph Green.
URL:https://www.nvartscouncil.org/event/peter-pan-jr/2022-12-09/
LOCATION:Damonte Ranch High School Theater\, 10500 Rio Wrangler Parkway\, Reno\, NV\, 89521\, United States
CATEGORIES:Performing,Visual
ATTACH;FMTTYPE=image/png:https://www.nvartscouncil.org/wp-content/uploads/Sierra-School-of-Performing-Arts-Presents-7.png
ORGANIZER;CN="Sierra School of Performing Arts":MAILTO:info@sierraschoolofperformingarts.org
END:VEVENT
BEGIN:VEVENT
DTSTART;TZID=America/Los_Angeles:20221209T193000
DTEND;TZID=America/Los_Angeles:20221209T213000
DTSTAMP:20260423T051348
CREATED:20221121T180607Z
LAST-MODIFIED:20250409T191839Z
UID:33719-1670614200-1670621400@www.nvartscouncil.org
SUMMARY:Nevada Ballet Theatre Presents: The Nutcracker
DESCRIPTION:“Winter’s Most Festive Spectacle!”\n-Dujour Magazine\nLas Vegas’ favorite holiday tradition returns once again fill your season with gorgeous beauty and sparkling cheer. Happy Holidays\, indeed! \nChoreographed by James Canfield\, NBT’s The Nutcracker is a magical journey through a larger than life world filled with waltzing flowers\, nimble fairies\, and moonlit snow. Glittering holiday joy abounds as Clara and her handsome Prince travel from the warmth of her family home to a land of toy soldiers\, mischievous rodents and exotic visitors from faraway lands. \nHave a group of 10 or more? Contact NBT Group Sales today at (702) 243-2623 for information on priority seating\, special discounts and exclusive experiences. \nAs a courtesy to our ticket holders\, no children under 3 years of age are admitted to the performances. \nhttps://youtu.be/6AA1rrAN0JQ
URL:https://www.nvartscouncil.org/event/nevada-ballet-theatre-presents-the-nutcracker/2022-12-09/
LOCATION:Reynolds Hall at The Smith Center\, 361 Symphony Park Ave.\, Las Vegas\, NV\, 89106\, United States
CATEGORIES:Performing
ATTACH;FMTTYPE=image/jpeg:https://www.nvartscouncil.org/wp-content/uploads/tsc-nbt-nutcracker-1178x668-min.jpg
END:VEVENT
END:VCALENDAR