BEGIN:VCALENDAR
VERSION:2.0
PRODID:-//Nevada Arts Council - ECPv6.15.17//NONSGML v1.0//EN
CALSCALE:GREGORIAN
METHOD:PUBLISH
X-WR-CALNAME:Nevada Arts Council
X-ORIGINAL-URL:https://www.nvartscouncil.org
X-WR-CALDESC:Events for Nevada Arts Council
REFRESH-INTERVAL;VALUE=DURATION:PT1H
X-Robots-Tag:noindex
X-PUBLISHED-TTL:PT1H
BEGIN:VTIMEZONE
TZID:America/Los_Angeles
BEGIN:DAYLIGHT
TZOFFSETFROM:-0800
TZOFFSETTO:-0700
TZNAME:PDT
DTSTART:20210314T100000
END:DAYLIGHT
BEGIN:STANDARD
TZOFFSETFROM:-0700
TZOFFSETTO:-0800
TZNAME:PST
DTSTART:20211107T090000
END:STANDARD
BEGIN:DAYLIGHT
TZOFFSETFROM:-0800
TZOFFSETTO:-0700
TZNAME:PDT
DTSTART:20220313T100000
END:DAYLIGHT
BEGIN:STANDARD
TZOFFSETFROM:-0700
TZOFFSETTO:-0800
TZNAME:PST
DTSTART:20221106T090000
END:STANDARD
BEGIN:DAYLIGHT
TZOFFSETFROM:-0800
TZOFFSETTO:-0700
TZNAME:PDT
DTSTART:20230312T100000
END:DAYLIGHT
BEGIN:STANDARD
TZOFFSETFROM:-0700
TZOFFSETTO:-0800
TZNAME:PST
DTSTART:20231105T090000
END:STANDARD
END:VTIMEZONE
BEGIN:VEVENT
DTSTART;TZID=America/Los_Angeles:20220919T100000
DTEND;TZID=America/Los_Angeles:20220919T160000
DTSTAMP:20260419T053439
CREATED:20220906T183212Z
LAST-MODIFIED:20220906T183212Z
UID:32434-1663581600-1663603200@www.nvartscouncil.org
SUMMARY:Geographical Divides: Finding Common Ground
DESCRIPTION:GEOGRAPHICAL DIVIDES: FINDING COMMON GROUND\n\nGeographical Divides: Finding Common Ground examines Nevada unique visual culture. It is a state labeled with cultural myths like “Area 51\,” “The Biggest Little City in the World” and “Sin City” and one that commands the imagination of Postmodernism from the architecture of Las Vegas to the proliferation of Burning Man Festival held once a year. It is comprised of two major metropolitan communities— in the north and south— divided by 300 miles of vast desert. Nevada’s art communities are not separated by distance of travel alone. There are notable differences among artists throughout the state in what is important in their work\, most of which connects with where they live. This traversal of Nevada has also led to the realization of how little dialogue there is between artists of the two dominant communities—Reno and Las Vegas—not to mention the artists living in remote territories of the Nevada outback that are sometimes overlooked.  Nevada artists live on different sides of a geographical divide\, however those lines are drawn. \nCalling upon the printmaker’s sense of community\, the sixteen artists featured in Geographical Divides: Finding Common Ground were invited to join in a series of collaborations that would explore these geographical and cultural differences in Nevada\, if such differences truly exist. The assembly of printmakers—eight from the north\, eight from the south—produced two prints from each collaboration. Each artist produced an initial plate that was sent to their collaborating partner for further surface and conceptual additions\, and then returned for completion. Visually exploring connections and disconnections between southern Nevada and northern Nevada cultural attitudes\, aesthetics and geographical distinctions—these sixteen artists communicated and visually responded to each other’s unique economic\, environmental\, political and social settings—further dissecting this notion of a splitting geography and/or communion of Nevada’s polarities. \nCollaborating artists include: Maria Arango\, Las Vegas/Lynn Schmidt\, Reno; Erik Beehn\, Las Vegas/Nolan Preece\, Reno; Bobbie Ann Howell\, Las Vegas/Galen Brown\, Carson City; Daryl DePry\, Las Vegas/Sharon Tetly\, Carson City; Keith Conley\, LasVegas/Sidne Teske\, Tuscarora; Anne M. Hoff\, Las Vegas/Vicki LoSasso\, Reno; Jeanne Voltura\, Las Vegas/Candace Nicol\, Reno; and Juan D. Varela\, Las Vegas/Ashlea Clark\, Reno. \nCURATED BY\nAnne M. Hoff\, College of Southern Nevada\, Las Vegas\, & Candace Nicol\, Truckee Meadows Community College\, Reno \nGALLERY NOTES BY\nFred Sigman\, Art Historian\, Las Vegas \n  \n 
URL:https://www.nvartscouncil.org/event/geographical-divides-finding-common-ground/2022-09-19/
LOCATION:Nevada Historical Society\, 1650 North Virginia Street\, Reno\, NV\, 89503\, United States
CATEGORIES:Exhibit,Visual
END:VEVENT
BEGIN:VEVENT
DTSTART;TZID=America/Los_Angeles:20220919T100000
DTEND;TZID=America/Los_Angeles:20220919T160000
DTSTAMP:20260419T053439
CREATED:20220906T183752Z
LAST-MODIFIED:20220906T183752Z
UID:32485-1663581600-1663603200@www.nvartscouncil.org
SUMMARY:Find Your Folklife: We are the Folk\, All of Us
DESCRIPTION:FIND YOUR FOLKLIFE\nwe are the folk\, all of us\nThe Nevada Arts Council’s Folklife Friends and Neighbors Initiative is about you—your family\, your neighbors\, your friends\, your community. It’s also about us—who we are as Nevadans navigating the challenges and opportunities of the 21st Century. \nFolklife\, folk arts\, and folklore all spring from cultural identity\, which comes from belonging to a social group. Family heritage—national or ethnic—often informs a person’s sense of self. Cultural identity may also derive from language\, gender\, religion\, age\, occupation\, and locality or sense of place. Folk traditions are typically shared in informal ways and passed from one person to another by word of mouth\, imitation\, or observation. \nCulture is something we share with others in a social group. It’s our folklife: our common values and beliefs\, the creative ways we express identity in a group\, the knowledge we share\, the objects that hold significance and meaning\, the activities we engage in as a community. Most people belong to many different “folk groups” or communities. Every person is unique. Depending on where you are and who you are with\, you may express different aspects of your own cultural identity.  Join us in a quest to “find your folklife”—and share on social media with the hashtag #NVFolkFAN. \nOver the past three years we have been photographing Nevadans—your friends and neighbors—as they appear when representing cultural identity and as they appear in their everyday lives at home\, on the job\, or enjoying recreational activities. That work is represented in the 22 “lenticular two-flip” panels of this exhibition.  To find out more about lenticular art\, click here.
URL:https://www.nvartscouncil.org/event/find-your-folklife-we-are-the-folk-all-of-us/2022-09-19/
LOCATION:Eureka County Courthouse\, 10 S Main St\, Eureka\, Nevada\, 89316
CATEGORIES:Exhibit,Folklife,Visual
END:VEVENT
END:VCALENDAR