BEGIN:VCALENDAR
VERSION:2.0
PRODID:-//Nevada Arts Council - ECPv6.15.17//NONSGML v1.0//EN
CALSCALE:GREGORIAN
METHOD:PUBLISH
X-ORIGINAL-URL:https://www.nvartscouncil.org
X-WR-CALDESC:Events for Nevada Arts Council
REFRESH-INTERVAL;VALUE=DURATION:PT1H
X-Robots-Tag:noindex
X-PUBLISHED-TTL:PT1H
BEGIN:VTIMEZONE
TZID:America/Los_Angeles
BEGIN:DAYLIGHT
TZOFFSETFROM:-0800
TZOFFSETTO:-0700
TZNAME:PDT
DTSTART:20220313T100000
END:DAYLIGHT
BEGIN:STANDARD
TZOFFSETFROM:-0700
TZOFFSETTO:-0800
TZNAME:PST
DTSTART:20221106T090000
END:STANDARD
BEGIN:DAYLIGHT
TZOFFSETFROM:-0800
TZOFFSETTO:-0700
TZNAME:PDT
DTSTART:20230312T100000
END:DAYLIGHT
BEGIN:STANDARD
TZOFFSETFROM:-0700
TZOFFSETTO:-0800
TZNAME:PST
DTSTART:20231105T090000
END:STANDARD
BEGIN:DAYLIGHT
TZOFFSETFROM:-0800
TZOFFSETTO:-0700
TZNAME:PDT
DTSTART:20240310T100000
END:DAYLIGHT
BEGIN:STANDARD
TZOFFSETFROM:-0700
TZOFFSETTO:-0800
TZNAME:PST
DTSTART:20241103T090000
END:STANDARD
END:VTIMEZONE
BEGIN:VEVENT
DTSTART;TZID=America/Los_Angeles:20231207T170000
DTEND;TZID=America/Los_Angeles:20231207T183000
DTSTAMP:20260422T090200
CREATED:20231130T161543Z
LAST-MODIFIED:20231130T161543Z
UID:42593-1701968400-1701973800@www.nvartscouncil.org
SUMMARY:Visiting Artist Lecture: Abigail Lucien
DESCRIPTION:In conjunction with the exhibit “Toward a Tangled Turn: Knots\, Nets\, Threads\, & Loops” at currently open in Sheppard Contemporary at UNR\, the Department of Art\, Art History\, & Design is pleased to welcome Visiting Artist Abigail Lucien to give a free and public lecture on her work. \nAbigail Lucien is a Haitian-American interdisciplinary artist whose work addresses themes of (be)longing\, futurity\, myth\, and place by considering our relationship to inherited colonial structures and systems of belief/care. Working across sculpture\, literature\, and time-based media\, Lucien’s practice is auto-ethnographic: referencing found objects and familiar surroundings as a way to implicate the body’s relationship to material and place—interpreting concepts such as loss\, love\, and grief as a fluid procession rather than a state to reach or become. \nLucien received the 2023 Sondheim Award\, was named to the 2021 Forbes 30 Under 30 list\, is a recipient of a 2023 Ruby’s Award\, 2021 VMFA Fellowship and the 2020 Harpo Emerging Artist Fellowship. Past exhibitions include SculptureCenter (NY)\, MoMA PS1 (NY)\, MAC Panamá (Panamá)\, Tiwani Contemporary (London)\, Atlanta Contemporary (Atlanta\, GA)\, Frost Art Museum (Miami\, FL)\, and The Fabric Workshop and Museum (Philadelphia\, PA). Residencies include Skowhegan School of Painting & Sculpture (Madison\, ME)\, Amant Studio & Research Residency (NY)\, the Eugeniusz Geppert Academy of Fine Arts (Wrocław\, Poland)\, The Luminary (St. Louis\, MO)\, Santa Fe Art Institute (Santa Fe\, NM)\, ACRE (Steuben\, WI)\, and Ox-Bow School of Art & Artist Residency (Saugatuck\, MI). \nLucien is currently based between Baltimore\, MD and Brooklyn\, NY and teaches as an Assistant Professor of Sculpture at Hunter College in NYC.
URL:https://www.nvartscouncil.org/event/visiting-artist-lecture-abigail-lucien/
LOCATION:Wells Fargo Auditorium\, MIKC\, University of Nevada\, Reno\, 1664 N. Virginia St\, Reno\, NV\, 89512\, United States
CATEGORIES:Visual,Workshops and Webinars
ATTACH;FMTTYPE=image/jpeg:https://www.nvartscouncil.org/wp-content/uploads/Lucien-Abigail_Visiting-Artist-Lecture_web-Austin-Pratt.jpg
ORGANIZER;CN="University of Nevada%2C Reno%2C School of the Arts":MAILTO:arts@unr.edu
END:VEVENT
BEGIN:VEVENT
DTSTART;TZID=America/Los_Angeles:20231218T140000
DTEND;TZID=America/Los_Angeles:20231218T150000
DTSTAMP:20260422T090200
CREATED:20231218T190346Z
LAST-MODIFIED:20250505T171835Z
UID:43163-1702908000-1702911600@www.nvartscouncil.org
SUMMARY:ArtsHERE Grant Info Office Hours with WESTAF
DESCRIPTION:WESTAF is providing information office hours on the ArtsHERE grant opportunity.\nWestern States Arts Federation\nAK\, AS\, AZ\, CA\, CNMI\, CO\, GU\, HI\, ID\, MT\, NM\, NV\, OR\, UT\, WA\, WY\, and the Native Nations that share this geography \nMondays from 2:00 – 3:00 pm PT (3:00 – 4:00 pm MT)\nSIGN UP FOR MONDAY OFFICE HOURS WITH WESTERN STATES ARTS FEDERATION \nWednesdays from 9:00 – 10:00 am PT (10:00 am – 11:00 am MT)\nSIGN UP FOR WEDNESDAY OFFICE HOURS WITH THE WESTERN STATES ARTS FEDERATION \n 
URL:https://www.nvartscouncil.org/event/artshere-grant-info-office-hours-with-westaf/
CATEGORIES:Virtual,Workshops and Webinars
END:VEVENT
BEGIN:VEVENT
DTSTART;TZID=America/Los_Angeles:20231219T100000
DTEND;TZID=America/Los_Angeles:20231219T120000
DTSTAMP:20260422T090200
CREATED:20231212T164602Z
LAST-MODIFIED:20231212T164602Z
UID:42915-1702980000-1702987200@www.nvartscouncil.org
SUMMARY:Full Scope Workshop - December - Document Building
DESCRIPTION:Full Scope Workshop for December is an extended edition covering application process\, creating a CV\, writing a letter of intent\, and formatting an image list. This workshop will cover each topic in depth. Attendees are encouraged to ask questions during the discussion.\nPlease stay tuned to learn how to receive a copy of the book I’ll Make Me A World by Thomas Lawson. This book is part of the Some Place Chronicles\, a creative placemaking project set in four unincorporated communities of Los Angeles County
URL:https://www.nvartscouncil.org/event/full-scope-workshop-december-document-building/
CATEGORIES:Virtual,Workshops and Webinars
ORGANIZER;CN="Clark County Public Art":MAILTO:CCPublicArt@ClarkCountyNV.gov
END:VEVENT
END:VCALENDAR