BEGIN:VCALENDAR
VERSION:2.0
PRODID:-//Nevada Arts Council - ECPv6.15.17//NONSGML v1.0//EN
CALSCALE:GREGORIAN
METHOD:PUBLISH
X-ORIGINAL-URL:https://www.nvartscouncil.org
X-WR-CALDESC:Events for Nevada Arts Council
REFRESH-INTERVAL;VALUE=DURATION:PT1H
X-Robots-Tag:noindex
X-PUBLISHED-TTL:PT1H
BEGIN:VTIMEZONE
TZID:America/Los_Angeles
BEGIN:DAYLIGHT
TZOFFSETFROM:-0800
TZOFFSETTO:-0700
TZNAME:PDT
DTSTART:20240310T100000
END:DAYLIGHT
BEGIN:STANDARD
TZOFFSETFROM:-0700
TZOFFSETTO:-0800
TZNAME:PST
DTSTART:20241103T090000
END:STANDARD
BEGIN:DAYLIGHT
TZOFFSETFROM:-0800
TZOFFSETTO:-0700
TZNAME:PDT
DTSTART:20250309T100000
END:DAYLIGHT
BEGIN:STANDARD
TZOFFSETFROM:-0700
TZOFFSETTO:-0800
TZNAME:PST
DTSTART:20251102T090000
END:STANDARD
BEGIN:DAYLIGHT
TZOFFSETFROM:-0800
TZOFFSETTO:-0700
TZNAME:PDT
DTSTART:20260308T100000
END:DAYLIGHT
BEGIN:STANDARD
TZOFFSETFROM:-0700
TZOFFSETTO:-0800
TZNAME:PST
DTSTART:20261101T090000
END:STANDARD
END:VTIMEZONE
BEGIN:VEVENT
DTSTART;TZID=America/Los_Angeles:20250921T160000
DTEND;TZID=America/Los_Angeles:20250921T170000
DTSTAMP:20260422T125902
CREATED:20250912T165028Z
LAST-MODIFIED:20250912T165028Z
UID:73025-1758470400-1758474000@www.nvartscouncil.org
SUMMARY:Soul & Story with Cliff Porter and the RJO Quartet
DESCRIPTION:Join Note-Able Music Therapy Services (NMTS) for an intimate afternoon as Cliff Porter\, acclaimed vocalist and storyteller\, performs the music of Donny Hathaway with the RJO Quartet. Between songs\, Porter will reflect on Hathaway’s life\, artistry\, and enduring impact on American soul music. Presented in partnership with NMTS and Northern Nevada HOPES\, this event also highlights upcoming workshops designed to support mental health through music and community connection. \nLocation: 2590 Orovada St.\, Reno | Time: 4 p.m. | Cost: Free
URL:https://www.nvartscouncil.org/event/soul-story-with-cliff-porter-and-the-rjo-quartet/
LOCATION:Note-Able Music Therapy Services\, 2590 Orovada Street\, Reno\, NV\, 89512\, United States
CATEGORIES:Family Friendly,Literary,Performing
ORGANIZER;CN="Note-Able Music Therapy Services":MAILTO:mail@nmtsreno.org
END:VEVENT
END:VCALENDAR