BEGIN:VCALENDAR
VERSION:2.0
PRODID:-//Nevada Arts Council - ECPv6.15.17//NONSGML v1.0//EN
CALSCALE:GREGORIAN
METHOD:PUBLISH
X-WR-CALNAME:Nevada Arts Council
X-ORIGINAL-URL:https://www.nvartscouncil.org
X-WR-CALDESC:Events for Nevada Arts Council
REFRESH-INTERVAL;VALUE=DURATION:PT1H
X-Robots-Tag:noindex
X-PUBLISHED-TTL:PT1H
BEGIN:VTIMEZONE
TZID:America/Los_Angeles
BEGIN:DAYLIGHT
TZOFFSETFROM:-0800
TZOFFSETTO:-0700
TZNAME:PDT
DTSTART:20250309T100000
END:DAYLIGHT
BEGIN:STANDARD
TZOFFSETFROM:-0700
TZOFFSETTO:-0800
TZNAME:PST
DTSTART:20251102T090000
END:STANDARD
BEGIN:DAYLIGHT
TZOFFSETFROM:-0800
TZOFFSETTO:-0700
TZNAME:PDT
DTSTART:20260308T100000
END:DAYLIGHT
BEGIN:STANDARD
TZOFFSETFROM:-0700
TZOFFSETTO:-0800
TZNAME:PST
DTSTART:20261101T090000
END:STANDARD
BEGIN:DAYLIGHT
TZOFFSETFROM:-0800
TZOFFSETTO:-0700
TZNAME:PDT
DTSTART:20270314T100000
END:DAYLIGHT
BEGIN:STANDARD
TZOFFSETFROM:-0700
TZOFFSETTO:-0800
TZNAME:PST
DTSTART:20271107T090000
END:STANDARD
END:VTIMEZONE
BEGIN:VEVENT
DTSTART;TZID=America/Los_Angeles:20260425T100000
DTEND;TZID=America/Los_Angeles:20260425T160000
DTSTAMP:20260422T043824
CREATED:20260406T195931Z
LAST-MODIFIED:20260406T195931Z
UID:87224-1777111200-1777132800@www.nvartscouncil.org
SUMMARY:Nevada\, P.S. I Love You Postcard Project at the Henderson Reads Book Festival 2026
DESCRIPTION:Join Nevada Humanities on Saturday\, April 26\, 2026\, from 10 a.m. to 4 p.m.\, at the 2026 Henderson Reads Book Festival\, presented by the City of Henderson at Water Street Plaza. Nevada Humanities invites Nevadans of all ages to send art postcards flying across the Silver State. Create your own hand-made art postcard and write a short message about what you love about Nevada. The Nevada P.S. I Love You Postcard Project is an ongoing program to connect Nevadans across the state by sharing the things we love about Nevada. This project is free and open to all ages\, while supplies last. \nFor more information contact: Bobbie Ann Howell\, bahowell@nevadahumanities.org\, 702-800-4670
URL:https://www.nvartscouncil.org/event/nevada-p-s-i-love-you-postcard-project-at-the-henderson-reads-book-festival-2026/
LOCATION:Water Street Plaza\, 240 S. Water St.\, Henderson\, NV\, 89015\, United States
CATEGORIES:Family Friendly,Festival,Visual
ATTACH;FMTTYPE=image/png:https://www.nvartscouncil.org/wp-content/uploads/Postcards.png
END:VEVENT
END:VCALENDAR