BEGIN:VCALENDAR
VERSION:2.0
PRODID:-//Nevada Arts Council - ECPv6.15.17//NONSGML v1.0//EN
CALSCALE:GREGORIAN
METHOD:PUBLISH
X-WR-CALNAME:Nevada Arts Council
X-ORIGINAL-URL:https://www.nvartscouncil.org
X-WR-CALDESC:Events for Nevada Arts Council
REFRESH-INTERVAL;VALUE=DURATION:PT1H
X-Robots-Tag:noindex
X-PUBLISHED-TTL:PT1H
BEGIN:VTIMEZONE
TZID:America/Los_Angeles
BEGIN:DAYLIGHT
TZOFFSETFROM:-0800
TZOFFSETTO:-0700
TZNAME:PDT
DTSTART:20230312T100000
END:DAYLIGHT
BEGIN:STANDARD
TZOFFSETFROM:-0700
TZOFFSETTO:-0800
TZNAME:PST
DTSTART:20231105T090000
END:STANDARD
BEGIN:DAYLIGHT
TZOFFSETFROM:-0800
TZOFFSETTO:-0700
TZNAME:PDT
DTSTART:20240310T100000
END:DAYLIGHT
BEGIN:STANDARD
TZOFFSETFROM:-0700
TZOFFSETTO:-0800
TZNAME:PST
DTSTART:20241103T090000
END:STANDARD
BEGIN:DAYLIGHT
TZOFFSETFROM:-0800
TZOFFSETTO:-0700
TZNAME:PDT
DTSTART:20250309T100000
END:DAYLIGHT
BEGIN:STANDARD
TZOFFSETFROM:-0700
TZOFFSETTO:-0800
TZNAME:PST
DTSTART:20251102T090000
END:STANDARD
END:VTIMEZONE
BEGIN:VEVENT
DTSTART;TZID=America/Los_Angeles:20240127T160000
DTEND;TZID=America/Los_Angeles:20240127T210000
DTSTAMP:20260421T150203
CREATED:20240116T191257Z
LAST-MODIFIED:20240116T191257Z
UID:44030-1706371200-1706389200@www.nvartscouncil.org
SUMMARY:Robert Burns Celebration
DESCRIPTION:This annual event\, draws approximately 450-500 attendees from northern Neva­da and northern California\, making it one of the largest such events of its kind on the West Coast. The celebration includes a whisky tasting courtesy of Breakthru\, dinner (including that most Scottish of dishes… haggis)\, presentation of the Scot of the Year\, Highland dancers\, and a performance by Sierra Highlanders Pipe Band. Through generous donations from the community\, we are able to continue our endeavors\, and to contribute to Northern Nevada’s many cultural events.\nReservations are now open for the highly anticipated 42nd Annual Robert Burns Celebration presented by the Nevada Society of Scottish Clans. This extraordinary event honors the life and works of the renowned Bard of Scotland\, Robert Burns.Prepare yourself for a night like no other as we transport you to the heart of Scottish tradition and culture. From the moment you step in\, you’ll be immersed in the grandeur and elegance of a true Burns Supper infused with our own unique Nevada twist with the accompaniment of bagpipes.Dinner and program featuring traditional Robert Burns ceremonies\, toasts to the lads and lasses\, presentation of the haggis\, a toast to Robert Burns\, presentation of the 2024 “Scot of the Year” and topped off with the Sierra Highlanders Pipe Band.Whether you’re a lifelong fan of Robert Burns or simply looking to immerse yourself in the Scottish tradition\, this is an event you cannot afford to miss.
URL:https://www.nvartscouncil.org/event/robert-burns-celebration/
LOCATION:Grand Sierra Resort\, 2550 East Second Street\, Reno\, NV\, 89595\, United States
CATEGORIES:Family Friendly,Folklife
ATTACH;FMTTYPE=image/jpeg:https://www.nvartscouncil.org/wp-content/uploads/kdSjoq5eS0ye0H-axDlgSw.large_.jpg
ORGANIZER;CN="Nevada Society of Scottish Clans":MAILTO:info@nvssc.org
END:VEVENT
END:VCALENDAR