BEGIN:VCALENDAR
VERSION:2.0
PRODID:-//Nevada Arts Council - ECPv6.15.20//NONSGML v1.0//EN
CALSCALE:GREGORIAN
METHOD:PUBLISH
X-WR-CALNAME:Nevada Arts Council
X-ORIGINAL-URL:https://www.nvartscouncil.org
X-WR-CALDESC:Events for Nevada Arts Council
REFRESH-INTERVAL;VALUE=DURATION:PT1H
X-Robots-Tag:noindex
X-PUBLISHED-TTL:PT1H
BEGIN:VTIMEZONE
TZID:America/Los_Angeles
BEGIN:DAYLIGHT
TZOFFSETFROM:-0800
TZOFFSETTO:-0700
TZNAME:PDT
DTSTART:20220313T100000
END:DAYLIGHT
BEGIN:STANDARD
TZOFFSETFROM:-0700
TZOFFSETTO:-0800
TZNAME:PST
DTSTART:20221106T090000
END:STANDARD
BEGIN:DAYLIGHT
TZOFFSETFROM:-0800
TZOFFSETTO:-0700
TZNAME:PDT
DTSTART:20230312T100000
END:DAYLIGHT
BEGIN:STANDARD
TZOFFSETFROM:-0700
TZOFFSETTO:-0800
TZNAME:PST
DTSTART:20231105T090000
END:STANDARD
BEGIN:DAYLIGHT
TZOFFSETFROM:-0800
TZOFFSETTO:-0700
TZNAME:PDT
DTSTART:20240310T100000
END:DAYLIGHT
BEGIN:STANDARD
TZOFFSETFROM:-0700
TZOFFSETTO:-0800
TZNAME:PST
DTSTART:20241103T090000
END:STANDARD
END:VTIMEZONE
BEGIN:VEVENT
DTSTART;TZID=America/Los_Angeles:20230824T080000
DTEND;TZID=America/Los_Angeles:20230824T170000
DTSTAMP:20260424T012300
CREATED:20230703T214036Z
LAST-MODIFIED:20230703T214151Z
UID:38718-1692864000-1692896400@www.nvartscouncil.org
SUMMARY:37th Annual Bowers Bluegrass Festival
DESCRIPTION:4 days of Bluegrass\, Old Time\, Western Swing and Folk Music (but mostly Bluegrass) at 3 venues in beautiful Washoe Valley\,NV! Dances\, Workshops\, a Jam Camp and Bar-B-Que\, kids’ activities\, craft vendors\, beer\, wine and food trucks! \nTime & Location\n\n\nAug 24\, 12:00 PM PDT – Aug 27\, 12:00 PM PDT \nNew Washoe City\, 4005 Bowers Mansion Rd\, New Washoe City\, NV 89704\, USA \n\n2023-festival-lineup
URL:https://www.nvartscouncil.org/event/37th-annual-bowers-bluegrass-festival/2023-08-24/
LOCATION:Bowers Mansion Regional Park\, 4005 Bowers Mansion Rd.\, New Washoe City\, NV\, 89704\, United States
CATEGORIES:Family Friendly,Folklife,Performing
ORGANIZER;CN="Northern Nevada Bluegrass Association":MAILTO:info@nnba.org
END:VEVENT
END:VCALENDAR