BEGIN:VCALENDAR
VERSION:2.0
PRODID:-//Nevada Arts Council - ECPv6.15.17//NONSGML v1.0//EN
CALSCALE:GREGORIAN
METHOD:PUBLISH
X-WR-CALNAME:Nevada Arts Council
X-ORIGINAL-URL:https://www.nvartscouncil.org
X-WR-CALDESC:Events for Nevada Arts Council
REFRESH-INTERVAL;VALUE=DURATION:PT1H
X-Robots-Tag:noindex
X-PUBLISHED-TTL:PT1H
BEGIN:VTIMEZONE
TZID:America/Los_Angeles
BEGIN:DAYLIGHT
TZOFFSETFROM:-0800
TZOFFSETTO:-0700
TZNAME:PDT
DTSTART:20250309T100000
END:DAYLIGHT
BEGIN:STANDARD
TZOFFSETFROM:-0700
TZOFFSETTO:-0800
TZNAME:PST
DTSTART:20251102T090000
END:STANDARD
BEGIN:DAYLIGHT
TZOFFSETFROM:-0800
TZOFFSETTO:-0700
TZNAME:PDT
DTSTART:20260308T100000
END:DAYLIGHT
BEGIN:STANDARD
TZOFFSETFROM:-0700
TZOFFSETTO:-0800
TZNAME:PST
DTSTART:20261101T090000
END:STANDARD
BEGIN:DAYLIGHT
TZOFFSETFROM:-0800
TZOFFSETTO:-0700
TZNAME:PDT
DTSTART:20270314T100000
END:DAYLIGHT
BEGIN:STANDARD
TZOFFSETFROM:-0700
TZOFFSETTO:-0800
TZNAME:PST
DTSTART:20271107T090000
END:STANDARD
END:VTIMEZONE
BEGIN:VEVENT
DTSTART;TZID=America/Los_Angeles:20260501T190000
DTEND;TZID=America/Los_Angeles:20260501T210000
DTSTAMP:20260423T145252
CREATED:20250722T163355Z
LAST-MODIFIED:20250722T163355Z
UID:66837-1777662000-1777669200@www.nvartscouncil.org
SUMMARY:Rainbow Company Youth Theatre presents Ensemble Showcase: A Play Festival
DESCRIPTION:Experience the magic of youth-driven theatre! This festival is entirely directed\, produced\, designed\, and performed by our talented student artists. With a different lineup of innovative and exciting shows each night\, the festival celebrates fresh storytelling and the creativity of the next generation of theatre makers. Each performance offers a unique perspective\, showcasing the bold vision and artistic energy of these emerging voices.
URL:https://www.nvartscouncil.org/event/rainbow-company-youth-theatre-presents-ensemble-showcase-a-play-festival/2026-05-01/
LOCATION:Charleston Heights Arts Center\, 800 Brush St.\, Las Vegas\, NV\, 89107\, United States
CATEGORIES:Family Friendly,Performing
ATTACH;FMTTYPE=image/png:https://www.nvartscouncil.org/wp-content/uploads/Ensemble-Showcase_1210x450.png
END:VEVENT
END:VCALENDAR