BEGIN:VCALENDAR
VERSION:2.0
PRODID:-//Nevada Arts Council - ECPv6.15.17//NONSGML v1.0//EN
CALSCALE:GREGORIAN
METHOD:PUBLISH
X-ORIGINAL-URL:https://www.nvartscouncil.org
X-WR-CALDESC:Events for Nevada Arts Council
REFRESH-INTERVAL;VALUE=DURATION:PT1H
X-Robots-Tag:noindex
X-PUBLISHED-TTL:PT1H
BEGIN:VTIMEZONE
TZID:America/Los_Angeles
BEGIN:DAYLIGHT
TZOFFSETFROM:-0800
TZOFFSETTO:-0700
TZNAME:PDT
DTSTART:20210314T100000
END:DAYLIGHT
BEGIN:STANDARD
TZOFFSETFROM:-0700
TZOFFSETTO:-0800
TZNAME:PST
DTSTART:20211107T090000
END:STANDARD
BEGIN:DAYLIGHT
TZOFFSETFROM:-0800
TZOFFSETTO:-0700
TZNAME:PDT
DTSTART:20220313T100000
END:DAYLIGHT
BEGIN:STANDARD
TZOFFSETFROM:-0700
TZOFFSETTO:-0800
TZNAME:PST
DTSTART:20221106T090000
END:STANDARD
BEGIN:DAYLIGHT
TZOFFSETFROM:-0800
TZOFFSETTO:-0700
TZNAME:PDT
DTSTART:20230312T100000
END:DAYLIGHT
BEGIN:STANDARD
TZOFFSETFROM:-0700
TZOFFSETTO:-0800
TZNAME:PST
DTSTART:20231105T090000
END:STANDARD
END:VTIMEZONE
BEGIN:VEVENT
DTSTART;VALUE=DATE:20220401
DTEND;VALUE=DATE:20220402
DTSTAMP:20260419T071750
CREATED:20220225T041150Z
LAST-MODIFIED:20220225T041150Z
UID:29337-1648771200-1648857599@www.nvartscouncil.org
SUMMARY:Regional Dance America/Pacific Festival
DESCRIPTION:Regional Dance America is coming to Reno\, NV April 1-2\, 2022 for a two-day Dance Festival that is not to be missed! Connect\, grow\, and learn with RDA/Pacific. Happening at the Silver Legacy Resort\, you will experience master classes led by world renowned teachers\, take part in dance-complimentary seminars & workshops\, and attend evening performances by companies and schools from all throughout the Pacific area! YOU can attend the Festival as an individual dancer or as a group. Plus\, RDA is extending a performance opportunity for your group to perform as a guest on the Friday\, April 1st Festival concert! \nFull Festival Kit: $299. Includes 6 master classes with nationally acclaimed teachers\, seminars\, dancer party\, gala banquet & two performances! \nSingle Day Kit: $149. Includes 3 master classes with nationally acclaimed teachers\, seminars & tickets to one evening performance! \nPlease visit regionaldanceamerica.org/pacific/ to register!
URL:https://www.nvartscouncil.org/event/regional-dance-america-pacific-festival/2022-04-01/
LOCATION:Silver Legacy\, 407 N Virginia St\, Reno\, NV\, 89501\, United States
CATEGORIES:Performing
ATTACH;FMTTYPE=image/jpeg:https://www.nvartscouncil.org/wp-content/uploads/RDA-P_2022-Festival-logo-scaled.jpg
ORGANIZER;CN="Regional Dance America":MAILTO:info@regionaldanceamerica.org
END:VEVENT
END:VCALENDAR