BEGIN:VCALENDAR
VERSION:2.0
PRODID:-//Nevada Arts Council - ECPv6.15.17//NONSGML v1.0//EN
CALSCALE:GREGORIAN
METHOD:PUBLISH
X-WR-CALNAME:Nevada Arts Council
X-ORIGINAL-URL:https://www.nvartscouncil.org
X-WR-CALDESC:Events for Nevada Arts Council
REFRESH-INTERVAL;VALUE=DURATION:PT1H
X-Robots-Tag:noindex
X-PUBLISHED-TTL:PT1H
BEGIN:VTIMEZONE
TZID:America/Los_Angeles
BEGIN:DAYLIGHT
TZOFFSETFROM:-0800
TZOFFSETTO:-0700
TZNAME:PDT
DTSTART:20250309T100000
END:DAYLIGHT
BEGIN:STANDARD
TZOFFSETFROM:-0700
TZOFFSETTO:-0800
TZNAME:PST
DTSTART:20251102T090000
END:STANDARD
BEGIN:DAYLIGHT
TZOFFSETFROM:-0800
TZOFFSETTO:-0700
TZNAME:PDT
DTSTART:20260308T100000
END:DAYLIGHT
BEGIN:STANDARD
TZOFFSETFROM:-0700
TZOFFSETTO:-0800
TZNAME:PST
DTSTART:20261101T090000
END:STANDARD
BEGIN:DAYLIGHT
TZOFFSETFROM:-0800
TZOFFSETTO:-0700
TZNAME:PDT
DTSTART:20270314T100000
END:DAYLIGHT
BEGIN:STANDARD
TZOFFSETFROM:-0700
TZOFFSETTO:-0800
TZNAME:PST
DTSTART:20271107T090000
END:STANDARD
END:VTIMEZONE
BEGIN:VEVENT
DTSTART;TZID=America/Los_Angeles:20260321T140000
DTEND;TZID=America/Los_Angeles:20260321T160000
DTSTAMP:20260419T050953
CREATED:20260224T003113Z
LAST-MODIFIED:20260226T191618Z
UID:83986-1774101600-1774108800@www.nvartscouncil.org
SUMMARY:Sierra Watercolor Society presents "Color of Spring" Exhibit & Artists Reception
DESCRIPTION:Sierra Watercolor Society offers a new exhibit of original watercolor paintings by local artists: at the Makers Paradise Gallery in Reno Public Market\, from February 21-April 3.  The Exhibit is free and appropriate for people of all ages and abilities to enjoy.  Paintings are also available for purchase. \nAn Artists Reception (also free) will be held on Saturday\, March 21\, from 2-4 p.m.; there will be refreshments and an opportunity to meet the artists whose paintings are displayed.  Come to be inspired and vote for your favorite painting. \nGallery hours are Wednesday & Thursday 2-7 p.m.\, Friday & Saturday 1-7 p.m.\, and Sunday 11 a.m.-5 p.m.
URL:https://www.nvartscouncil.org/event/sierra-watercolor-society-presents-color-of-spring-exhibit-artists-reception/
LOCATION:Makers Paradise Reno\, 299 E. Plumb Lane\, Suite 150\, Reno\, NV\, 89501\, United States
CATEGORIES:Family Friendly,Reception,Visual
ATTACH;FMTTYPE=image/jpeg:https://www.nvartscouncil.org/wp-content/uploads/SWS-Logo.jpg
ORGANIZER;CN="Sierra Watercolor Society":MAILTO:sierra@sierrawatercolorsociety.com.
END:VEVENT
END:VCALENDAR