BEGIN:VCALENDAR
VERSION:2.0
PRODID:-//Nevada Arts Council - ECPv6.15.17//NONSGML v1.0//EN
CALSCALE:GREGORIAN
METHOD:PUBLISH
X-WR-CALNAME:Nevada Arts Council
X-ORIGINAL-URL:https://www.nvartscouncil.org
X-WR-CALDESC:Events for Nevada Arts Council
REFRESH-INTERVAL;VALUE=DURATION:PT1H
X-Robots-Tag:noindex
X-PUBLISHED-TTL:PT1H
BEGIN:VTIMEZONE
TZID:America/Los_Angeles
BEGIN:DAYLIGHT
TZOFFSETFROM:-0800
TZOFFSETTO:-0700
TZNAME:PDT
DTSTART:20240310T100000
END:DAYLIGHT
BEGIN:STANDARD
TZOFFSETFROM:-0700
TZOFFSETTO:-0800
TZNAME:PST
DTSTART:20241103T090000
END:STANDARD
BEGIN:DAYLIGHT
TZOFFSETFROM:-0800
TZOFFSETTO:-0700
TZNAME:PDT
DTSTART:20250309T100000
END:DAYLIGHT
BEGIN:STANDARD
TZOFFSETFROM:-0700
TZOFFSETTO:-0800
TZNAME:PST
DTSTART:20251102T090000
END:STANDARD
BEGIN:DAYLIGHT
TZOFFSETFROM:-0800
TZOFFSETTO:-0700
TZNAME:PDT
DTSTART:20260308T100000
END:DAYLIGHT
BEGIN:STANDARD
TZOFFSETFROM:-0700
TZOFFSETTO:-0800
TZNAME:PST
DTSTART:20261101T090000
END:STANDARD
END:VTIMEZONE
BEGIN:VEVENT
DTSTART;TZID=America/Los_Angeles:20250207T091500
DTEND;TZID=America/Los_Angeles:20250207T170000
DTSTAMP:20260423T100022
CREATED:20241108T005738Z
LAST-MODIFIED:20241108T005941Z
UID:56480-1738919700-1738947600@www.nvartscouncil.org
SUMMARY:Words and Images - Prim Library
DESCRIPTION:Words + Images: Broadsides from the Black Rock Press features 34 illustrated and non-illustrated broadsides produced at the University of Nevada\, Reno’s Black Rock Press using the letterpress process with handset type and relief plates.
URL:https://www.nvartscouncil.org/event/words-and-images-prim-library/2025-02-07/
LOCATION:University of Nevada\, Reno At Lake Tahoe – Prim Library\, 999 Tahoe Blvd.\, Incline Village\, 89451\, United States
CATEGORIES:Exhibit,Visual
ATTACH;FMTTYPE=image/jpeg:https://www.nvartscouncil.org/wp-content/uploads/Barnstone_Giving-a-Watch-Life-208x300.jpg
ORGANIZER;CN="University of Nevada%2C Reno at Lake Tahoe":MAILTO:laketahoe@unr.edu
END:VEVENT
END:VCALENDAR