BEGIN:VCALENDAR
VERSION:2.0
PRODID:-//Nevada Arts Council - ECPv6.15.17//NONSGML v1.0//EN
CALSCALE:GREGORIAN
METHOD:PUBLISH
X-ORIGINAL-URL:https://www.nvartscouncil.org
X-WR-CALDESC:Events for Nevada Arts Council
REFRESH-INTERVAL;VALUE=DURATION:PT1H
X-Robots-Tag:noindex
X-PUBLISHED-TTL:PT1H
BEGIN:VTIMEZONE
TZID:America/Los_Angeles
BEGIN:DAYLIGHT
TZOFFSETFROM:-0800
TZOFFSETTO:-0700
TZNAME:PDT
DTSTART:20220313T100000
END:DAYLIGHT
BEGIN:STANDARD
TZOFFSETFROM:-0700
TZOFFSETTO:-0800
TZNAME:PST
DTSTART:20221106T090000
END:STANDARD
BEGIN:DAYLIGHT
TZOFFSETFROM:-0800
TZOFFSETTO:-0700
TZNAME:PDT
DTSTART:20230312T100000
END:DAYLIGHT
BEGIN:STANDARD
TZOFFSETFROM:-0700
TZOFFSETTO:-0800
TZNAME:PST
DTSTART:20231105T090000
END:STANDARD
BEGIN:DAYLIGHT
TZOFFSETFROM:-0800
TZOFFSETTO:-0700
TZNAME:PDT
DTSTART:20240310T100000
END:DAYLIGHT
BEGIN:STANDARD
TZOFFSETFROM:-0700
TZOFFSETTO:-0800
TZNAME:PST
DTSTART:20241103T090000
END:STANDARD
END:VTIMEZONE
BEGIN:VEVENT
DTSTART;TZID=America/Los_Angeles:20230818T180000
DTEND;TZID=America/Los_Angeles:20230818T200000
DTSTAMP:20260423T162514
CREATED:20230807T191020Z
LAST-MODIFIED:20230807T191020Z
UID:39803-1692381600-1692388800@www.nvartscouncil.org
SUMMARY:Arts District Community Mixer
DESCRIPTION:Join us on August 18th\, 6-8 PM at the Arts District Community Mixer! Connect with neighbors\, share your passion\, and celebrate the 18b community. \n\n\n#ArtsDistrictMixer #CommunityLove #18bartists\n\n\nPriscilla Fowler Fine Art Gallery\, 1308 S. Main St.\, Las Vegas\, NV 89104\n\n\nwww.priscillafowler.com\ninstagram@priscillafowlergallery\nfacebook.com/priscillafowlerfineart\npriscillafowlergallery@gmail.com
URL:https://www.nvartscouncil.org/event/arts-district-community-mixer/
LOCATION:CraftHaus\, 197 E California Ave. #130\, Las Vegas\, NV\, 89104\, United States
CATEGORIES:Professional Development
END:VEVENT
END:VCALENDAR