BEGIN:VCALENDAR
VERSION:2.0
PRODID:-//Nevada Arts Council - ECPv6.15.17//NONSGML v1.0//EN
CALSCALE:GREGORIAN
METHOD:PUBLISH
X-ORIGINAL-URL:https://www.nvartscouncil.org
X-WR-CALDESC:Events for Nevada Arts Council
REFRESH-INTERVAL;VALUE=DURATION:PT1H
X-Robots-Tag:noindex
X-PUBLISHED-TTL:PT1H
BEGIN:VTIMEZONE
TZID:America/Los_Angeles
BEGIN:DAYLIGHT
TZOFFSETFROM:-0800
TZOFFSETTO:-0700
TZNAME:PDT
DTSTART:20250309T100000
END:DAYLIGHT
BEGIN:STANDARD
TZOFFSETFROM:-0700
TZOFFSETTO:-0800
TZNAME:PST
DTSTART:20251102T090000
END:STANDARD
BEGIN:DAYLIGHT
TZOFFSETFROM:-0800
TZOFFSETTO:-0700
TZNAME:PDT
DTSTART:20260308T100000
END:DAYLIGHT
BEGIN:STANDARD
TZOFFSETFROM:-0700
TZOFFSETTO:-0800
TZNAME:PST
DTSTART:20261101T090000
END:STANDARD
BEGIN:DAYLIGHT
TZOFFSETFROM:-0800
TZOFFSETTO:-0700
TZNAME:PDT
DTSTART:20270314T100000
END:DAYLIGHT
BEGIN:STANDARD
TZOFFSETFROM:-0700
TZOFFSETTO:-0800
TZNAME:PST
DTSTART:20271107T090000
END:STANDARD
END:VTIMEZONE
BEGIN:VEVENT
DTSTART;TZID=America/Los_Angeles:20260318T183000
DTEND;TZID=America/Los_Angeles:20260318T200000
DTSTAMP:20260423T185143
CREATED:20260305T200524Z
LAST-MODIFIED:20260305T200524Z
UID:84574-1773858600-1773864000@www.nvartscouncil.org
SUMMARY:The Future in Rearview: Stories from the Edge of Then and Now
DESCRIPTION:Nevada Humanities continues its partnership with the Desert Research Institute on Curiosity Lab by DRI—a series of events in Reno and Las Vegas that brings together storytellers from science\, the humanities\, and the arts to illuminate our shared connection to the state of Nevada. \nJoin us for an evening that weaves together water\, memory\, innovation\, and imagination—exploring how the choices we make today ripple into the future. While the 1997 flood offers a powerful point of reflection\, this program looks beyond a single event to examine Nevada’s evolving relationship with water through science\, personal story\, and creative practice. \nFrom the hidden water demands of emerging technologies and energy growth\, to a fifth-generation farmer’s journey into groundwater science\, to the transformative power of creativity in science education\, our storytellers reveal how curiosity and lived experience shape the way we understand and steward our world. \nCome discover how stories—both personal and collective—can deepen insight\, spark connection\, and help illuminate the path forward. \nRefreshments and cocktails from 10 Torr Distillery and Brewery will be provided. \nFor more information about the speakers at this Curiosity Lab event\, please visit the DRI website.
URL:https://www.nvartscouncil.org/event/the-future-in-rearview-stories-from-the-edge-of-then-and-now/
LOCATION:Desert Research Initiative\, 2215 Raggio Parkway\, Reno\, NV\, 89512\, United States
CATEGORIES:Literary
ATTACH;FMTTYPE=image/png:https://www.nvartscouncil.org/wp-content/uploads/Screenshot-2026-02-27-at-12.54.00-PM.png
END:VEVENT
END:VCALENDAR