BEGIN:VCALENDAR
VERSION:2.0
PRODID:-//Nevada Arts Council - ECPv6.15.20//NONSGML v1.0//EN
CALSCALE:GREGORIAN
METHOD:PUBLISH
X-WR-CALNAME:Nevada Arts Council
X-ORIGINAL-URL:https://www.nvartscouncil.org
X-WR-CALDESC:Events for Nevada Arts Council
REFRESH-INTERVAL;VALUE=DURATION:PT1H
X-Robots-Tag:noindex
X-PUBLISHED-TTL:PT1H
BEGIN:VTIMEZONE
TZID:America/Los_Angeles
BEGIN:DAYLIGHT
TZOFFSETFROM:-0800
TZOFFSETTO:-0700
TZNAME:PDT
DTSTART:20210314T100000
END:DAYLIGHT
BEGIN:STANDARD
TZOFFSETFROM:-0700
TZOFFSETTO:-0800
TZNAME:PST
DTSTART:20211107T090000
END:STANDARD
BEGIN:DAYLIGHT
TZOFFSETFROM:-0800
TZOFFSETTO:-0700
TZNAME:PDT
DTSTART:20220313T100000
END:DAYLIGHT
BEGIN:STANDARD
TZOFFSETFROM:-0700
TZOFFSETTO:-0800
TZNAME:PST
DTSTART:20221106T090000
END:STANDARD
BEGIN:DAYLIGHT
TZOFFSETFROM:-0800
TZOFFSETTO:-0700
TZNAME:PDT
DTSTART:20230312T100000
END:DAYLIGHT
BEGIN:STANDARD
TZOFFSETFROM:-0700
TZOFFSETTO:-0800
TZNAME:PST
DTSTART:20231105T090000
END:STANDARD
END:VTIMEZONE
BEGIN:VEVENT
DTSTART;TZID=America/Los_Angeles:20220115T140000
DTEND;TZID=America/Los_Angeles:20220115T160000
DTSTAMP:20260424T034729
CREATED:20220112T184728Z
LAST-MODIFIED:20220112T184728Z
UID:28867-1642255200-1642262400@www.nvartscouncil.org
SUMMARY:American Son
DESCRIPTION:Broadway In The HOOD (BITH) in partnership with Boulder City Parks & Recreation is thrilled to present the critically acclaimed touring production of the Broadway play\, American Son. Las Vegas based Tony & Emmy Award nominated arts and education theatre company BITH has been selected as the recipient of a Target of Opportunity Grant by Nevada Arts Council to tour their production of American Son by Christopher Demos-Brown. \nAmerican Son\, the riveting Broadway play adapted into Netflix television special\, is an explosive drama that takes place in real-time in the waiting room of a police station over the course of one evening\, where an estranged couple collide as they confront an unexpected crisis involving their son\, the police\, and an abandoned car. This powerful play examines the complexities facing our law enforcement officers\, their families and the harsh reality facing the youth of our country today.  \nThe touring production of American Son kicked off in Las Vegas on January 8 and will tour major and rural theatre locations throughout the state of Nevada until June 2022 including Boulder City\, Carson City\, and Reno. Performances for American Son will run one hour and fifteen minutes with a thirty-minute talkback session with the cast and crew following each performance. It’s free and open to the public and sponsored by The Nevada Arts Council. 
URL:https://www.nvartscouncil.org/event/american-son-2/2022-01-15/
LOCATION:Department of Water and Power Building\, 600 Nevada Way\, Boulder City\, NV\, 89005\, United States
CATEGORIES:Performing
ATTACH;FMTTYPE=image/jpeg:https://www.nvartscouncil.org/wp-content/uploads/Boulder.jpg
END:VEVENT
END:VCALENDAR