BEGIN:VCALENDAR
VERSION:2.0
PRODID:-//Nevada Arts Council - ECPv6.15.17//NONSGML v1.0//EN
CALSCALE:GREGORIAN
METHOD:PUBLISH
X-ORIGINAL-URL:https://www.nvartscouncil.org
X-WR-CALDESC:Events for Nevada Arts Council
REFRESH-INTERVAL;VALUE=DURATION:PT1H
X-Robots-Tag:noindex
X-PUBLISHED-TTL:PT1H
BEGIN:VTIMEZONE
TZID:America/Los_Angeles
BEGIN:DAYLIGHT
TZOFFSETFROM:-0800
TZOFFSETTO:-0700
TZNAME:PDT
DTSTART:20220313T100000
END:DAYLIGHT
BEGIN:STANDARD
TZOFFSETFROM:-0700
TZOFFSETTO:-0800
TZNAME:PST
DTSTART:20221106T090000
END:STANDARD
BEGIN:DAYLIGHT
TZOFFSETFROM:-0800
TZOFFSETTO:-0700
TZNAME:PDT
DTSTART:20230312T100000
END:DAYLIGHT
BEGIN:STANDARD
TZOFFSETFROM:-0700
TZOFFSETTO:-0800
TZNAME:PST
DTSTART:20231105T090000
END:STANDARD
BEGIN:DAYLIGHT
TZOFFSETFROM:-0800
TZOFFSETTO:-0700
TZNAME:PDT
DTSTART:20240310T100000
END:DAYLIGHT
BEGIN:STANDARD
TZOFFSETFROM:-0700
TZOFFSETTO:-0800
TZNAME:PST
DTSTART:20241103T090000
END:STANDARD
BEGIN:DAYLIGHT
TZOFFSETFROM:-0800
TZOFFSETTO:-0700
TZNAME:PDT
DTSTART:20250309T100000
END:DAYLIGHT
BEGIN:STANDARD
TZOFFSETFROM:-0700
TZOFFSETTO:-0800
TZNAME:PST
DTSTART:20251102T090000
END:STANDARD
END:VTIMEZONE
BEGIN:VEVENT
DTSTART;TZID=America/Los_Angeles:20240424T193000
DTEND;TZID=America/Los_Angeles:20240424T193000
DTSTAMP:20260421T161910
CREATED:20230905T195923Z
LAST-MODIFIED:20230905T195923Z
UID:40519-1713987000-1713987000@www.nvartscouncil.org
SUMMARY:Apex Concerts: Spark of Genius
DESCRIPTION:Apex Concerts presents its Grand Season Finale with “Spark of Genius\,” a program with an all-star cast featuring violinists Stella Chen and Sean Lee\, violists Matthew Lipman and Milena Pájaro-van de Stadt\, as well as Apex co-Directors Dmitri Atapine and Hyeyeon Park. Works explored are all centered on the idea of what exactly is the spark of true inspiration and genius. Perhaps it is it the arrival of precocious maturity in the twenty-something year old Franz Schubert and his String Trio in B-flat Major. Or it may be the fervor and passion of the first love\, as exemplified by Joseph Suk and his Piano Quartet Op. 1. Or pure brilliance of the mind of Felix Mendelssohn\, one of classical music’s most celebrated prodigies\, who also achieved some of the most refined and ingenious craftsmanship as evidenced in his majestic String Quintet in D Major Op. 87. For more information visit www.unr.edu/apex
URL:https://www.nvartscouncil.org/event/apex-concerts-spark-of-genius/
LOCATION:Hall Recital Hall\, University Arts Building\, University of Nevada\, Reno\, 1664 N Virginia St\, Reno\, NV\, 89503\, United States
CATEGORIES:Performing
ATTACH;FMTTYPE=image/jpeg:https://www.nvartscouncil.org/wp-content/uploads/240424_Spark-scaled.jpg
ORGANIZER;CN="University of Nevada%2C Reno%2C School of the Arts":MAILTO:arts@unr.edu
END:VEVENT
BEGIN:VEVENT
DTSTART;TZID=America/Los_Angeles:20240423T193000
DTEND;TZID=America/Los_Angeles:20240423T213000
DTSTAMP:20260421T161910
CREATED:20240312T215245Z
LAST-MODIFIED:20240312T215245Z
UID:45595-1713900600-1713907800@www.nvartscouncil.org
SUMMARY:When We Were Young – Spring Choral Area Concert
DESCRIPTION:Spring Choral Area Concert featuring the University of Nevada\, Reno School of Music Concert Choir\, Chamber Chorale\, and guest choirs from McQueen High School. \nFree parking at the Whalen Parking Garage
URL:https://www.nvartscouncil.org/event/when-we-were-young-spring-choral-area-concert/
LOCATION:Hall Recital Hall\, University Arts Building\, University of Nevada\, Reno\, 1664 N Virginia St\, Reno\, NV\, 89503\, United States
CATEGORIES:Performing
ATTACH;FMTTYPE=image/jpeg:https://www.nvartscouncil.org/wp-content/uploads/music-19.jpg
ORGANIZER;CN="University of Nevada%2C Reno%2C School of the Arts":MAILTO:arts@unr.edu
END:VEVENT
BEGIN:VEVENT
DTSTART;TZID=America/Los_Angeles:20240411T193000
DTEND;TZID=America/Los_Angeles:20240411T210000
DTSTAMP:20260421T161910
CREATED:20240403T223455Z
LAST-MODIFIED:20240403T223455Z
UID:46473-1712863800-1712869200@www.nvartscouncil.org
SUMMARY:Art Lande Artist-in-Residence
DESCRIPTION:Art Lande-Grammy-nominated\, internationally known pianist\, composer\, improviser\, drummer and educator. Artist in Residence Art Lande will be teaching masterclasses April 9-11 accompanied by two evening performances: Wednesday April 10th at Laughing Planet 7:30 Art Lande with members of UNR Faculty group-Manzanita Quintet Suggested Donation $10 Thursday April 11th in Hall Recital Hall 7:30 Free Admission Two Trio performances Featuring Art Lande: Art Lande-Piano\, Josh Reed-Trpt\, Hans Halt-Bass Art Lande-Piano\, Josh Reed-Trpt Tim Wendel-guitar \nPaid visitor parking is available on the bottom floor of the Brian J. Whalen Parking Complex located immediately  north of Church Fine Arts building.
URL:https://www.nvartscouncil.org/event/art-lande-artist-in-residence/
LOCATION:Hall Recital Hall\, University Arts Building\, University of Nevada\, Reno\, 1664 N Virginia St\, Reno\, NV\, 89503\, United States
CATEGORIES:Performing
ATTACH;FMTTYPE=image/jpeg:https://www.nvartscouncil.org/wp-content/uploads/Art-Lande-png-file-scaled.jpg
ORGANIZER;CN="University of Nevada%2C Reno%2C School of the Arts":MAILTO:arts@unr.edu
END:VEVENT
BEGIN:VEVENT
DTSTART;TZID=America/Los_Angeles:20240403T190000
DTEND;TZID=America/Los_Angeles:20240403T210000
DTSTAMP:20260421T161910
CREATED:20240403T223401Z
LAST-MODIFIED:20240403T223401Z
UID:46420-1712170800-1712178000@www.nvartscouncil.org
SUMMARY:Christopher Grundy Voice Recital
DESCRIPTION:Christopher Grundy presents a program featuring works by Schubert\, Vaughan Williams\, and contemporary composer Neely Bruce in collaboration with pianist Bryan Chuan.
URL:https://www.nvartscouncil.org/event/christopher-grundy-voice-recital/
LOCATION:Hall Recital Hall\, University Arts Building\, University of Nevada\, Reno\, 1664 N Virginia St\, Reno\, NV\, 89503\, United States
CATEGORIES:Performing
ATTACH;FMTTYPE=image/jpeg:https://www.nvartscouncil.org/wp-content/uploads/Grundy.Headshot.Full_.Size-Bryan-C-scaled.jpeg
ORGANIZER;CN="University of Nevada%2C Reno%2C School of the Arts":MAILTO:arts@unr.edu
END:VEVENT
BEGIN:VEVENT
DTSTART;TZID=America/Los_Angeles:20240402T120000
DTEND;TZID=America/Los_Angeles:20240402T170000
DTSTAMP:20260421T161910
CREATED:20240321T190630Z
LAST-MODIFIED:20240321T190630Z
UID:46063-1712059200-1712077200@www.nvartscouncil.org
SUMMARY:(FREE EVENT) Visiting Artist Presentation: Baritone Christopher Grundy
DESCRIPTION:Bass-Baritone Christopher Grundy will give a presentation on learning contemporary/avant-garde music\, together with Bryan Chuan on piano. \nPaid visitor parking is available on the bottom floor of the Brian J. Whalen Parking Complex located immediately  north of Church Fine Arts building.
URL:https://www.nvartscouncil.org/event/free-event-visiting-artist-presentation-baritone-christopher-grundy/
LOCATION:Hall Recital Hall\, University Arts Building\, University of Nevada\, Reno\, 1664 N Virginia St\, Reno\, NV\, 89503\, United States
CATEGORIES:Performing
ATTACH;FMTTYPE=image/jpeg:https://www.nvartscouncil.org/wp-content/uploads/grundy.jpeg
ORGANIZER;CN="University of Nevada%2C Reno%2C School of the Arts":MAILTO:arts@unr.edu
END:VEVENT
BEGIN:VEVENT
DTSTART;TZID=America/Los_Angeles:20240315T193000
DTEND;TZID=America/Los_Angeles:20240315T193000
DTSTAMP:20260421T161910
CREATED:20230905T184949Z
LAST-MODIFIED:20230905T184949Z
UID:40507-1710531000-1710531000@www.nvartscouncil.org
SUMMARY:Apex Concerts: SPA Trio
DESCRIPTION:  \nHistoric recordings of some of the great singers of yesteryear include numerous performances of salon type songs that included an obbligato instrument. Some of these pairings included Enrico Caruso with Mischa Elman\, John McCormack with Fritz Kreisler\, Marian Anderson with William Primrose\, Alma Gluck with her husband Efrem Zimbalist\, as well as Bing Crosby and Jascha Heifetz! Susanna Phillips\, Paul Neubauer and Anne-Marie McDermott continue this tradition with SPA. Zachary Lewis at The Plain Dealer (Cleveland) sums it up: “But it wasn’t just the lineup\, which included the remarkable pianist Anne-Marie McDermott\, that made the evening so special. Also unique was the repertoire itself\, a fetching blend of art and parlor songs from all over 19th- and 20th-century Europe. Phillips herself required zero assistance. A singer known for starring roles at New York’s Metropolitan Opera\, she proved a singular authority\, brandishing a golden\, powerful instrument and treating each song to generous servings of eloquence and feeling. But how much better to hear Phillips in tandem with Neubauer\, a former principal violist of the New York Philharmonic\, and witness the gorgeous dovetailing of the viola’s warm\, expressive tone with that of the human voice\, its closest musical relation. At times\, the two were almost indistinguishable.” For more information visit www.unr.edu/apex
URL:https://www.nvartscouncil.org/event/apex-concerts-spa-trio/
LOCATION:Hall Recital Hall\, University Arts Building\, University of Nevada\, Reno\, 1664 N Virginia St\, Reno\, NV\, 89503\, United States
CATEGORIES:Performing
ATTACH;FMTTYPE=image/jpeg:https://www.nvartscouncil.org/wp-content/uploads/240315_SPATriocreditTristanCookps.jpg
ORGANIZER;CN="University of Nevada%2C Reno%2C School of the Arts":MAILTO:arts@unr.edu
END:VEVENT
BEGIN:VEVENT
DTSTART;TZID=America/Los_Angeles:20240310T150000
DTEND;TZID=America/Los_Angeles:20240310T160000
DTSTAMP:20260421T161910
CREATED:20231018T180415Z
LAST-MODIFIED:20231018T180415Z
UID:41680-1710082800-1710086400@www.nvartscouncil.org
SUMMARY:Argenta Trio: Im Frühling / In Spring
DESCRIPTION:Join the Argenta Trio’s Germanic Welcome to Spring featuring works by Wolfgang Amadeus Mozart\, Clara Wieck Schumann & Ludwig van Beethoven.
URL:https://www.nvartscouncil.org/event/argenta-trio-im-fruhling-in-spring/
LOCATION:Hall Recital Hall\, University Arts Building\, University of Nevada\, Reno\, 1664 N Virginia St\, Reno\, NV\, 89503\, United States
CATEGORIES:Performing
ATTACH;FMTTYPE=image/jpeg:https://www.nvartscouncil.org/wp-content/uploads/N-Logo-5.jpg
ORGANIZER;CN="University of Nevada%2C Reno%2C School of the Arts":MAILTO:arts@unr.edu
END:VEVENT
BEGIN:VEVENT
DTSTART;TZID=America/Los_Angeles:20240214T190000
DTEND;TZID=America/Los_Angeles:20240214T203000
DTSTAMP:20260421T161910
CREATED:20240123T171403Z
LAST-MODIFIED:20240123T171403Z
UID:44388-1707937200-1707942600@www.nvartscouncil.org
SUMMARY:Love Letters: A Faculty Farewell Recital & Celebration of Valentine’s Day
DESCRIPTION:Join Professor Stephanie Sant’Ambrogio for her final faculty recital with Pianist Jeffrey Skyes in a program celebrating Love for Valentine’s Day with works by Fritz Kreisler\, Clara Schumann\, Edward Elgar\, William Grant Still\, Johannes Brahms & more\, plus a world premier performance of “Litanies…” for solo violin by NV based composer Monica Houghton! \nParking Information: Brian Whalen Parking Complex
URL:https://www.nvartscouncil.org/event/love-letters-a-faculty-farewell-recital-celebration-of-valentines-day/
LOCATION:Hall Recital Hall\, University Arts Building\, University of Nevada\, Reno\, 1664 N Virginia St\, Reno\, NV\, 89503\, United States
CATEGORIES:Performing
ATTACH;FMTTYPE=image/jpeg:https://www.nvartscouncil.org/wp-content/uploads/Recital_ValDay24_webSq-ssantambrogio@unr.edu2024500904501096-scaled.jpeg
ORGANIZER;CN="University of Nevada%2C Reno%2C School of the Arts":MAILTO:arts@unr.edu
END:VEVENT
BEGIN:VEVENT
DTSTART;TZID=America/Los_Angeles:20240130T193000
DTEND;TZID=America/Los_Angeles:20240130T193000
DTSTAMP:20260421T161910
CREATED:20230901T231339Z
LAST-MODIFIED:20230905T185007Z
UID:40477-1706643000-1706643000@www.nvartscouncil.org
SUMMARY:Apex Concerts: “Extraordinary Imaginations” with the Chamber Music Society of Lincoln Cen-ter
DESCRIPTION:Apex Concerts is proud to partner with the nation’s premier chamber music organization — the Chamber Music Society of Lincoln Center — for a fun and bold program exploring the transformational time of the early 20th century\, an era of tireless innovation and limitless imagination. Whether it is Samuel Coleridge-Taylor diving into both his Sierra Leonean heritage and his use of African-inspired themes or the Venezuelan composer Reynaldo Hahn adopting the drama of the latest Parisian fashion of the 1920s and the language of his adoptive France. Witness the Belgian composer and virtuosic violinist Eugene Ysaÿe reflecting on the playing style of the Romanian violin prodigy George Enescu. The evening culminates with the magnificent Piano Quintet by the Swiss-American Ernest Bloch\, whose compositions are often described as reflective of his Jewish heritage\, with highly dramatic scores influenced by philosophical\, poetic\, and religious themes. For more information visit www.unr.edu/apex
URL:https://www.nvartscouncil.org/event/apex-concerts-extraordinary-imaginations-with-the-chamber-music-society-of-lincoln-cen-ter/
LOCATION:Hall Recital Hall\, University Arts Building\, University of Nevada\, Reno\, 1664 N Virginia St\, Reno\, NV\, 89503\, United States
CATEGORIES:Performing
ATTACH;FMTTYPE=image/jpeg:https://www.nvartscouncil.org/wp-content/uploads/IMAGINATION.jpg
ORGANIZER;CN="University of Nevada%2C Reno%2C School of the Arts":MAILTO:arts@unr.edu
END:VEVENT
BEGIN:VEVENT
DTSTART;TZID=America/Los_Angeles:20231211T193000
DTEND;TZID=America/Los_Angeles:20231211T193000
DTSTAMP:20260421T161910
CREATED:20231017T184217Z
LAST-MODIFIED:20231017T184217Z
UID:41660-1702323000-1702323000@www.nvartscouncil.org
SUMMARY:Brass Quintet Showcase
DESCRIPTION:An evening full of brass! Come hear the student brass quintets in their end of semester showcase.
URL:https://www.nvartscouncil.org/event/brass-quintet-showcase/
LOCATION:Hall Recital Hall\, University Arts Building\, University of Nevada\, Reno\, 1664 N Virginia St\, Reno\, NV\, 89503\, United States
CATEGORIES:Performing
ATTACH;FMTTYPE=image/jpeg:https://www.nvartscouncil.org/wp-content/uploads/FullSizeRender-Natalie-Higgins-scaled.jpeg
ORGANIZER;CN="University of Nevada%2C Reno%2C School of the Arts":MAILTO:arts@unr.edu
END:VEVENT
BEGIN:VEVENT
DTSTART;TZID=America/Los_Angeles:20231129T190000
DTEND;TZID=America/Los_Angeles:20231129T190000
DTSTAMP:20260421T161910
CREATED:20230605T151243Z
LAST-MODIFIED:20230605T151243Z
UID:37944-1701284400-1701284400@www.nvartscouncil.org
SUMMARY:UNR Saxophone Studio Recital
DESCRIPTION:Performances by Draw Four\, UNR’s saxophone quartet\, and by soloists from the studio of Dr. Aaron Hill. \nTHIS IS A FREE EVENT
URL:https://www.nvartscouncil.org/event/unr-saxophone-studio-recital/
LOCATION:Hall Recital Hall\, University Arts Building\, University of Nevada\, Reno\, 1664 N Virginia St\, Reno\, NV\, 89503\, United States
CATEGORIES:Performing
ATTACH;FMTTYPE=image/png:https://www.nvartscouncil.org/wp-content/uploads/IMG_5312-min-Aaron-Hill.png
ORGANIZER;CN="University of Nevada%2C Reno%2C School of the Arts":MAILTO:arts@unr.edu
END:VEVENT
BEGIN:VEVENT
DTSTART;TZID=America/Los_Angeles:20231128T193000
DTEND;TZID=America/Los_Angeles:20231128T210000
DTSTAMP:20260421T161910
CREATED:20230920T163503Z
LAST-MODIFIED:20230920T165129Z
UID:40777-1701199800-1701205200@www.nvartscouncil.org
SUMMARY:Studio Voice Recital of Katherine Parker and Brittney May
DESCRIPTION:Applied voice students of Professor Parker and Professor May present solo repertoire from Western European classical and musical theatre genres.
URL:https://www.nvartscouncil.org/event/studio-voice-recital-of-katherine-parker-and-brittney-may/
LOCATION:Hall Recital Hall\, University Arts Building\, University of Nevada\, Reno\, 1664 N Virginia St\, Reno\, NV\, 89503\, United States
CATEGORIES:Performing
ATTACH;FMTTYPE=image/png:https://www.nvartscouncil.org/wp-content/uploads/Screenshot-2023-09-17-at-6.08.23-PM-Katherine-Parker.png
ORGANIZER;CN="University of Nevada%2C Reno%2C School of the Arts":MAILTO:arts@unr.edu
END:VEVENT
BEGIN:VEVENT
DTSTART;TZID=America/Los_Angeles:20231120T193000
DTEND;TZID=America/Los_Angeles:20231120T210000
DTSTAMP:20260421T161910
CREATED:20230908T173732Z
LAST-MODIFIED:20230908T211507Z
UID:40630-1700508600-1700514000@www.nvartscouncil.org
SUMMARY:Bryan Chuan Solo Piano Recital
DESCRIPTION:Bryan Chuan presents a solo faculty recital featuring the dramatic piano works of Sanis composer Enrique Granados.
URL:https://www.nvartscouncil.org/event/bryan-chuan-solo-piano-recital/
LOCATION:Hall Recital Hall\, University Arts Building\, University of Nevada\, Reno\, 1664 N Virginia St\, Reno\, NV\, 89503\, United States
CATEGORIES:Performing
ATTACH;FMTTYPE=image/jpeg:https://www.nvartscouncil.org/wp-content/uploads/music.jpg
ORGANIZER;CN="University of Nevada%2C Reno%2C School of the Arts":MAILTO:arts@unr.edu
END:VEVENT
BEGIN:VEVENT
DTSTART;TZID=America/Los_Angeles:20231117T193000
DTEND;TZID=America/Los_Angeles:20231117T203000
DTSTAMP:20260421T161910
CREATED:20231010T204358Z
LAST-MODIFIED:20231010T204358Z
UID:41408-1700249400-1700253000@www.nvartscouncil.org
SUMMARY:UNR Opera Scenes
DESCRIPTION:UNR Opera Workshop presents Fall 2023 Opera Scenes featuring works by Mozart\, Delibes\, and Offenbach.
URL:https://www.nvartscouncil.org/event/unr-opera-scenes/2023-11-17/
LOCATION:Hall Recital Hall\, University Arts Building\, University of Nevada\, Reno\, 1664 N Virginia St\, Reno\, NV\, 89503\, United States
CATEGORIES:Performing
ATTACH;FMTTYPE=image/jpeg:https://www.nvartscouncil.org/wp-content/uploads/N-Logo-4.jpg
ORGANIZER;CN="University of Nevada%2C Reno%2C School of the Arts":MAILTO:arts@unr.edu
END:VEVENT
BEGIN:VEVENT
DTSTART;TZID=America/Los_Angeles:20231115T193000
DTEND;TZID=America/Los_Angeles:20231115T193000
DTSTAMP:20260421T161910
CREATED:20230905T184940Z
LAST-MODIFIED:20230905T184940Z
UID:40476-1700076600-1700076600@www.nvartscouncil.org
SUMMARY:Apex Concerts: Celestial Mechanics
DESCRIPTION:Apex Concerts celebrates the 50th Anniversary of the Fleischmann Planetarium in a phenomenal program with fascinating astronomical range. Travel through light-years of musical ingenuity from works by J.S. Bach and William Herschel – the composer and astronomer who discovered the planet Uranus\, – through colorful compositions by Tchaikovsky and Stravinsky\, all the way into the mysterious and mystical world of Celestial Mechanics by the genius George Crumb. For more information visit www.unr.edu/apex
URL:https://www.nvartscouncil.org/event/apex-concerts-celestial-mechanics/
LOCATION:Hall Recital Hall\, University Arts Building\, University of Nevada\, Reno\, 1664 N Virginia St\, Reno\, NV\, 89503\, United States
CATEGORIES:Performing
ATTACH;FMTTYPE=image/jpeg:https://www.nvartscouncil.org/wp-content/uploads/celestial-mechanics.jpg
ORGANIZER;CN="University of Nevada%2C Reno%2C School of the Arts":MAILTO:arts@unr.edu
END:VEVENT
BEGIN:VEVENT
DTSTART;TZID=America/Los_Angeles:20231113T193000
DTEND;TZID=America/Los_Angeles:20231113T193000
DTSTAMP:20260421T161910
CREATED:20230908T183035Z
LAST-MODIFIED:20230908T211519Z
UID:40633-1699903800-1699903800@www.nvartscouncil.org
SUMMARY:Horn Ensemble and Trumpet Ensemble Concert
DESCRIPTION:Join the horn ensemble and trumpet ensemble as they perform compositions and arrangements for high brass!
URL:https://www.nvartscouncil.org/event/horn-ensemble-and-trumpet-ensemble-concert/
LOCATION:Hall Recital Hall\, University Arts Building\, University of Nevada\, Reno\, 1664 N Virginia St\, Reno\, NV\, 89503\, United States
CATEGORIES:Performing
ATTACH;FMTTYPE=image/jpeg:https://www.nvartscouncil.org/wp-content/uploads/music-1.jpg
ORGANIZER;CN="University of Nevada%2C Reno%2C School of the Arts":MAILTO:arts@unr.edu
END:VEVENT
BEGIN:VEVENT
DTSTART;TZID=America/Los_Angeles:20231020T193000
DTEND;TZID=America/Los_Angeles:20231020T210000
DTSTAMP:20260421T161910
CREATED:20230915T180133Z
LAST-MODIFIED:20230920T165041Z
UID:40703-1697830200-1697835600@www.nvartscouncil.org
SUMMARY:School of Music Festival: Faculty Spotlight Concert
DESCRIPTION:Join us for an evening of musical exploration featuring accomplished members of the School of Music community. The Manzanita Quintet\, jazz faculty ensemble with members Josh D. Reed\, Peter Epstein\, Adam Benjamin\, Hans Halt\, and Andrew Heglund will open the program with a set of thought-provoking and creative jazz compositions. The second half of the performance will showcase the Nevada Chamber Players\, a collaborative ensemble comprised of faculty and students from the School of Music. They will perform Mozart’s classical masterpiece Serenade No. 10 for winds in B-flat major\, K. 361/370a. We invite you to immerse yourself in an evening of artistic expression and musical excellence!
URL:https://www.nvartscouncil.org/event/school-of-music-festival-faculty-spotlight-concert/
LOCATION:Hall Recital Hall\, University Arts Building\, University of Nevada\, Reno\, 1664 N Virginia St\, Reno\, NV\, 89503\, United States
CATEGORIES:Performing
ATTACH;FMTTYPE=image/jpeg:https://www.nvartscouncil.org/wp-content/uploads/music-3.jpg
ORGANIZER;CN="University of Nevada%2C Reno%2C School of the Arts":MAILTO:arts@unr.edu
END:VEVENT
BEGIN:VEVENT
DTSTART;TZID=America/Los_Angeles:20231018T193000
DTEND;TZID=America/Los_Angeles:20231018T193000
DTSTAMP:20260421T161910
CREATED:20230915T153449Z
LAST-MODIFIED:20230920T165004Z
UID:40695-1697657400-1697657400@www.nvartscouncil.org
SUMMARY:School of Music Festival & Apex Concerts: “Fandango” with Jason Vieaux and Escher Quartet
DESCRIPTION:Apex Concerts joins in the festivities surrounding the University of Nevada\, Reno School of Music Festival with “Fandango”— a thrilling collaboration between the Escher String Quartet and the GRAMMY-winning guitarist Jason Vieaux. An evening culminating with the thrilling “100 Greatest Dance Hits” by Aaron Jay Kernis – a contemporary gem fusing classical and modern influences and a world of vibrant energy and uninhibited joy – will also feature works by Joseph Haydn\, plenty of virtuoso playing by Jason Vieaux and the Escher Quartet\, as well as one of the most infectiously exciting compositions of all times: the great Guitar Quintet in D Major “Fandango” by Luigi Boccherini. A not-to-be missed evening of excitement and celebration. For more information visit www.unr.edu/apex
URL:https://www.nvartscouncil.org/event/school-of-music-festival-apex-concerts-fandango-with-jason-vieaux-and-escher-quartet/
LOCATION:Hall Recital Hall\, University Arts Building\, University of Nevada\, Reno\, 1664 N Virginia St\, Reno\, NV\, 89503\, United States
CATEGORIES:Performing
ATTACH;FMTTYPE=image/jpeg:https://www.nvartscouncil.org/wp-content/uploads/apex.jpg
ORGANIZER;CN="University of Nevada%2C Reno%2C School of the Arts":MAILTO:arts@unr.edu
END:VEVENT
BEGIN:VEVENT
DTSTART;TZID=America/Los_Angeles:20231003T193000
DTEND;TZID=America/Los_Angeles:20231003T210000
DTSTAMP:20260421T161910
CREATED:20230913T164406Z
LAST-MODIFIED:20230920T164946Z
UID:40677-1696361400-1696366800@www.nvartscouncil.org
SUMMARY:Terry Longshore Balance|Flow
DESCRIPTION:Percussion/Multimedia Recital
URL:https://www.nvartscouncil.org/event/terry-longshore-balanceflow/
LOCATION:Hall Recital Hall\, University Arts Building\, University of Nevada\, Reno\, 1664 N Virginia St\, Reno\, NV\, 89503\, United States
CATEGORIES:Performing
ATTACH;FMTTYPE=image/jpeg:https://www.nvartscouncil.org/wp-content/uploads/N-Logo-1.jpg
ORGANIZER;CN="University of Nevada%2C Reno%2C School of the Arts":MAILTO:arts@unr.edu
END:VEVENT
BEGIN:VEVENT
DTSTART;TZID=America/Los_Angeles:20231003T193000
DTEND;TZID=America/Los_Angeles:20231003T193000
DTSTAMP:20260421T161910
CREATED:20230915T173334Z
LAST-MODIFIED:20230920T165020Z
UID:40700-1696361400-1696361400@www.nvartscouncil.org
SUMMARY:Terry Longshore Balance|Flow
DESCRIPTION:This will involve percussion and multi-media. Terry calls it “an intermedia percussion experience” https://www.terrylongshore.com/balance-flow-2023-tour
URL:https://www.nvartscouncil.org/event/terry-longshore-balanceflow-2/
LOCATION:Hall Recital Hall\, University Arts Building\, University of Nevada\, Reno\, 1664 N Virginia St\, Reno\, NV\, 89503\, United States
CATEGORIES:Performing
ATTACH;FMTTYPE=image/jpeg:https://www.nvartscouncil.org/wp-content/uploads/music-2.jpg
ORGANIZER;CN="University of Nevada%2C Reno%2C School of the Arts":MAILTO:arts@unr.edu
END:VEVENT
BEGIN:VEVENT
DTSTART;TZID=America/Los_Angeles:20230927T193000
DTEND;TZID=America/Los_Angeles:20230927T213000
DTSTAMP:20260421T161910
CREATED:20230905T230606Z
LAST-MODIFIED:20230905T230606Z
UID:40523-1695843000-1695850200@www.nvartscouncil.org
SUMMARY:Imani Winds
DESCRIPTION:A recital entitled: DE MEMORIAS – A Latin Perspective
URL:https://www.nvartscouncil.org/event/imani-winds/
LOCATION:Hall Recital Hall\, University Arts Building\, University of Nevada\, Reno\, 1664 N Virginia St\, Reno\, NV\, 89503\, United States
CATEGORIES:Performing
ATTACH;FMTTYPE=image/jpeg:https://www.nvartscouncil.org/wp-content/uploads/51322202456_14da1ac635_o-Joshua-Anderson-scaled.jpg
ORGANIZER;CN="University of Nevada%2C Reno%2C School of the Arts":MAILTO:arts@unr.edu
END:VEVENT
BEGIN:VEVENT
DTSTART;TZID=America/Los_Angeles:20230913T193000
DTEND;TZID=America/Los_Angeles:20230913T213000
DTSTAMP:20260421T161910
CREATED:20230905T184929Z
LAST-MODIFIED:20230905T184929Z
UID:40463-1694633400-1694640600@www.nvartscouncil.org
SUMMARY:Apex Concerts: Thirteenth is the Charm
DESCRIPTION:Apex Concerts opens its Thirteenth Season with a spectacular evening of chamber music at its highest. A star-studded array of guest artists assemble in Reno to celebrate the magic of the number thirteen\, with Beethoven’s groundbreaking Piano Sonata Op. 13 “Pathétique”\, Mendelssohn’s exquisite String Quartet Op. 13\, and Schoenberg’s transformational Verklarte Nacht for String Sextet\, the work marking a milestone in the history of classical music\, full of passion and profound beauty\, a tale of two lovers who find redemption in each other’s arms on a moonlit night. For more information visit www.unr.edu/apex
URL:https://www.nvartscouncil.org/event/apex-concerts-thirteenth-is-the-charm/
LOCATION:Hall Recital Hall\, University Arts Building\, University of Nevada\, Reno\, 1664 N Virginia St\, Reno\, NV\, 89503\, United States
CATEGORIES:Performing
ATTACH;FMTTYPE=image/jpeg:https://www.nvartscouncil.org/wp-content/uploads/230913_Thirteen.jpg
ORGANIZER;CN="University of Nevada%2C Reno%2C School of the Arts":MAILTO:arts@unr.edu
END:VEVENT
BEGIN:VEVENT
DTSTART;TZID=America/Los_Angeles:20230910T150000
DTEND;TZID=America/Los_Angeles:20230910T170000
DTSTAMP:20260421T161910
CREATED:20230908T163321Z
LAST-MODIFIED:20230908T163321Z
UID:40554-1694358000-1694365200@www.nvartscouncil.org
SUMMARY:Argenta Trio: The Solitude of Stars
DESCRIPTION:Join UNR’s Trio-in-Residence as they perform works by Felix Mendelssohn\, Ethel Smyth and living composer Stacy Garrop in a program of brilliant piano trios from the 19th\, 20th & 21st centuries! This event is not suitable for children.
URL:https://www.nvartscouncil.org/event/argenta-trio-the-solitude-of-stars/
LOCATION:Hall Recital Hall\, University Arts Building\, University of Nevada\, Reno\, 1664 N Virginia St\, Reno\, NV\, 89503\, United States
CATEGORIES:Performing
ORGANIZER;CN="University of Nevada%2C Reno%2C School of the Arts":MAILTO:arts@unr.edu
END:VEVENT
BEGIN:VEVENT
DTSTART;TZID=America/Los_Angeles:20230508T170000
DTEND;TZID=America/Los_Angeles:20230508T183000
DTSTAMP:20260421T161910
CREATED:20230426T195309Z
LAST-MODIFIED:20230426T195309Z
UID:36698-1683565200-1683570600@www.nvartscouncil.org
SUMMARY:Flute\, Oboe\, and Bassoon Recital
DESCRIPTION:Students of Mary Miller\, Eric Fassbender\, and Aaron Hill will present various pieces composed from 1650 to the present. Aren Long will appear as collaborative pianist.
URL:https://www.nvartscouncil.org/event/flute-oboe-and-bassoon-recital/
LOCATION:Hall Recital Hall\, University Arts Building\, University of Nevada\, Reno\, 1664 N Virginia St\, Reno\, NV\, 89503\, United States
CATEGORIES:Performing
ATTACH;FMTTYPE=image/png:https://www.nvartscouncil.org/wp-content/uploads/1-32.png
END:VEVENT
BEGIN:VEVENT
DTSTART;TZID=America/Los_Angeles:20230413T180000
DTEND;TZID=America/Los_Angeles:20230415T180000
DTSTAMP:20260421T161910
CREATED:20221209T193945Z
LAST-MODIFIED:20221212T210434Z
UID:33967-1681408800-1681581600@www.nvartscouncil.org
SUMMARY:Acis and Galatea
DESCRIPTION:Nevada Chamber Opera presents Handel’s first English stage work\, in collaboration with UNR Chamber Choir\, and Symphony Orchestra. Based on an episode from Ovid’s Metamorphoses\, the myth tells of the tale of a love triangle between nymph\, a shepherd\, and an envious giant. Can love prevail over rage\, jealousy\, and even death? \n\nDate and Time: \nThursday\, April 13\, 2023 at 7:30 pm to 9:00 pm \nFriday\, April 14\, 2023 at 7:30 pm to 9:00 pm \n\nSaturday\, April 15\, 2023 at 3:00 pm to 4:30 pm
URL:https://www.nvartscouncil.org/event/acis-and-galatea/
LOCATION:Hall Recital Hall\, University Arts Building\, University of Nevada\, Reno\, 1664 N Virginia St\, Reno\, NV\, 89503\, United States
CATEGORIES:Performing
ATTACH;FMTTYPE=image/png:https://www.nvartscouncil.org/wp-content/uploads/1-30.png
END:VEVENT
END:VCALENDAR