BEGIN:VCALENDAR
VERSION:2.0
PRODID:-//Nevada Arts Council - ECPv6.15.17//NONSGML v1.0//EN
CALSCALE:GREGORIAN
METHOD:PUBLISH
X-ORIGINAL-URL:https://www.nvartscouncil.org
X-WR-CALDESC:Events for Nevada Arts Council
REFRESH-INTERVAL;VALUE=DURATION:PT1H
X-Robots-Tag:noindex
X-PUBLISHED-TTL:PT1H
BEGIN:VTIMEZONE
TZID:America/Los_Angeles
BEGIN:DAYLIGHT
TZOFFSETFROM:-0800
TZOFFSETTO:-0700
TZNAME:PDT
DTSTART:20240310T100000
END:DAYLIGHT
BEGIN:STANDARD
TZOFFSETFROM:-0700
TZOFFSETTO:-0800
TZNAME:PST
DTSTART:20241103T090000
END:STANDARD
BEGIN:DAYLIGHT
TZOFFSETFROM:-0800
TZOFFSETTO:-0700
TZNAME:PDT
DTSTART:20250309T100000
END:DAYLIGHT
BEGIN:STANDARD
TZOFFSETFROM:-0700
TZOFFSETTO:-0800
TZNAME:PST
DTSTART:20251102T090000
END:STANDARD
BEGIN:DAYLIGHT
TZOFFSETFROM:-0800
TZOFFSETTO:-0700
TZNAME:PDT
DTSTART:20260308T100000
END:DAYLIGHT
BEGIN:STANDARD
TZOFFSETFROM:-0700
TZOFFSETTO:-0800
TZNAME:PST
DTSTART:20261101T090000
END:STANDARD
END:VTIMEZONE
BEGIN:VEVENT
DTSTART;TZID=America/Los_Angeles:20250206T130000
DTEND;TZID=America/Los_Angeles:20250206T150000
DTSTAMP:20260422T061952
CREATED:20250115T215403Z
LAST-MODIFIED:20250115T215403Z
UID:59350-1738846800-1738854000@www.nvartscouncil.org
SUMMARY:Lovelock: Nevada Arts Council Grant Information Session for Fiscal Year 2026
DESCRIPTION:It is grants season at the Nevada Arts Council. Join our staff in Lovelock for an in-person information session to help you apply for the upcoming fiscal year 2026 grants. \nWe will be providing general information about Fiscal Year 2026 grants\, requirements\, and grant writing tips during the in-person sessions being held at 12 locations across the state. \nRegistration is encouraged for the in-person sessions but not required.
URL:https://www.nvartscouncil.org/event/lovelock-nevada-arts-council-grant-information-session-for-fiscal-year-2026/
LOCATION:Pershing County Library\, Classroom\, 1125 Central Ave.\, Lovelock\, 89419\, United States
CATEGORIES:Workshops and Webinars
ATTACH;FMTTYPE=image/png:https://www.nvartscouncil.org/wp-content/uploads/cropped-NAC_Favicon_512x512px-4.png
END:VEVENT
END:VCALENDAR