BEGIN:VCALENDAR
VERSION:2.0
PRODID:-//Nevada Arts Council - ECPv6.15.17//NONSGML v1.0//EN
CALSCALE:GREGORIAN
METHOD:PUBLISH
X-ORIGINAL-URL:https://www.nvartscouncil.org
X-WR-CALDESC:Events for Nevada Arts Council
REFRESH-INTERVAL;VALUE=DURATION:PT1H
X-Robots-Tag:noindex
X-PUBLISHED-TTL:PT1H
BEGIN:VTIMEZONE
TZID:America/Los_Angeles
BEGIN:DAYLIGHT
TZOFFSETFROM:-0800
TZOFFSETTO:-0700
TZNAME:PDT
DTSTART:20210314T100000
END:DAYLIGHT
BEGIN:STANDARD
TZOFFSETFROM:-0700
TZOFFSETTO:-0800
TZNAME:PST
DTSTART:20211107T090000
END:STANDARD
BEGIN:DAYLIGHT
TZOFFSETFROM:-0800
TZOFFSETTO:-0700
TZNAME:PDT
DTSTART:20220313T100000
END:DAYLIGHT
BEGIN:STANDARD
TZOFFSETFROM:-0700
TZOFFSETTO:-0800
TZNAME:PST
DTSTART:20221106T090000
END:STANDARD
BEGIN:DAYLIGHT
TZOFFSETFROM:-0800
TZOFFSETTO:-0700
TZNAME:PDT
DTSTART:20230312T100000
END:DAYLIGHT
BEGIN:STANDARD
TZOFFSETFROM:-0700
TZOFFSETTO:-0800
TZNAME:PST
DTSTART:20231105T090000
END:STANDARD
BEGIN:DAYLIGHT
TZOFFSETFROM:-0800
TZOFFSETTO:-0700
TZNAME:PDT
DTSTART:20240310T100000
END:DAYLIGHT
BEGIN:STANDARD
TZOFFSETFROM:-0700
TZOFFSETTO:-0800
TZNAME:PST
DTSTART:20241103T090000
END:STANDARD
END:VTIMEZONE
BEGIN:VEVENT
DTSTART;TZID=America/Los_Angeles:20230424T090000
DTEND;TZID=America/Los_Angeles:20230424T160000
DTSTAMP:20260421T103727
CREATED:20230424T151530Z
LAST-MODIFIED:20230424T151839Z
UID:36499-1682326800-1682352000@www.nvartscouncil.org
SUMMARY:Between Earth & Sky
DESCRIPTION:ABOUT THE EXHIBITION:\nThe Metro Gallery at Reno City Hall is hosting “Between Earth & Sky\,” a group exhibition featuring Northern Nevada artists whose work celebrates the unique high desert landscape of the Great Basin. The show will run from April 24 to June 9\, 2023\, and will showcase paintings\, photography\, jewelry\, and mixed media works that capture the beauty and complexity of the Great Basin region. The public is invited to meet the artists at a reception on Thursday\, May 18 from 5:00 to 7:00 p.m.\n\nCurated by the 2022-23 Reno City Artist Rossitza Todorova\, “Between Earth & Sky” offers a rich and diverse view for art lovers and nature enthusiasts alike. Each artist brings a unique perspective to the landscape\, interpreting the region’s natural beauty in their style. Participating artists include Galen Brown\, Grace Davis\, Gerald Lee Franzen\, Ahren Hertel\, Scott Hinton\, Asa Kennedy\, Kirsten Mashinter\, Melissa Melero-Moose\, Elaine Parks\, Austin Pratt\, Gail Rappa\, Rachel Stiff\, and Sidne Teske. The exhibition features a wide range of mediums\, allowing visitors to appreciate the diverse talents of Northern Nevada’s artists.\n\nFor more information about the exhibition\, artist\, and curator\, visit rossitza.art.\n\nABOUT METRO GALLERY:\nAbout the Metro Gallery: The Metro Gallery at Reno City Hall is one of three galleries operated by the City of Reno. Metro Gallery is open to the public and free of charge. Gallery hours are Monday through Friday from 9:00 a.m. to 4:00 p.m. The gallery is accessible through City Hall’s main entrance on the 2nd floor of the City Hall parking garage (NW corner of First St. & Center St.). Upon entering the 2nd floor\, take the elevator to the 1st floor to access the gallery. For more information\, please contact City of Reno Arts & Culture at 775.334.6264.
URL:https://www.nvartscouncil.org/event/between-earth-sky/2023-04-24/
LOCATION:Reno City Hall\, 1 E. 1st St.\, Reno\, NV\, 89501\, United States
CATEGORIES:Exhibit
ATTACH;FMTTYPE=image/jpeg:https://www.nvartscouncil.org/wp-content/uploads/BETWEEN-EARTH-FACEBOOK-JPG-01-scaled.jpg
END:VEVENT
BEGIN:VEVENT
DTSTART;TZID=America/Los_Angeles:20230109T090000
DTEND;TZID=America/Los_Angeles:20230109T160000
DTSTAMP:20260421T103727
CREATED:20230103T173147Z
LAST-MODIFIED:20230103T173437Z
UID:34602-1673254800-1673280000@www.nvartscouncil.org
SUMMARY:"Light\, Color\, and Contrast" - Latimer Art Club Exhibition
DESCRIPTION:The Metro Gallery at Reno City Hall is proud to host the Latimer Art Club in their exhibition “Color\, Light\, and Contrast.” \nThe exhibition will run from January 9 to February 17\, 2023 in Reno City Hall\, Metro Gallery. The public is invited to attend the artists’ reception on Thursday\, January 12\, 2023 from 5:00 – 7:00 p.m. \nThe Latimer Art Club has a long and rich history in Reno. The club was formed in 1921\, by students of a California artist\, Lorenzo P. Latimer. He began teaching in the Sierras\, at or near Fallen Leaf Lake where he would spend some lovely summer months from 1916 forward. His students formed the club with his advice and instruction\, and it carries on today\, over 100 years later. \nToday’s members must present samples of their work to be voted into membership\, similar to what was required in the early years. Their work must be exhibit quality\, to become an “active” member versus “associate” members who may be students or art aficionados. The artists work in various mediums – oils\, acrylics\, pastels\, watercolor\, and mixed media. The styles you will see are also varied. Although Mr. Latimer painted mostly landscapes in either watercolor or oils\, today’s members produce award-winning works in abstract\, impressionist\, semi-realistic or highly realistic styles.
URL:https://www.nvartscouncil.org/event/light-color-and-contrast-latimer-art-club-exhibition/2023-01-09/
LOCATION:Reno City Hall\, 1 E. 1st St.\, Reno\, NV\, 89501\, United States
CATEGORIES:Exhibit,Reception,Visual
ATTACH;FMTTYPE=image/jpeg:https://www.nvartscouncil.org/wp-content/uploads/Laitmer-Facebook-image-2023.jpg
END:VEVENT
BEGIN:VEVENT
DTSTART;TZID=America/Los_Angeles:20220906T090000
DTEND;TZID=America/Los_Angeles:20220906T160000
DTSTAMP:20260421T103727
CREATED:20220906T182430Z
LAST-MODIFIED:20220906T182430Z
UID:32393-1662454800-1662480000@www.nvartscouncil.org
SUMMARY:Transformers: Reshaping Form and Meaning	Exhibition
DESCRIPTION:TRANSFORMERS: RESHAPING FORM AND MEANING\nThe artists in TRANSFORMERS: Reshaping Form and Meaning demonstrate resourcefulness in their selection and manipulation of materials to illustrate their ideas. They stockpile readily-available items such as art store and hardware supplies\, fabrics\, repurposed objects from thrift stores\, and even natural wool fleeces shorn from Nevada flocks.  The multitude of ways in which these artists transform everyday objects is the focus of this exhibition. \nDuring the process of curating the selection of artworks for this exhibition\, conversations with the artists covered working practices in their current studio arrangements. Most described their studios as often being in a process of transition. Unlike some states that have a long history of industry and the associated structures\, Nevada does not offer a large number of unused warehouse spaces to artists for long-term\, low-cost lease. Although many of the exhibiting artists are known for creating large-scale three-dimensional sculptural pieces and installations\, they have adapted their practices to utilize smaller studio spaces in conjunction with outdoor areas. Resources of equipment and space provided by institutions have also been integral in allowing Nevada artists to continue to develop their individual practices. \nBuilding on the tradition of taking art to the people\, this Nevada Touring Initiative exhibition travels to a number of venues throughout the state where viewers either discover these artists for the first time or encounter new work and insights from already familiar artists. All of the artists included in this exhibition have been developing their careers over a number of years and have had their work recognized with a Nevada Arts Council Artist Fellowship Award. \nExhibition artists include Sarah Lillegard\, Sculpture\, Reno/Doyle; Gig Depio\, Painting\, Las Vegas; Dave Rowe\, Sculpture\, Las Vegas; Miguel Rodriguez\, Sculpture\, Las Vegas; Justin Favela\, Sculpture\, Las Vegas; Pasha Rafat\, Sculpture\, Las Vegas; Nick Larsen\, Mixed Media\, Reno/Columbus. \nCURATED BY\nJK Russ\nFor the Nevada Arts Council \n \n\nBearing the Burden\, Sarah Lillegard\, fiber\, pantyhose\, waxed thread\, rope\, 2018\nFloor Nacho Study\, Justin Favela\, tissue paper and glue\, 2017\nSteely Mike\, Miguel Rodriquez\, ceramic\, 2020\n\n  \nTransformersGalleryNotesRF \n 
URL:https://www.nvartscouncil.org/event/transformers-reshaping-form-and-meaningexhibition/2022-09-06/
LOCATION:Reno City Hall\, 1 E. 1st St.\, Reno\, NV\, 89501\, United States
CATEGORIES:Visual
END:VEVENT
END:VCALENDAR