BEGIN:VCALENDAR
VERSION:2.0
PRODID:-//Nevada Arts Council - ECPv6.15.17//NONSGML v1.0//EN
CALSCALE:GREGORIAN
METHOD:PUBLISH
X-ORIGINAL-URL:https://www.nvartscouncil.org
X-WR-CALDESC:Events for Nevada Arts Council
REFRESH-INTERVAL;VALUE=DURATION:PT1H
X-Robots-Tag:noindex
X-PUBLISHED-TTL:PT1H
BEGIN:VTIMEZONE
TZID:America/Los_Angeles
BEGIN:DAYLIGHT
TZOFFSETFROM:-0800
TZOFFSETTO:-0700
TZNAME:PDT
DTSTART:20210314T100000
END:DAYLIGHT
BEGIN:STANDARD
TZOFFSETFROM:-0700
TZOFFSETTO:-0800
TZNAME:PST
DTSTART:20211107T090000
END:STANDARD
BEGIN:DAYLIGHT
TZOFFSETFROM:-0800
TZOFFSETTO:-0700
TZNAME:PDT
DTSTART:20220313T100000
END:DAYLIGHT
BEGIN:STANDARD
TZOFFSETFROM:-0700
TZOFFSETTO:-0800
TZNAME:PST
DTSTART:20221106T090000
END:STANDARD
BEGIN:DAYLIGHT
TZOFFSETFROM:-0800
TZOFFSETTO:-0700
TZNAME:PDT
DTSTART:20230312T100000
END:DAYLIGHT
BEGIN:STANDARD
TZOFFSETFROM:-0700
TZOFFSETTO:-0800
TZNAME:PST
DTSTART:20231105T090000
END:STANDARD
BEGIN:DAYLIGHT
TZOFFSETFROM:-0800
TZOFFSETTO:-0700
TZNAME:PDT
DTSTART:20240310T100000
END:DAYLIGHT
BEGIN:STANDARD
TZOFFSETFROM:-0700
TZOFFSETTO:-0800
TZNAME:PST
DTSTART:20241103T090000
END:STANDARD
BEGIN:DAYLIGHT
TZOFFSETFROM:-0800
TZOFFSETTO:-0700
TZNAME:PDT
DTSTART:20250309T100000
END:DAYLIGHT
BEGIN:STANDARD
TZOFFSETFROM:-0700
TZOFFSETTO:-0800
TZNAME:PST
DTSTART:20251102T090000
END:STANDARD
BEGIN:DAYLIGHT
TZOFFSETFROM:-0800
TZOFFSETTO:-0700
TZNAME:PDT
DTSTART:20260308T100000
END:DAYLIGHT
BEGIN:STANDARD
TZOFFSETFROM:-0700
TZOFFSETTO:-0800
TZNAME:PST
DTSTART:20261101T090000
END:STANDARD
END:VTIMEZONE
BEGIN:VEVENT
DTSTART;TZID=America/Los_Angeles:20251228T120000
DTEND;TZID=America/Los_Angeles:20251228T230000
DTSTAMP:20260421T053111
CREATED:20251217T223540Z
LAST-MODIFIED:20251217T223540Z
UID:79815-1766923200-1766962800@www.nvartscouncil.org
SUMMARY:Altruistic Nostalgia
DESCRIPTION:Join us for Altruistic Nostalgia: How the past we hold onto shapes the future we create – Art by Shelby McAuliffe. \nThis show is an immersive\, site-responsive installation that critically examines nostalgia as both a tool of empowerment and a mechanism of control in contemporary society. This work positions nostalgia not as passive longing but as an active choice. \n~ \nThe reception is on Dec. 18\, 2025\, from 5-8 p.m. and will feature light refreshments\, as well as words from the artist. The show runs from Dec. 4-28\, 2025 \nThank you to the Nevada Arts Council and the National Endowment for the Arts for supporting the project.
URL:https://www.nvartscouncil.org/event/altruistic-nostalgia/2025-12-28/
LOCATION:The Potentialist Workshop\, 836 E 2nd St\, Reno\, NV\, 89502
CATEGORIES:Exhibit,Reception
ORGANIZER;CN="Potentialist Workshop":MAILTO:PotentialistReno@Gmail.com
END:VEVENT
BEGIN:VEVENT
DTSTART;TZID=America/Los_Angeles:20250627T180000
DTEND;TZID=America/Los_Angeles:20250627T200000
DTSTAMP:20260421T053111
CREATED:20250530T170504Z
LAST-MODIFIED:20250530T170710Z
UID:64004-1751047200-1751054400@www.nvartscouncil.org
SUMMARY:Dinner and An Art Heist with Pan Pantoja
DESCRIPTION:Join us for an epic night of art and food featuring a delicious dinner and a fantastic heist. \nEnjoy appetizers\, dinner\, drinks and dessert featuring sweet chili ginger shrimp kabobs\, corn beef spring rolls (veggie option available)\, gumbo\, and a chocolate mousse graham cracker toasted marshmallow parfait. \nAfter dinner the art heist will begin! Are you quick enough to snag your favorite Pan Pantoja work off the gallery walls? Who else is vying for your art of choice? Do your best to grab your art from this new Pan show! \nOnce the heist is complete the gallery will open up to the public for a fun after party with drinks and tunes and additional art theft! \nTickets include dinner and art! \nThis event is at the Savage Mystic Gallery. \nDoors at 6 p.m. \nDinner at 6:30 p.m. \nArt Heist at 7:30 p.m. \nAfter Party at 8 p.m.
URL:https://www.nvartscouncil.org/event/dinner-and-an-art-heist-with-pan-pantoja/
LOCATION:The Potentialist Workshop\, 836 E 2nd St\, Reno\, NV\, 89502
CATEGORIES:Performing,Visual
ATTACH;FMTTYPE=image/png:https://www.nvartscouncil.org/wp-content/uploads/dinnerandanartheist-Facebook-Cover-1.png
ORGANIZER;CN="Savage Mystic Gallery":MAILTO:savagemysticart@gmail.com
END:VEVENT
BEGIN:VEVENT
DTSTART;TZID=America/Los_Angeles:20240829T200000
DTEND;TZID=America/Los_Angeles:20240829T233000
DTSTAMP:20260421T053111
CREATED:20240707T023421Z
LAST-MODIFIED:20240707T023421Z
UID:49641-1724961600-1724974200@www.nvartscouncil.org
SUMMARY:Sober Sunset Art & Tea Party
DESCRIPTION:Join us for a Sunset tea party in Upside Down Land. This is an opportunity to – 1. Live out our childhood dreams of a proper tea party; 2. Work on our art projects in a wacky place; 3. Hang out with our friends late-night style\, without the pressure to drink. \nWe will have complimentary hot water\, tea\, and treats available\, but you’re welcome to bring anything you’d like as well. Please bring your own cup\, blankets and art projects. Let’s watch the sunset together. Please join us: 8 p.m. to midnight. \nThis is an all ages events\, and families are welcome. \n$5 season pass holders. $10 non-season pass holders.
URL:https://www.nvartscouncil.org/event/sober-sunset-art-tea-party/2024-08-29/
LOCATION:The Potentialist Workshop\, 836 E 2nd St\, Reno\, NV\, 89502
CATEGORIES:Family Friendly
ATTACH;FMTTYPE=image/jpeg:https://www.nvartscouncil.org/wp-content/uploads/wildflower-pressed-present-2.jpeg
END:VEVENT
BEGIN:VEVENT
DTSTART;TZID=America/Los_Angeles:20221101T120000
DTEND;TZID=America/Los_Angeles:20221101T170000
DTSTAMP:20260421T053111
CREATED:20221024T152528Z
LAST-MODIFIED:20221024T193320Z
UID:33217-1667304000-1667322000@www.nvartscouncil.org
SUMMARY:Alchemy of the Ephemeral
DESCRIPTION:A two-person show with new paintings by Joanna Drakos and Erika Mayoral. Joanna will premiere new paintings from her series\,” Alchemy of the Ephemeral\,” where she utilizes scents to inspire her abstract works on canvas. Visitors will experience the scent that inspired each painting for an immersive sensorial experience. Joanna’s project is partially funded by a grant from the Nevada Arts Council and the National Endowment for the Arts. Erika Mayoral will have a new collection of abstract paintings on view. \n\nArtist reception: November 12\, 2022\, 6:00 pm to 8:00 p.m.\n\nTimes:\nThis gallery is open by appointment only or by artist gallery hours. Artist gallery hours which will be posted on Instagram. (@joannadrakos.art)
URL:https://www.nvartscouncil.org/event/alchemy-of-the-ephemeral/2022-11-01/
LOCATION:The Potentialist Workshop\, 836 E 2nd St\, Reno\, NV\, 89502
CATEGORIES:Family Friendly,Reception,Visual
ATTACH;FMTTYPE=image/jpeg:https://www.nvartscouncil.org/wp-content/uploads/JoannaDrakos_AlchemyShowImage.jpg
END:VEVENT
END:VCALENDAR