BEGIN:VCALENDAR
VERSION:2.0
PRODID:-//Nevada Arts Council - ECPv6.15.17//NONSGML v1.0//EN
CALSCALE:GREGORIAN
METHOD:PUBLISH
X-WR-CALNAME:Nevada Arts Council
X-ORIGINAL-URL:https://www.nvartscouncil.org
X-WR-CALDESC:Events for Nevada Arts Council
REFRESH-INTERVAL;VALUE=DURATION:PT1H
X-Robots-Tag:noindex
X-PUBLISHED-TTL:PT1H
BEGIN:VTIMEZONE
TZID:America/Los_Angeles
BEGIN:DAYLIGHT
TZOFFSETFROM:-0800
TZOFFSETTO:-0700
TZNAME:PDT
DTSTART:20230312T100000
END:DAYLIGHT
BEGIN:STANDARD
TZOFFSETFROM:-0700
TZOFFSETTO:-0800
TZNAME:PST
DTSTART:20231105T090000
END:STANDARD
BEGIN:DAYLIGHT
TZOFFSETFROM:-0800
TZOFFSETTO:-0700
TZNAME:PDT
DTSTART:20240310T100000
END:DAYLIGHT
BEGIN:STANDARD
TZOFFSETFROM:-0700
TZOFFSETTO:-0800
TZNAME:PST
DTSTART:20241103T090000
END:STANDARD
BEGIN:DAYLIGHT
TZOFFSETFROM:-0800
TZOFFSETTO:-0700
TZNAME:PDT
DTSTART:20250309T100000
END:DAYLIGHT
BEGIN:STANDARD
TZOFFSETFROM:-0700
TZOFFSETTO:-0800
TZNAME:PST
DTSTART:20251102T090000
END:STANDARD
END:VTIMEZONE
BEGIN:VEVENT
DTSTART;TZID=America/Los_Angeles:20240413T180000
DTEND;TZID=America/Los_Angeles:20240413T190000
DTSTAMP:20260421T144932
CREATED:20240403T223356Z
LAST-MODIFIED:20240403T223356Z
UID:46415-1713031200-1713034800@www.nvartscouncil.org
SUMMARY:Free Ensemble Performance
DESCRIPTION:UNR’s Free Ensemble is an ensemble where all music is made spontaneously. Nothing is planned out ahead of time. We will be performing a selection of pieces ranging from audience suggestions\, to performing to videos without audio\, to still photos.
URL:https://www.nvartscouncil.org/event/free-ensemble-performance/
LOCATION:University Foundation Arts Building\, Room 112\, 1664 N Virginia St\, Reno\, NV\, 89557\, United States
CATEGORIES:Performing
ATTACH;FMTTYPE=image/jpeg:https://www.nvartscouncil.org/wp-content/uploads/200px_Music-Thumbnail-Purple2024540111544426-1.jpg
ORGANIZER;CN="University of Nevada%2C Reno%2C School of the Arts":MAILTO:arts@unr.edu
END:VEVENT
END:VCALENDAR